Workbook
Name Aussaatkosten1: 'Dateneingabe+Auswertung'!$AA$25:$AE$25
Name Aussaatkosten2: 'Dateneingabe+Auswertung'!$AA$26:$AE$26
Name Aussaatkosten3: 'Dateneingabe+Auswertung'!$AA$27:$AE$27
Name Aussaatkosten4: 'Dateneingabe+Auswertung'!$AA$28:$AE$28
Name Aussaatkosten5: 'Dateneingabe+Auswertung'!$AA$29:$AE$29
Name Saatgut1: 'Dateneingabe+Auswertung'!$S$25:$W$25
Name Saatgut2: 'Dateneingabe+Auswertung'!$S$26:$W$26
Name Saatgut3: 'Dateneingabe+Auswertung'!$S$27:$W$27
Name Saatgut4: 'Dateneingabe+Auswertung'!$S$28:$W$28
Name Saatgut5: 'Dateneingabe+Auswertung'!$S$29:$W$29

Sheet Hinweise
A37: Link zum Cut & Carry-Praxisleitfaden: | E37: Hier klicken
A39: Orientierung im Dokument:
A40: Auswahlfeld | D40: Eingabefeld | G40: Einzelschnitte | J40: Gesamtertrag

Sheet Dateneingabe+Auswertung
A1: C&C-Ökonom- Dateneingabe und Auswertung
A3: (Nettobeträge) | B3: Eingabeoptionen:
A4: = Auswahlfelder | B4: Gesamtertrag | G4: A - Dateneingabe | R4: 1 | S4: 2 | T4: 3 | U4: 4 | V4: 5
A5: = Eingabefelder | B5: oder | E5: Kleegras-Schnitte
B6: Einzelschnitte | E6: 1. Schnitt | F6: 2. Schnitt | G6: 3. Schnitt | H6: 4. Schnitt | I6: 5. Schnitt | K6: Gesamtertrag
E7: Auswahl der Verfahren
A8: Leistungen aus Biomassenutzung | E8: C&C Feldhäcksler | F8: C&C Ladewagen | G8: C&C Ladewagen | R8: 1. Schnitt | S8: 1. Schnitt | T8: 2. Schnitt | U8: 1. Schnitt | V8: 2. Schnitt | W8: 3. Schnitt | X8: 1. Schnitt | Y8: 2. Schnitt | Z8: 3. Schnitt | AA8: 4. Schnitt | AB8: 1. Schnitt | AC8: 2. Schnitt | AD8: 3. Schnitt | AE8: 4. Schnitt | AF8: 5. Schnitt
B9: Anzahl Schnitte | R9: 1 | S9: 0.6 | T9: 0.4 | U9: 0.5 | V9: 0.3 | W9: 0.2 | X9: 0.4 | Y9: 0.3 | Z9: 0.2 | AA9: 0.1 | AB9: 0.4 | AC9: 0.3 | AD9: 0.15 | AE9: 0.1 | AF9: 0.05
E10: =E16 -> 0 | F10: =F16 -> 0 | G10: =G16 -> 0 | H10: =H16 -> 0 | I10: =IF(AND($K$13>0,I$13<=0),I$16,IF(AND($K$13<=0,I$13>0),I$13,0)) -> 0
E11: =IF($C$9=1,R9,IF($C$9=2,S9,IF($C$9=3,U9,IF($C$9=4,X9,IF($C$9=5,AB9,0))))) -> 0 | F11: =IF($C$9=1,0,IF($C$9=2,T9,IF($C$9=3,V9,IF($C$9=4,Y9,IF($C$9=5,AC9,0))))) -> 0 | G11: =IF($C$9=1,0,IF($C$9=2,0,IF($C$9=3,W9,IF($C$9=4,Z9,IF($C$9=5,AD9,0))))) -> 0 | H11: =IF($C$9=1,0,IF($C$9=2,0,IF($C$9=3,0,IF($C$9=4,AA9,IF($C$9=5,AE9,0))))) -> 0 | I11: =IF($C$9=1,0,IF($C$9=2,0,IF($C$9=3,0,IF($C$9=4,0,IF($C$9=5,AF9,0))))) -> 0
E12: Standardwerte: 28 kg/N/t TM bei 18% TM
B13: Einzelertrag pro Schnitt / Gesamtertrag | C13: t FM/ha
B14: N-Gehalt | C14: kg/t TM | J14: oder
B15: TM-Gehalt | C15: % TM
B16: Zum Weiterrechnen verwendeter Ertrag | C16: t FM/ha | E16: =IF(E$13>0,E$13,$K$13*E$11) -> 0 | F16: =IF(F$13>0,F$13,$K$13*F$11) -> 0 | G16: =IF(G$13>0,G$13,$K$13*G$11) -> 0 | H16: =IF(H$13>0,H$13,$K$13*H$11) -> 0 | I16: =IF(I$13>0,I$13,$K$13*I$11) -> 0 | K16: =SUM(E16:I16) -> 0
B17: Ertragsanteile der einzelnen Schnitte | E17: =IF(E16>0,E16/SUM($E16:$I16),0) -> 0 | F17: =IF(F16>0,F16/SUM($E16:$I16),0) -> 0 | G17: =IF(G16>0,G16/SUM($E16:$I16),0) -> 0 | H17: =IF(H16>0,H16/SUM($E16:$I16),0) -> 0 | I17: =IF(I16>0,I16/SUM($E16:$I16),0) -> 0 | K17: =SUM(E17:I17) -> 0
E18: =IF(ISNUMBER($K$14),$K$14,$R$20) -> 28 | F18: =IF(ISNUMBER($K$14),$K$14,$R$20) -> 28 | G18: =IF(ISNUMBER($K$14),$K$14,$R$20) -> 28 | H18: =IF(ISNUMBER($K$14),$K$14,$R$20) -> 28 | I18: =IF(ISNUMBER($K$14),$K$14,$R$20) -> 28
E19: =IF(ISNUMBER($K$15),$K$15,$R$21) -> 0.18 | F19: =IF(ISNUMBER($K$15),$K$15,$R$21) -> 0.18 | G19: =IF(ISNUMBER($K$15),$K$15,$R$21) -> 0.18 | H19: =IF(ISNUMBER($K$15),$K$15,$R$21) -> 0.18 | I19: =IF(ISNUMBER($K$15),$K$15,$R$21) -> 0.18 | R19: Standardwerte
C20: N-Gesamtertrag | E20: =E16*E18*E19 -> 0 | F20: =F16*F18*F19 -> 0 | G20: =G16*G18*G19 -> 0 | H20: =H16*H18*H19 -> 0 | I20: =I16*I18*I19 -> 0 | R20: 28 | S20: kg N/t TM
C21: N-Einzelschnitt | E21: =E13*IF(ISNUMBER(E$14),E$14,IF(ISNUMBER($K$14),$K$14,$R$20))*IF(ISNUMBER(E$15),E$15,IF(ISNUMBER($K$15),$K$15,$R$21)) -> 0 | F21: =F13*IF(ISNUMBER(F$14),F$14,IF(ISNUMBER($K$14),$K$14,$R$20))*IF(ISNUMBER(F$15),F$15,IF(ISNUMBER($K$15),$K$15,$R$21)) -> 0 | G21: =G13*IF(ISNUMBER(G$14),G$14,IF(ISNUMBER($K$14),$K$14,$R$20))*IF(ISNUMBER(G$15),G$15,IF(ISNUMBER($K$15),$K$15,$R$21)) -> 0 | H21: =H13*IF(ISNUMBER(H$14),H$14,IF(ISNUMBER($K$14),$K$14,$R$20))*IF(ISNUMBER(H$15),H$15,IF(ISNUMBER($K$15),$K$15,$R$21)) -> 0 | I21: =I13*IF(ISNUMBER(I$14),I$14,IF(ISNUMBER($K$14),$K$14,$R$20))*IF(ISNUMBER(I$15),I$15,IF(ISNUMBER($K$15),$K$15,$R$21)) -> 0 | R21: 0.18 | S21: TM
B22: N-Lieferung (Schnitte) | C22: kg/ha | E22: =IF(AND($K$13>0,E$13<=0),E$20,IF(AND(E$13>0),E$21,0)) -> 0 | F22: =IF(AND($K$13>0,F$13<=0),F$20,IF(AND(F$13>0),F$21,0)) -> 0 | G22: =IF(AND($K$13>0,G$13<=0),G$20,IF(AND(G$13>0),G$21,0)) -> 0 | H22: =IF(AND($K$13>0,H$13<=0),H$20,IF(AND(H$13>0),H$21,0)) -> 0 | I22: =IF(AND($K$13>0,I$13<=0),I$20,IF(AND($K$13<=0,I$13>0),I$21,0)) -> 0 | K22: =SUM(E22:I22) -> 0
R23: Saatgut | Z23: Aussaatkosten
A24: Direktkosten | S24: 1 | T24: 2 | U24: 3 | V24: 4 | W24: 5 | X24: Su. | AA24: 1 | AB24: 2 | AC24: 3 | AD24: 4 | AE24: 5 | AF24: Su.
A25: Saatgut | B25: kg/ha | E25: {=IF($C$9=1,Saatgut1,IF($C$9=2,Saatgut2,IF($C$9=3,Saatgut3,IF($C$9=4,Saatgut4,IF($C$9=5,Saatgut5,"")))))} | K25: =SUM(_xlfn.ANCHORARRAY(E25)) -> 0 | S25: =C25*C26 -> 0 | X25: =SUM(S25:W25) -> 0 | AA25: =Optionen!D12 -> 194.5 | AF25: =SUM(AA25:AE25) -> 194.5
B26: €/kg | S26: =S25/T24 -> 0 | T26: =S25/T24 -> 0 | X26: =SUM(S26:W26) -> 0 | AA26: =AA25/AB24 -> 97.25 | AB26: =AA25/AB24 -> 97.25 | AF26: =SUM(AA26:AE26) -> 194.5
A27: Düngung Kleegras | S27: =S25/U24 -> 0 | T27: =S25/U24 -> 0 | U27: =S25/U24 -> 0 | X27: =SUM(S27:W27) -> 0 | AA27: =AA25/AC24 -> 64.833333 | AB27: =AA25/AC24 -> 64.833333 | AC27: =AA25/AC24 -> 64.833333 | AF27: =SUM(AA27:AE27) -> 194.5
A28: Organische Düngung | B28: t/ha | S28: =S25/V24 -> 0 | T28: =S25/V24 -> 0 | U28: =S25/V24 -> 0 | V28: =S25/V24 -> 0 | X28: =SUM(S28:W28) -> 0 | AA28: =AA25/AD24 -> 48.625 | AB28: =AA25/AD24 -> 48.625 | AC28: =AA25/AD24 -> 48.625 | AD28: =AA25/AD24 -> 48.625 | AF28: =SUM(AA28:AE28) -> 194.5
B29: €/t | S29: =S25/W24 -> 0 | T29: =S25/W24 -> 0 | U29: =S25/W24 -> 0 | V29: =S25/W24 -> 0 | W29: =S25/W24 -> 0 | X29: =SUM(S29:W29) -> 0 | AA29: =AA25/AE24 -> 38.9 | AB29: =AA25/AE24 -> 38.9 | AC29: =AA25/AE24 -> 38.9 | AD29: =AA25/AE24 -> 38.9 | AE29: =AA25/AE24 -> 38.9 | AF29: =SUM(AA29:AE29) -> 194.5
A31: K-Mg-Düngung | B31: dt/ha
B32: €/dt
A34: S-Düngung | B34: kg/ha
B35: €/kg
C36: Summe Direktkosten | E36: =IF($C$9>0,E25+E28*E29+E31*E32+E34*E35,0) -> 0 | F36: =IF($C$9>0,F25+F28*F29+F31*F32+F34*F35,0) -> 0 | G36: =IF($C$9>0,G25+G28*G29+G31*G32+G34*G35,0) -> 0 | H36: =IF($C$9>0,H25+H28*H29+H31*H32+H34*H35,0) -> 0 | I36: =IF($C$9>0,I25+I28*I29+I31*I32+I34*I35,0) -> 0 | K36: =SUM(E36:I36) -> 0
C37: Aussaatkosten (Drillsaat) | E37: {=IF($C$9=1,Aussaatkosten1,IF($C$9=2,Aussaatkosten2,IF($C$9=3,Aussaatkosten3,IF($C$9=4,Aussaatkosten4,IF($C$9=5,Aussaatkosten5,"")))))} | K37: =IF(C9>0,Optionen!D12,0) -> 0
C38: ausgeblendete Zeile (Ausbringkosten org. Dünger) | E38: =IF(E28>0,E28*Optionen!$D$15,0) -> 0 | F38: =IF(F28>0,F28*Optionen!$D$15,0) -> 0 | G38: =IF(G28>0,G28*Optionen!$D$15,0) -> 0 | H38: =IF(H28>0,H28*Optionen!$D$15,0) -> 0 | I38: =IF(I28>0,I28*Optionen!$D$15,0) -> 0
C39: ausgeblendete Zeile (Ausbringkosten K+Mg-Dünger) | E39: =IF(E31>0,Optionen!$D$14,0) -> 0 | F39: =IF(F31>0,Optionen!$D$14,0) -> 0 | G39: =IF(G31>0,Optionen!$D$14,0) -> 0 | H39: =IF(H31>0,Optionen!$D$14,0) -> 0 | I39: =IF(I31>0,Optionen!$D$14,0) -> 0
C40: ausgeblendete Zeile (Ausbringkosten S-Dünger) | E40: =IF(E34>0,Optionen!$D$14,0) -> 0 | F40: =IF(F34>0,Optionen!$D$14,0) -> 0 | G40: =IF(G34>0,Optionen!$D$14,0) -> 0 | H40: =IF(H34>0,Optionen!$D$14,0) -> 0 | I40: =IF(I34>0,Optionen!$D$14,0) -> 0
C41: Düngungskosten | E41: =IF($C$9>0,SUM(E38:E40),0) -> 0 | F41: =IF($C$9>0,SUM(F38:F40),0) -> 0 | G41: =IF($C$9>0,SUM(G38:G40),0) -> 0 | H41: =IF($C$9>0,SUM(H38:H40),0) -> 0 | I41: =IF($C$9>0,SUM(I38:I40),0) -> 0 | K41: =SUM(E41:I41) -> 0
A43: Feldentfernungen (einfache Strecke) | G43: Ballengewicht
A44: Geber-Nehmerfeld C&C | B44: km | F44: Silo-Quaderballen | H44: kg
A45: Feld-Lagerplatz Ballen/Silage | B45: km | F45: Silo-Rundballen | H45: kg
E47: Rücknahmemenge (pro ha Geberfläche, über alle betreffenden Schnitte)
A48: F-M-Kooperation | B48: km | F48: Stallmist in t * | H48: 1 | I48: der N-Menge im Aufwuchs
A49: Biogasanlage | B49: km | F49: Gärrest in m³ * | H49: 1 | I49: als Dünger zurückerhalten
F50: (* Eingabe notwendig, sonst keine Berechnung der Ausbringkosten)
A52: Ökonomie KG-Cut & Carry - Dateneingabe und Auswertung
B54: Nettobeträge! | G54: B - Auswertung
E55: =E8 -> C&C Feldhäcksler | F55: =F8 -> C&C Ladewagen | G55: =G8 -> C&C Ladewagen | H55: =H8 -> 0 | I55: =I8 -> 0
E57: Kleegras-Schnitte
A58: Arbeitserledigungskosten Biomassewerbung/-bergung | E58: 1. Schnitt | F58: 2. Schnitt | G58: 3. Schnitt | H58: 4. Schnitt | I58: 5. Schnitt | K58: Summe
C59: Mulchkosten | E59: =IF(AND(E8=Optionen!$E$5,$E$10>0),Optionen!$E$16,0) -> 0 | F59: =IF(AND(F8=Optionen!$E$5,$F$10>0),Optionen!$E$16,0) -> 0 | G59: =IF(AND(G8=Optionen!$E$5,$G$10>0),Optionen!$E$16,0) -> 0 | H59: =IF(AND(H8=Optionen!$E$5,$H$10>0),Optionen!$E$16,0) -> 0 | I59: =IF(AND(I8=Optionen!$E$5,$I$10>0),Optionen!$E$16,0) -> 0 | K59: =SUM(E59:I59) -> 0
C60: Kreiselmäher mit Aufbereiter | E60: =IF(AND(E8=Optionen!$E$5,$E$10>0),Optionen!$E$19,IF(AND(E8=Optionen!$F$5,$E$10>0),Optionen!$F$19,IF(AND(E8=Optionen!$G$5,$E$10>0),Optionen!$G$19,IF(AND(E8=Optionen!$H$5,$E$10>0),Optionen!$H$19,IF(AND(E8=Optionen!$I$5,$E$10>0),Optionen!$I$19,IF(AND(E8=Optionen!$J$5,$E$10>0),Optionen!$J$19,IF(AND(E8=Optionen!$K$5,$E$10>0),Optionen!$K$19,IF(AND(E8=Optionen!$L$5,$E$10>0),Optionen!$L$19,IF(AND(E8=Optionen!$M$5,$E$10>0),Optionen!$M$19,0))))))))) -> 0 | F60: =IF(AND(F8=Optionen!$E$5,F10>0),Optionen!$E$19,IF(AND(F8=Optionen!$F$5,F10>0),Optionen!$F$19,IF(AND(F8=Optionen!$G$5,F10>0),Optionen!$G$19,IF(AND(F8=Optionen!$H$5,F10>0),Optionen!$H$19,IF(AND(F8=Optionen!$I$5,F10>0),Optionen!$I$19,IF(AND(F8=Optionen!$J$5,F10>0),Optionen!$J$19,IF(AND(F8=Optionen!$K$5,F10>0),Optionen!$K$19,IF(AND(F8=Optionen!$L$5,F10>0),Optionen!$L$19,IF(AND(F8=Optionen!$M$5,F10>0),Optionen!$M$19,0))))))))) -> 0 | G60: =IF(AND(G8=Optionen!$E$5,G10>0),Optionen!$E$19,IF(AND(G8=Optionen!$F$5,G10>0),Optionen!$F$19,IF(AND(G8=Optionen!$G$5,G10>0),Optionen!$G$19,IF(AND(G8=Optionen!$H$5,G10>0),Optionen!$H$19,IF(AND(G8=Optionen!$I$5,G10>0),Optionen!$I$19,IF(AND(G8=Optionen!$J$5,G10>0),Optionen!$J$19,IF(AND(G8=Optionen!$K$5,G10>0),Optionen!$K$19,IF(AND(G8=Optionen!$L$5,G10>0),Optionen!$L$19,IF(AND(G8=Optionen!$M$5,G10>0),Optionen!$M$19,0))))))))) -> 0 | H60: =IF(AND(H8=Optionen!$E$5,H10>0),Optionen!$E$19,IF(AND(H8=Optionen!$F$5,H10>0),Optionen!$F$19,IF(AND(H8=Optionen!$G$5,H10>0),Optionen!$G$19,IF(AND(H8=Optionen!$H$5,H10>0),Optionen!$H$19,IF(AND(H8=Optionen!$I$5,H10>0),Optionen!$I$19,IF(AND(H8=Optionen!$J$5,H10>0),Optionen!$J$19,IF(AND(H8=Optionen!$K$5,H10>0),Optionen!$K$19,IF(AND(H8=Optionen!$L$5,H10>0),Optionen!$L$19,IF(AND(H8=Optionen!$M$5,H10>0),Optionen!$M$19,0))))))))) -> 0 | I60: =IF(AND(I8=Optionen!$E$5,I10>0),Optionen!$E$19,IF(AND(I8=Optionen!$F$5,I10>0),Optionen!$F$19,IF(AND(I8=Optionen!$G$5,I10>0),Optionen!$G$19,IF(AND(I8=Optionen!$H$5,I10>0),Optionen!$H$19,IF(AND(I8=Optionen!$I$5,I10>0),Optionen!$I$19,IF(AND(I8=Optionen!$J$5,I10>0),Optionen!$J$19,IF(AND(I8=Optionen!$K$5,I10>0),Optionen!$K$19,IF(AND(I8=Optionen!$L$5,I10>0),Optionen!$L$19,IF(AND(I8=Optionen!$M$5,I10>0),Optionen!$M$19,0))))))))) -> 0 | K60: =SUM(E60:I60) -> 0
C61: Kreiselschwader | E61: =IF(AND(E8=Optionen!$E$5,$E$10>0),Optionen!$E$20,IF(AND(E8=Optionen!$F$5,$E$10>0),Optionen!$F$20,IF(AND(E8=Optionen!$G$5,$E$10>0),Optionen!$G$20,IF(AND(E8=Optionen!$H$5,$E$10>0),Optionen!$H$20,IF(AND(E8=Optionen!$I$5,$E$10>0),Optionen!$I$20,IF(AND(E9=Optionen!$J$5,$E$10>0),Optionen!$J$20,IF(AND(E9=Optionen!$K$5,$E$10>0),Optionen!$K$20,IF(AND(E9=Optionen!$L$5,$E$10>0),Optionen!$L$20,IF(AND(E9=Optionen!$M$5,$E$10>0),Optionen!$M$20,0))))))))) -> 0 | F61: =IF(AND(F8=Optionen!$E$5,F$10>0),Optionen!$E$20,IF(AND(F8=Optionen!$F$5,F$10>0),Optionen!$F$20,IF(AND(F8=Optionen!$G$5,F$10>0),Optionen!$G$20,IF(AND(F8=Optionen!$H$5,F$10>0),Optionen!$H$20,IF(AND(F8=Optionen!$I$5,F$10>0),Optionen!$I$20,IF(AND(F9=Optionen!$J$5,F$10>0),Optionen!$J$20,IF(AND(F9=Optionen!$K$5,F$10>0),Optionen!$K$20,IF(AND(F9=Optionen!$L$5,F$10>0),Optionen!$L$20,IF(AND(F9=Optionen!$M$5,F$10>0),Optionen!$M$20,0))))))))) -> 0 | G61: =IF(AND(G8=Optionen!$E$5,G$10>0),Optionen!$E$20,IF(AND(G8=Optionen!$F$5,G$10>0),Optionen!$F$20,IF(AND(G8=Optionen!$G$5,G$10>0),Optionen!$G$20,IF(AND(G8=Optionen!$H$5,G$10>0),Optionen!$H$20,IF(AND(G8=Optionen!$I$5,G$10>0),Optionen!$I$20,IF(AND(G8=Optionen!$J$5,G$10>0),Optionen!$J$20,IF(AND(G8=Optionen!$K$5,G$10>0),Optionen!$K$20,IF(AND(G8=Optionen!$L$5,G$10>0),Optionen!$L$20,IF(AND(G8=Optionen!$M$5,G$10>0),Optionen!$M$20,0))))))))) -> 0 | H61: =IF(AND(H8=Optionen!$E$5,H$10>0),Optionen!$E$20,IF(AND(H8=Optionen!$F$5,H$10>0),Optionen!$F$20,IF(AND(H8=Optionen!$G$5,H$10>0),Optionen!$G$20,IF(AND(H8=Optionen!$H$5,H$10>0),Optionen!$H$20,IF(AND(H8=Optionen!$I$5,H$10>0),Optionen!$I$20,IF(AND(H8=Optionen!$J$5,H$10>0),Optionen!$J$20,IF(AND(H8=Optionen!$K$5,H$10>0),Optionen!$K$20,IF(AND(H8=Optionen!$L$5,H$10>0),Optionen!$L$20,IF(AND(H8=Optionen!$M$5,H$10>0),Optionen!$M$20,0))))))))) -> 0 | I61: =IF(AND(I8=Optionen!$E$5,I$10>0),Optionen!$E$20,IF(AND(I8=Optionen!$F$5,I$10>0),Optionen!$F$20,IF(AND(I8=Optionen!$G$5,I$10>0),Optionen!$G$20,IF(AND(I8=Optionen!$H$5,I$10>0),Optionen!$H$20,IF(AND(I8=Optionen!$I$5,I$10>0),Optionen!$I$20,IF(AND(I8=Optionen!$J$5,I$10>0),Optionen!$J$20,IF(AND(I8=Optionen!$K$5,I$10>0),Optionen!$K$20,IF(AND(I8=Optionen!$L$5,I$10>0),Optionen!$L$20,IF(AND(I8=Optionen!$M$5,I$10>0),Optionen!$M$20,0))))))))) -> 0 | K61: =SUM(E61:I61) -> 0
C62: Erntekosten | E62: =IF(AND(E8=Optionen!$E$5,$E$10>0),Optionen!$E$29,IF(AND(E8=Optionen!$F$5,$E$10>0),Optionen!$F$29,IF(AND(E8=Optionen!$G$5,$E$10>0),Optionen!$G$29,IF(AND(E8=Optionen!$H$5,$E$10>0),Optionen!$H$29,IF(AND(E8=Optionen!$I$5,$E$10>0),Optionen!$I$29,IF(AND(E8=Optionen!$J$5,$E$10>0),Optionen!$J$29,IF(AND(E8=Optionen!$K$5,$E$10>0),Optionen!$K$29,IF(AND(E8=Optionen!$L$5,$E$10>0),Optionen!$L$29,IF(AND(E8=Optionen!$M$5,$E$10>0),Optionen!$M$29,0))))))))) -> 0 | F62: =IF(AND(F8=Optionen!$E$5,$F$10>0),Optionen!$E$30,IF(AND(F8=Optionen!$F$5,$F$10>0),Optionen!$F$30,IF(AND(F8=Optionen!$G$5,$F$10>0),Optionen!$G$30,IF(AND(F8=Optionen!$H$5,$F$10>0),Optionen!$H$30,IF(AND(F8=Optionen!$I$5,$F$10>0),Optionen!$I$30,IF(AND(F8=Optionen!$J$5,$F$10>0),Optionen!$J$30,IF(AND(F8=Optionen!$K$5,$F$10>0),Optionen!$K$30,IF(AND(F8=Optionen!$L$5,$F$10>0),Optionen!$L$30,IF(AND(F8=Optionen!$M$5,$F$10>0),Optionen!$M$30,0))))))))) -> 0 | G62: =IF(AND(G8=Optionen!$E$5,$G$10>0),Optionen!$E$31,IF(AND(G8=Optionen!$F$5,$G$10>0),Optionen!$F$31,IF(AND(G8=Optionen!$G$5,$G$10>0),Optionen!$G$31,IF(AND(G8=Optionen!$H$5,$G$10>0),Optionen!$H$31,IF(AND(G8=Optionen!$I$5,$G$10>0),Optionen!$I$31,IF(AND(G8=Optionen!$J$5,$G$10>0),Optionen!$J$31,IF(AND(G8=Optionen!$K$5,$G$10>0),Optionen!$K$31,IF(AND(G8=Optionen!$L$5,$G$10>0),Optionen!$L$31,IF(AND(G8=Optionen!$M$5,$G$10>0),Optionen!$M$31,0))))))))) -> 0 | H62: =IF(AND(H8=Optionen!$E$5,$H$10>0),Optionen!$E$32,IF(AND(H8=Optionen!$F$5,$H$10>0),Optionen!$F$32,IF(AND(H8=Optionen!$G$5,$H$10>0),Optionen!$G$32,IF(AND(H8=Optionen!$H$5,$H$10>0),Optionen!$H$32,IF(AND(H8=Optionen!$I$5,$H$10>0),Optionen!$I$32,IF(AND(H8=Optionen!$J$5,$H$10>0),Optionen!$J$32,IF(AND(H8=Optionen!$K$5,$H$10>0),Optionen!$K$32,IF(AND(H8=Optionen!$L$5,$H$10>0),Optionen!$L$32,IF(AND(H8=Optionen!$M$5,$H$10>0),Optionen!$M$32,0))))))))) -> 0 | I62: =IF(AND(I8=Optionen!$E$5,$I$10>0),Optionen!$E$33,IF(AND(I8=Optionen!$F$5,$I$10>0),Optionen!$F$33,IF(AND(I8=Optionen!$G$5,$I$10>0),Optionen!$G$33,IF(AND(I8=Optionen!$H$5,$I$10>0),Optionen!$H$33,IF(AND(I8=Optionen!$I$5,$I$10>0),Optionen!$I$33,IF(AND(I8=Optionen!$J$5,$I$10>0),Optionen!$J$33,IF(AND(I8=Optionen!$K$5,$I$10>0),Optionen!$K$33,IF(AND(I8=Optionen!$L$5,$I$10>0),Optionen!$L$33,IF(AND(I8=Optionen!$M$5,$I$10>0),Optionen!$M$33,0))))))))) -> 0 | K62: =SUM(E62:I62) -> 0
A63: Lagerkosten | C63: - Silageballen | E63: =IF(AND(E8=Optionen!$E$5,$E$10>0),Optionen!$E$43,IF(AND(E8=Optionen!$F$5,$E$10>0),Optionen!$F$43,IF(AND(E8=Optionen!$G$5,$E$10>0),Optionen!$G$43,IF(AND(E8=Optionen!$H$5,$E$10>0),Optionen!$H$43,IF(AND(E8=Optionen!$I$5,$E$10>0),Optionen!$I$43,IF(AND(E8=Optionen!$J$5,$E$10>0),Optionen!$J$43,IF(AND(E8=Optionen!$K$5,$E$10>0),Optionen!$K$43,IF(AND(E8=Optionen!$L$5,$E$10>0),Optionen!$L$43,IF(AND(E8=Optionen!$M$5,$E$10>0),Optionen!$M$43,0))))))))) -> 0 | F63: =IF(AND(F8=Optionen!$E$5,$F$10>0),Optionen!$E$44,IF(AND(F8=Optionen!$F$5,$F$10>0),Optionen!$F$44,IF(AND(F8=Optionen!$G$5,$F$10>0),Optionen!$G$44,IF(AND(F8=Optionen!$H$5,$F$10>0),Optionen!$H$44,IF(AND(F8=Optionen!$I$5,$F$10>0),Optionen!$I$44,IF(AND(F8=Optionen!$J$5,$F$10>0),Optionen!$J$44,IF(AND(F8=Optionen!$K$5,$F$10>0),Optionen!$K$44,IF(AND(F8=Optionen!$L$5,$F$10>0),Optionen!$L$44,IF(AND(F8=Optionen!$M$5,$F$10>0),Optionen!$M$44,0))))))))) -> 0 | G63: =IF(AND(G8=Optionen!$E$5,$G$10>0),Optionen!$E$45,IF(AND(G8=Optionen!$F$5,$G$10>0),Optionen!$F$45,IF(AND(G8=Optionen!$G$5,$G$10>0),Optionen!$G$45,IF(AND(G8=Optionen!$H$5,$G$10>0),Optionen!$H$45,IF(AND(G8=Optionen!$I$5,$G$10>0),Optionen!$I$45,IF(AND(G8=Optionen!$J$5,$G$10>0),Optionen!$J$45,IF(AND(G8=Optionen!$K$5,$G$10>0),Optionen!$K$45,IF(AND(G8=Optionen!$L$5,$G$10>0),Optionen!$L$45,IF(AND(G8=Optionen!$M$5,$G$10>0),Optionen!$M$45,0))))))))) -> 0 | H63: =IF(AND(H8=Optionen!$E$5,$H$10>0),Optionen!$E$46,IF(AND(H8=Optionen!$F$5,$H$10>0),Optionen!$F$46,IF(AND(H8=Optionen!$G$5,$H$10>0),Optionen!$G$46,IF(AND(H8=Optionen!$H$5,$H$10>0),Optionen!$H$46,IF(AND(H8=Optionen!$I$5,$H$10>0),Optionen!$I$46,IF(AND(H8=Optionen!$J$5,$H$10>0),Optionen!$J$46,IF(AND(H8=Optionen!$K$5,$H$10>0),Optionen!$K$46,IF(AND(H8=Optionen!$L$5,$H$10>0),Optionen!$L$46,IF(AND(H8=Optionen!$M$5,$H$10>0),Optionen!$M$46,0))))))))) -> 0 | I63: =IF(AND(I8=Optionen!$E$5,$I$10>0),Optionen!$E$47,IF(AND(I8=Optionen!$F$5,$I$10>0),Optionen!$F$47,IF(AND(I8=Optionen!$G$5,$I$10>0),Optionen!$G$47,IF(AND(I8=Optionen!$H$5,$I$10>0),Optionen!$H$47,IF(AND(I8=Optionen!$I$5,$I$10>0),Optionen!$I$47,IF(AND(I8=Optionen!$J$5,$I$10>0),Optionen!$J$47,IF(AND(I8=Optionen!$K$5,$I$10>0),Optionen!$K$47,IF(AND(I8=Optionen!$L$5,$I$10>0),Optionen!$L$47,IF(AND(I8=Optionen!$M$5,$I$10>0),Optionen!$M$47,0))))))))) -> 0 | K63: =SUM(E63:I63) -> 0
C64: - Siloplatte | E64: =IF(AND(E8=Optionen!$E$5,$E$10>0),Optionen!$E$35,IF(AND(E8=Optionen!$F$5,$E$10>0),Optionen!$F$35,IF(AND(E8=Optionen!$G$5,$E$10>0),Optionen!$G$35,IF(AND(E8=Optionen!$H$5,$E$10>0),Optionen!$H$35,IF(AND(E8=Optionen!$I$5,$E$10>0),Optionen!$I$35,IF(AND(E8=Optionen!$J$5,$E$10>0),Optionen!$J$35,IF(AND(E8=Optionen!$K$5,$E$10>0),Optionen!$K$35,IF(AND(E8=Optionen!$L$5,$E$10>0),Optionen!$L$35,IF(AND(E8=Optionen!$M$5,$E$10>0),Optionen!$M$35,0))))))))) -> 0 | F64: =IF(AND(F8=Optionen!$E$5,$F$10>0),Optionen!$E$36,IF(AND(F8=Optionen!$F$5,$F$10>0),Optionen!$F$36,IF(AND(F8=Optionen!$G$5,$F$10>0),Optionen!$G$36,IF(AND(F8=Optionen!$H$5,$F$10>0),Optionen!$H$36,IF(AND(F8=Optionen!$I$5,$F$10>0),Optionen!$I$36,IF(AND(F8=Optionen!$J$5,$F$10>0),Optionen!$J$36,IF(AND(F8=Optionen!$K$5,$F$10>0),Optionen!$K$36,IF(AND(F8=Optionen!$L$5,$F$10>0),Optionen!$L$36,IF(AND(F8=Optionen!$M$5,$F$10>0),Optionen!$M$36,0))))))))) -> 0 | G64: =IF(AND(G8=Optionen!$E$5,$G$10>0),Optionen!$E$37,IF(AND(G8=Optionen!$F$5,$G$10>0),Optionen!$F$37,IF(AND(G8=Optionen!$G$5,$G$10>0),Optionen!$G$37,IF(AND(G8=Optionen!$H$5,$G$10>0),Optionen!$H$37,IF(AND(G8=Optionen!$I$5,$G$10>0),Optionen!$I$37,IF(AND(G8=Optionen!$J$5,$G$10>0),Optionen!$J$37,IF(AND(G8=Optionen!$K$5,$G$10>0),Optionen!$K$37,IF(AND(G8=Optionen!$L$5,$G$10>0),Optionen!$L$37,IF(AND(G8=Optionen!$M$5,$G$10>0),Optionen!$M$37,0))))))))) -> 0 | H64: =IF(AND(H8=Optionen!$E$5,$H$10>0),Optionen!$E$38,IF(AND(H8=Optionen!$F$5,$H$10>0),Optionen!$F$38,IF(AND(H8=Optionen!$G$5,$H$10>0),Optionen!$G$38,IF(AND(H8=Optionen!$H$5,$H$10>0),Optionen!$H$38,IF(AND(H8=Optionen!$I$5,$H$10>0),Optionen!$I$38,IF(AND(H8=Optionen!$J$5,$H$10>0),Optionen!$J$38,IF(AND(H8=Optionen!$K$5,$H$10>0),Optionen!$K$38,IF(AND(H8=Optionen!$L$5,$H$10>0),Optionen!$L$38,IF(AND(H8=Optionen!$M$5,$H$10>0),Optionen!$M$38,0))))))))) -> 0 | I64: =IF(AND(I8=Optionen!$E$5,$I$10>0),Optionen!$E$39,IF(AND(I8=Optionen!$F$5,$I$10>0),Optionen!$F$39,IF(AND(I8=Optionen!$G$5,$I$10>0),Optionen!$G$39,IF(AND(I8=Optionen!$H$5,$I$10>0),Optionen!$H$39,IF(AND(I8=Optionen!$I$5,$I$10>0),Optionen!$I$39,IF(AND(I8=Optionen!$J$5,$I$10>0),Optionen!$J$39,IF(AND(I8=Optionen!$K$5,$I$10>0),Optionen!$K$39,IF(AND(I8=Optionen!$L$5,$I$10>0),Optionen!$L$39,IF(AND(I8=Optionen!$M$5,$I$10>0),Optionen!$M$39,0))))))))) -> 0 | K64: =SUM(E64:I64) -> 0
A65: Transportkosten | C65: - Silageballen | E65: =IF(AND(E8=Optionen!$E$5,$E$10>0),Optionen!$E$50,IF(AND(E8=Optionen!$F$5,$E$10>0),Optionen!$F$50,IF(AND(E8=Optionen!$G$5,$E$10>0),Optionen!$G$50,IF(AND(E8=Optionen!$H$5,$E$10>0),Optionen!$H$50,IF(AND(E8=Optionen!$I$5,$E$10>0),Optionen!$I$50,IF(AND(E8=Optionen!$J$5,$E$10>0),Optionen!$J$50,IF(AND(E8=Optionen!$K$5,$E$10>0),Optionen!$K$50,IF(AND(E8=Optionen!$L$5,$E$10>0),Optionen!$L$50,IF(AND(E8=Optionen!$M$5,$E$10>0),Optionen!$M$50,0))))))))) -> 0 | F65: =IF(AND(F8=Optionen!$E$5,$F$10>0),Optionen!$E$51,IF(AND(F8=Optionen!$F$5,$F$10>0),Optionen!$F$51,IF(AND(F8=Optionen!$G$5,$F$10>0),Optionen!$G$51,IF(AND(F8=Optionen!$H$5,$F$10>0),Optionen!$H$51,IF(AND(F8=Optionen!$I$5,$F$10>0),Optionen!$I$51,IF(AND(F8=Optionen!$J$5,$F$10>0),Optionen!$J$51,IF(AND(F8=Optionen!$K$5,$F$10>0),Optionen!$K$51,IF(AND(F8=Optionen!$L$5,$F$10>0),Optionen!$L$51,IF(AND(F8=Optionen!$M$5,$F$10>0),Optionen!$M$51,0))))))))) -> 0 | G65: =IF(AND(G8=Optionen!$E$5,$G$10>0),Optionen!$E$52,IF(AND(G8=Optionen!$F$5,$G$10>0),Optionen!$F$52,IF(AND(G8=Optionen!$G$5,$G$10>0),Optionen!$G$52,IF(AND(G8=Optionen!$H$5,$G$10>0),Optionen!$H$52,IF(AND(G8=Optionen!$I$5,$G$10>0),Optionen!$I$52,IF(AND(G8=Optionen!$J$5,$G$10>0),Optionen!$J$52,IF(AND(G8=Optionen!$K$5,$G$10>0),Optionen!$K$52,IF(AND(G8=Optionen!$L$5,$G$10>0),Optionen!$L$52,IF(AND(G8=Optionen!$M$5,$G$10>0),Optionen!$M$52,0))))))))) -> 0 | H65: =IF(AND(H8=Optionen!$E$5,$H$10>0),Optionen!$E$53,IF(AND(H8=Optionen!$F$5,$H$10>0),Optionen!$F$53,IF(AND(H8=Optionen!$G$5,$H$10>0),Optionen!$G$53,IF(AND(H8=Optionen!$H$5,$H$10>0),Optionen!$H$53,IF(AND(H8=Optionen!$I$5,$H$10>0),Optionen!$I$53,IF(AND(H8=Optionen!$J$5,$H$10>0),Optionen!$J$53,IF(AND(H8=Optionen!$K$5,$H$10>0),Optionen!$K$53,IF(AND(H8=Optionen!$L$5,$H$10>0),Optionen!$L$53,IF(AND(H8=Optionen!$M$5,$H$10>0),Optionen!$M$53,0))))))))) -> 0 | I65: =IF(AND(I8=Optionen!$E$5,$I$10>0),Optionen!$E$54,IF(AND(I8=Optionen!$F$5,$I$10>0),Optionen!$F$54,IF(AND(I8=Optionen!$G$5,$I$10>0),Optionen!$G$54,IF(AND(I8=Optionen!$H$5,$I$10>0),Optionen!$H$54,IF(AND(I8=Optionen!$I$5,$I$10>0),Optionen!$I$54,IF(AND(I8=Optionen!$J$5,$I$10>0),Optionen!$J$54,IF(AND(I8=Optionen!$K$5,$I$10>0),Optionen!$K$54,IF(AND(I8=Optionen!$L$5,$I$10>0),Optionen!$L$54,IF(AND(I8=Optionen!$M$5,$I$10>0),Optionen!$M$54,0))))))))) -> 0 | K65: =SUM(E65:I65) -> 0
C66: - F-M Kooperation | E66: =IF(AND(E8=Optionen!$E$5,$E$10>0),Optionen!$E$57,IF(AND(E8=Optionen!$F$5,$E$10>0),Optionen!$F$57,IF(AND(E8=Optionen!$G$5,$E$10>0),Optionen!$G$57,IF(AND(E8=Optionen!$H$5,$E$10>0),Optionen!$H$57,IF(AND(E8=Optionen!$I$5,$E$10>0),Optionen!$I$57,IF(AND(E8=Optionen!$J$5,$E$10>0),Optionen!$J$57,IF(AND(E8=Optionen!$K$5,$E$10>0),Optionen!$K$57,IF(AND(E8=Optionen!$L$5,$E$10>0),Optionen!$L$57,IF(AND(E8=Optionen!$M$5,$E$10>0),Optionen!$M$57,0))))))))) -> 0 | F66: =IF(AND(F8=Optionen!$E$5,$F$10>0),Optionen!$E$58,IF(AND(F8=Optionen!$F$5,$F$10>0),Optionen!$F$58,IF(AND(F8=Optionen!$G$5,$F$10>0),Optionen!$G$58,IF(AND(F8=Optionen!$H$5,$F$10>0),Optionen!$H$58,IF(AND(F8=Optionen!$I$5,$F$10>0),Optionen!$I$58,IF(AND(F8=Optionen!$J$5,$F$10>0),Optionen!$J$58,IF(AND(F8=Optionen!$K$5,$F$10>0),Optionen!$K$58,IF(AND(F8=Optionen!$L$5,$F$10>0),Optionen!$L$58,IF(AND(F8=Optionen!$M$5,$F$10>0),Optionen!$M$58,0))))))))) -> 0 | G66: =IF(AND(G8=Optionen!$E$5,$G$10>0),Optionen!$E$59,IF(AND(G8=Optionen!$F$5,$G$10>0),Optionen!$F$59,IF(AND(G8=Optionen!$G$5,$G$10>0),Optionen!$G$59,IF(AND(G8=Optionen!$H$5,$G$10>0),Optionen!$H$59,IF(AND(G8=Optionen!$I$5,$G$10>0),Optionen!$I$59,IF(AND(G8=Optionen!$J$5,$G$10>0),Optionen!$J$59,IF(AND(G8=Optionen!$K$5,$G$10>0),Optionen!$K$59,IF(AND(G8=Optionen!$L$5,$G$10>0),Optionen!$L$59,IF(AND(G8=Optionen!$M$5,$G$10>0),Optionen!$M$59,0))))))))) -> 0 | H66: =IF(AND(H8=Optionen!$E$5,$H$10>0),Optionen!$E$60,IF(AND(H8=Optionen!$F$5,$H$10>0),Optionen!$F$60,IF(AND(H8=Optionen!$G$5,$H$10>0),Optionen!$G$60,IF(AND(H8=Optionen!$H$5,$H$10>0),Optionen!$H$60,IF(AND(H8=Optionen!$I$5,$H$10>0),Optionen!$I$60,IF(AND(H8=Optionen!$J$5,$H$10>0),Optionen!$J$60,IF(AND(H8=Optionen!$K$5,$H$10>0),Optionen!$K$60,IF(AND(H8=Optionen!$L$5,$H$10>0),Optionen!$L$60,IF(AND(H8=Optionen!$M$5,$H$10>0),Optionen!$M$60,0))))))))) -> 0 | I66: =IF(AND(I8=Optionen!$E$5,$I$10>0),Optionen!$E$61,IF(AND(I8=Optionen!$F$5,$I$10>0),Optionen!$F$61,IF(AND(I8=Optionen!$G$5,$I$10>0),Optionen!$G$61,IF(AND(I8=Optionen!$H$5,$I$10>0),Optionen!$H$61,IF(AND(I8=Optionen!$I$5,$I$10>0),Optionen!$I$61,IF(AND(I8=Optionen!$J$5,$I$10>0),Optionen!$J$61,IF(AND(I8=Optionen!$K$5,$I$10>0),Optionen!$K$61,IF(AND(I8=Optionen!$L$5,$I$10>0),Optionen!$L$61,IF(AND(I8=Optionen!$M$5,$I$10>0),Optionen!$M$61,0))))))))) -> 0 | K66: =SUM(E66:I66) -> 0
C67: - Biogasanlage | E67: =IF(AND(E8=Optionen!$E$5,$E$10>0),Optionen!$E$64,IF(AND(E8=Optionen!$F$5,$E$10>0),Optionen!$F$64,IF(AND(E8=Optionen!$G$5,$E$10>0),Optionen!$G$64,IF(AND(E8=Optionen!$H$5,$E$10>0),Optionen!$H$64,IF(AND(E8=Optionen!$I$5,$E$10>0),Optionen!$I$64,IF(AND(E8=Optionen!$J$5,$E$10>0),Optionen!$J$64,IF(AND(E8=Optionen!$K$5,$E$10>0),Optionen!$K$64,IF(AND(E8=Optionen!$L$5,$E$10>0),Optionen!$L$64,IF(AND(E8=Optionen!$M$5,$E$10>0),Optionen!$M$64,0))))))))) -> 0 | F67: =IF(AND(F8=Optionen!$E$5,$F$10>0),Optionen!$E$65,IF(AND(F8=Optionen!$F$5,$F$10>0),Optionen!$F$65,IF(AND(F8=Optionen!$G$5,$F$10>0),Optionen!$G$65,IF(AND(F8=Optionen!$H$5,$F$10>0),Optionen!$H$65,IF(AND(F8=Optionen!$I$5,$F$10>0),Optionen!$I$65,IF(AND(F8=Optionen!$J$5,$F$10>0),Optionen!$J$65,IF(AND(F8=Optionen!$K$5,$F$10>0),Optionen!$K$65,IF(AND(F8=Optionen!$L$5,$F$10>0),Optionen!$L$65,IF(AND(F8=Optionen!$M$5,$F$10>0),Optionen!$M$65,0))))))))) -> 0 | G67: =IF(AND(G8=Optionen!$E$5,$G$10>0),Optionen!$E$66,IF(AND(G8=Optionen!$F$5,$G$10>0),Optionen!$F$66,IF(AND(G8=Optionen!$G$5,$G$10>0),Optionen!$G$66,IF(AND(G8=Optionen!$H$5,$G$10>0),Optionen!$H$66,IF(AND(G8=Optionen!$I$5,$G$10>0),Optionen!$I$66,IF(AND(G8=Optionen!$J$5,$G$10>0),Optionen!$J$66,IF(AND(G8=Optionen!$K$5,$G$10>0),Optionen!$K$66,IF(AND(G8=Optionen!$L$5,$G$10>0),Optionen!$L$66,IF(AND(G8=Optionen!$M$5,$G$10>0),Optionen!$M$66,0))))))))) -> 0 | H67: =IF(AND(H8=Optionen!$E$5,$H$10>0),Optionen!$E$67,IF(AND(H8=Optionen!$F$5,$H$10>0),Optionen!$F$67,IF(AND(H8=Optionen!$G$5,$H$10>0),Optionen!$G$67,IF(AND(H8=Optionen!$H$5,$H$10>0),Optionen!$H$67,IF(AND(H8=Optionen!$I$5,$H$10>0),Optionen!$I$67,IF(AND(H8=Optionen!$J$5,$H$10>0),Optionen!$J$67,IF(AND(H8=Optionen!$K$5,$H$10>0),Optionen!$K$67,IF(AND(H8=Optionen!$L$5,$H$10>0),Optionen!$L$67,IF(AND(H8=Optionen!$M$5,$H$10>0),Optionen!$M$67,0))))))))) -> 0 | I67: =IF(AND(I8=Optionen!$E$5,$I$10>0),Optionen!$E$68,IF(AND(I8=Optionen!$F$5,$I$10>0),Optionen!$F$68,IF(AND(I8=Optionen!$G$5,$I$10>0),Optionen!$G$68,IF(AND(I8=Optionen!$H$5,$I$10>0),Optionen!$H$68,IF(AND(I8=Optionen!$I$5,$I$10>0),Optionen!$I$68,IF(AND(I8=Optionen!$J$5,$I$10>0),Optionen!$J$68,IF(AND(I8=Optionen!$K$5,$I$10>0),Optionen!$K$68,IF(AND(I8=Optionen!$L$5,$I$10>0),Optionen!$L$68,IF(AND(I8=Optionen!$M$5,$I$10>0),Optionen!$M$68,0))))))))) -> 0 | K67: =SUM(E67:I67) -> 0
A68: Ausbringkosten | C68: - Stallmist | E68: =IF(AND(E8=Optionen!$E$5,$E$10>0),Optionen!$E$71,IF(AND(E8=Optionen!$F$5,$E$10>0),Optionen!$F$71,IF(AND(E8=Optionen!$G$5,$E$10>0),Optionen!$G$71,IF(AND(E8=Optionen!$H$5,$E$10>0),Optionen!$H$71,IF(AND(E8=Optionen!$I$5,$E$10>0),Optionen!$I$71,IF(AND(E8=Optionen!$J$5,$E$10>0),Optionen!$J$71,IF(AND(E8=Optionen!$K$5,$E$10>0),Optionen!$K$71,IF(AND(E8=Optionen!$L$5,$E$10>0),Optionen!$L$71,IF(AND(E8=Optionen!$M$5,$E$10>0),Optionen!$M$71,0))))))))) -> 0 | F68: =IF(AND(F8=Optionen!$E$5,$F$10>0),Optionen!$E$72,IF(AND(F8=Optionen!$F$5,$F$10>0),Optionen!$F$72,IF(AND(F8=Optionen!$G$5,$F$10>0),Optionen!$G$72,IF(AND(F8=Optionen!$H$5,$F$10>0),Optionen!$H$72,IF(AND(F8=Optionen!$I$5,$F$10>0),Optionen!$I$72,IF(AND(F8=Optionen!$J$5,$F$10>0),Optionen!$J$72,IF(AND(F8=Optionen!$K$5,$F$10>0),Optionen!$K$72,IF(AND(F8=Optionen!$L$5,$F$10>0),Optionen!$L$72,IF(AND(F8=Optionen!$M$5,$F$10>0),Optionen!$M$72,0))))))))) -> 0 | G68: =IF(AND(G8=Optionen!$E$5,$G$10>0),Optionen!$E$73,IF(AND(G8=Optionen!$F$5,$G$10>0),Optionen!$F$73,IF(AND(G8=Optionen!$G$5,$G$10>0),Optionen!$G$73,IF(AND(G8=Optionen!$H$5,$G$10>0),Optionen!$H$73,IF(AND(G8=Optionen!$I$5,$G$10>0),Optionen!$I$73,IF(AND(G8=Optionen!$J$5,$G$10>0),Optionen!$J$73,IF(AND(G8=Optionen!$K$5,$G$10>0),Optionen!$K$73,IF(AND(G8=Optionen!$L$5,$G$10>0),Optionen!$L$73,IF(AND(G8=Optionen!$M$5,$G$10>0),Optionen!$M$73,0))))))))) -> 0 | H68: =IF(AND(H8=Optionen!$E$5,$H$10>0),Optionen!$E$74,IF(AND(H8=Optionen!$F$5,$H$10>0),Optionen!$F$74,IF(AND(H8=Optionen!$G$5,$H$10>0),Optionen!$G$74,IF(AND(H8=Optionen!$H$5,$H$10>0),Optionen!$H$74,IF(AND(H8=Optionen!$I$5,$H$10>0),Optionen!$I$74,IF(AND(H8=Optionen!$J$5,$H$10>0),Optionen!$J$74,IF(AND(H8=Optionen!$K$5,$H$10>0),Optionen!$K$74,IF(AND(H8=Optionen!$L$5,$H$10>0),Optionen!$L$74,IF(AND(H8=Optionen!$M$5,$H$10>0),Optionen!$M$74,0))))))))) -> 0 | I68: =IF(AND(I8=Optionen!$E$5,$I$10>0),Optionen!$E$75,IF(AND(I8=Optionen!$F$5,$I$10>0),Optionen!$F$75,IF(AND(I8=Optionen!$G$5,$I$10>0),Optionen!$G$75,IF(AND(I8=Optionen!$H$5,$I$10>0),Optionen!$H$75,IF(AND(I8=Optionen!$I$5,$I$10>0),Optionen!$I$75,IF(AND(I8=Optionen!$J$5,$I$10>0),Optionen!$J$75,IF(AND(I8=Optionen!$K$5,$I$10>0),Optionen!$K$75,IF(AND(I8=Optionen!$L$5,$I$10>0),Optionen!$L$75,IF(AND(I8=Optionen!$M$5,$I$10>0),Optionen!$M$75,0))))))))) -> 0 | K68: =SUM(E68:I68) -> 0
C69: - Gärrest | E69: =IF(AND(E8=Optionen!$E$5,$E$10>0),Optionen!$E$78,IF(AND(E8=Optionen!$F$5,$E$10>0),Optionen!$F$78,IF(AND(E8=Optionen!$G$5,$E$10>0),Optionen!$G$78,IF(AND(E8=Optionen!$H$5,$E$10>0),Optionen!$H$78,IF(AND(E8=Optionen!$I$5,$E$10>0),Optionen!$I$78,IF(AND(E8=Optionen!$J$5,$E$10>0),Optionen!$J$78,IF(AND(E8=Optionen!$K$5,$E$10>0),Optionen!$K$78,IF(AND(E8=Optionen!$L$5,$E$10>0),Optionen!$L$78,IF(AND(E8=Optionen!$M$5,$E$10>0),Optionen!$M$78,0))))))))) -> 0 | F69: =IF(AND(F8=Optionen!$E$5,$F$10>0),Optionen!$E$79,IF(AND(F8=Optionen!$F$5,$F$10>0),Optionen!$F$79,IF(AND(F8=Optionen!$G$5,$F$10>0),Optionen!$G$79,IF(AND(F8=Optionen!$H$5,$F$10>0),Optionen!$H$79,IF(AND(F8=Optionen!$I$5,$F$10>0),Optionen!$I$79,IF(AND(F8=Optionen!$J$5,$F$10>0),Optionen!$J$79,IF(AND(F8=Optionen!$K$5,$F$10>0),Optionen!$K$79,IF(AND(F8=Optionen!$L$5,$F$10>0),Optionen!$L$79,IF(AND(F8=Optionen!$M$5,$F$10>0),Optionen!$M$79,0))))))))) -> 0 | G69: =IF(AND(G8=Optionen!$E$5,$G$10>0),Optionen!$E$80,IF(AND(G8=Optionen!$F$5,$G$10>0),Optionen!$F$80,IF(AND(G8=Optionen!$G$5,$G$10>0),Optionen!$G$80,IF(AND(G8=Optionen!$H$5,$G$10>0),Optionen!$H$80,IF(AND(G8=Optionen!$I$5,$G$10>0),Optionen!$I$80,IF(AND(G8=Optionen!$J$5,$G$10>0),Optionen!$J$80,IF(AND(G8=Optionen!$K$5,$G$10>0),Optionen!$K$80,IF(AND(G8=Optionen!$L$5,$G$10>0),Optionen!$L$80,IF(AND(G8=Optionen!$M$5,$G$10>0),Optionen!$M$80,0))))))))) -> 0 | H69: =IF(AND(H8=Optionen!$E$5,$H$10>0),Optionen!$E$81,IF(AND(H8=Optionen!$F$5,$H$10>0),Optionen!$F$81,IF(AND(H8=Optionen!$G$5,$H$10>0),Optionen!$G$81,IF(AND(H8=Optionen!$H$5,$H$10>0),Optionen!$H$81,IF(AND(H8=Optionen!$I$5,$H$10>0),Optionen!$I$81,IF(AND(H8=Optionen!$J$5,$H$10>0),Optionen!$J$81,IF(AND(H8=Optionen!$K$5,$H$10>0),Optionen!$K$81,IF(AND(H8=Optionen!$L$5,$H$10>0),Optionen!$L$81,IF(AND(H8=Optionen!$M$5,$H$10>0),Optionen!$M$81,0))))))))) -> 0 | I69: =IF(AND(I8=Optionen!$E$5,$I$10>0),Optionen!$E$82,IF(AND(I8=Optionen!$F$5,$I$10>0),Optionen!$F$82,IF(AND(I8=Optionen!$G$5,$I$10>0),Optionen!$G$82,IF(AND(I8=Optionen!$H$5,$I$10>0),Optionen!$H$82,IF(AND(I8=Optionen!$I$5,$I$10>0),Optionen!$I$82,IF(AND(I8=Optionen!$J$5,$I$10>0),Optionen!$J$82,IF(AND(I8=Optionen!$K$5,$I$10>0),Optionen!$K$82,IF(AND(I8=Optionen!$L$5,$I$10>0),Optionen!$L$82,IF(AND(I8=Optionen!$M$5,$I$10>0),Optionen!$M$82,0))))))))) -> 0 | K69: =SUM(E69:I69) -> 0
C70: - Silage | E70: =IF(AND(E8=Optionen!$E$5,$E$10>0),Optionen!$E$85,IF(AND(E8=Optionen!$F$5,$E$10>0),Optionen!$F$85,IF(AND(E8=Optionen!$G$5,$E$10>0),Optionen!$G$85,IF(AND(E8=Optionen!$H$5,$E$10>0),Optionen!$H$85,IF(AND(E8=Optionen!$I$5,$E$10>0),Optionen!$I$85,IF(AND(E8=Optionen!$J$5,$E$10>0),Optionen!$J$85,IF(AND(E8=Optionen!$K$5,$E$10>0),Optionen!$K$85,IF(AND(E8=Optionen!$L$5,$E$10>0),Optionen!$L$85,IF(AND(E8=Optionen!$M$5,$E$10>0),Optionen!$M$85,0))))))))) -> 0 | F70: =IF(AND(F8=Optionen!$E$5,$F$10>0),Optionen!$E$86,IF(AND(F8=Optionen!$F$5,$F$10>0),Optionen!$F$86,IF(AND(F8=Optionen!$G$5,$F$10>0),Optionen!$G$86,IF(AND(F8=Optionen!$H$5,$F$10>0),Optionen!$H$86,IF(AND(F8=Optionen!$I$5,$F$10>0),Optionen!$I$86,IF(AND(F8=Optionen!$J$5,$F$10>0),Optionen!$J$86,IF(AND(F8=Optionen!$K$5,$F$10>0),Optionen!$K$86,IF(AND(F8=Optionen!$L$5,$F$10>0),Optionen!$L$86,IF(AND(F8=Optionen!$M$5,$F$10>0),Optionen!$M$86,0))))))))) -> 0 | G70: =IF(AND(G8=Optionen!$E$5,$G$10>0),Optionen!$E$87,IF(AND(G8=Optionen!$F$5,$G$10>0),Optionen!$F$87,IF(AND(G8=Optionen!$G$5,$G$10>0),Optionen!$G$87,IF(AND(G8=Optionen!$H$5,$G$10>0),Optionen!$H$87,IF(AND(G8=Optionen!$I$5,$G$10>0),Optionen!$I$87,IF(AND(G8=Optionen!$J$5,$G$10>0),Optionen!$J$87,IF(AND(G8=Optionen!$K$5,$G$10>0),Optionen!$K$87,IF(AND(G8=Optionen!$L$5,$G$10>0),Optionen!$L$87,IF(AND(G8=Optionen!$M$5,$G$10>0),Optionen!$M$87,0))))))))) -> 0 | H70: =IF(AND(H8=Optionen!$E$5,$H$10>0),Optionen!$E$88,IF(AND(H8=Optionen!$F$5,$H$10>0),Optionen!$F$88,IF(AND(H8=Optionen!$G$5,$H$10>0),Optionen!$G$88,IF(AND(H8=Optionen!$H$5,$H$10>0),Optionen!$H$88,IF(AND(H8=Optionen!$I$5,$H$10>0),Optionen!$I$88,IF(AND(H8=Optionen!$J$5,$H$10>0),Optionen!$J$88,IF(AND(H8=Optionen!$K$5,$H$10>0),Optionen!$K$88,IF(AND(H8=Optionen!$L$5,$H$10>0),Optionen!$L$88,IF(AND(H8=Optionen!$M$5,$H$10>0),Optionen!$M$88,0))))))))) -> 0 | I70: =IF(AND(I8=Optionen!$E$5,$I$10>0),Optionen!$E$89,IF(AND(I8=Optionen!$F$5,$I$10>0),Optionen!$F$89,IF(AND(I8=Optionen!$G$5,$I$10>0),Optionen!$G$89,IF(AND(I8=Optionen!$H$5,$I$10>0),Optionen!$H$89,IF(AND(I8=Optionen!$I$5,$I$10>0),Optionen!$I$89,IF(AND(I8=Optionen!$J$5,$I$10>0),Optionen!$J$89,IF(AND(I8=Optionen!$K$5,$I$10>0),Optionen!$K$89,IF(AND(I8=Optionen!$L$5,$I$10>0),Optionen!$L$89,IF(AND(I8=Optionen!$M$5,$I$10>0),Optionen!$M$89,0))))))))) -> 0 | K70: =SUM(E70:I70) -> 0
C71: Summe | E71: =SUM(E59:E70) -> 0 | F71: =SUM(F59:F70) -> 0 | G71: =SUM(G59:G70) -> 0 | H71: =SUM(H59:H70) -> 0 | I71: =SUM(I59:I70) -> 0 | K71: =SUM(K59:K70) -> 0
C73: Summe Verfahrenskosten | E73: =IF($C$9>0,E36+E37+E41+E71,0) -> 0 | F73: =IF($C$9>0,F36+F37+F41+F71,0) -> 0 | G73: =IF($C$9>0,G36+G37+G41+G71,0) -> 0 | H73: =IF($C$9>0,H36+H37+H41+H71,0) -> 0 | I73: =IF($C$9>0,I36+I37+I41+I71,0) -> 0 | K73: =K36+K37+K41+K71 -> 0
C75: N-Bereitstellung | E75: =IF(E8=Optionen!$E$5,0,IF(E8=Optionen!$L$5,E22*$H$48,IF(E8=Optionen!$M$5,E22*$H$49,E22))) -> 0 | F75: =IF(F8=Optionen!$E$5,0,IF(F8=Optionen!$L$5,F22*$H$48,IF(F8=Optionen!$M$5,F22*$H$49,F22))) -> 0 | G75: =IF(G8=Optionen!$E$5,0,IF(G8=Optionen!$L$5,G22*$H$48,IF(G8=Optionen!$M$5,G22*$H$49,G22))) -> 0 | H75: =IF(H8=Optionen!$E$5,0,IF(H8=Optionen!$L$5,H22*$H$48,IF(H8=Optionen!$M$5,H22*$H$49,H22))) -> 0 | I75: =IF(I8=Optionen!$E$5,0,IF(I8=Optionen!$L$5,I22*$H$48,IF(I8=Optionen!$M$5,I22*$H$49,I22))) -> 0 | K75: =SUM(E75:I75) -> 0
C77: N-Kosten | E77: =IF(E75>0,E73/E75,0) -> 0 | F77: =IF(F75>0,F73/F75,0) -> 0 | G77: =IF(G75>0,G73/G75,0) -> 0 | H77: =IF(H75>0,H73/H75,0) -> 0 | I77: =IF(I75>0,I73/I75,0) -> 0 | K77: =IF(K75>0,K73/K75,0) -> 0

Sheet Schätztabelle N-Gehalt
A1: Tabelle zur Abschätzung des Stickstoffgehalts im Aufwuchs auf dem Geberfeld
B3: N-Gehalt (kg/t Trockenmasse) zur Orientierung
A4: Entwicklungs-stadium Leguminosen | B4: 100 % Leguminose (Rotklee, Luzerne) | C4: 100 % Gras | D4: 70 % Leg., 30 % Gras | E4: 50 % Leg., 50 % Gras | F4: 30 % Leg., 70 % Gras
A5: Volle Blüte | B5: =INDEX('E) Hilfsrechnung'!$A$2:$B$5,MATCH('Schätztabelle N-Gehalt'!A5,'E) Hilfsrechnung'!$A$2:$A$5,0),2)*10 -> 27.48 | C5: 18 | D5: =0.3*C5+0.7*B5 -> 24.636 | E5: =0.5*C5+0.5*B5 -> 22.74 | F5: =0.7*C5+0.3*B5 -> 20.844
A6: Beginn Blüte | B6: =INDEX('E) Hilfsrechnung'!$A$2:$B$5,MATCH('Schätztabelle N-Gehalt'!A6,'E) Hilfsrechnung'!$A$2:$A$5,0),2)*10 -> 29.16 | C6: 20 | D6: =0.3*C6+0.7*B6 -> 26.412 | E6: =0.5*C6+0.5*B6 -> 24.58 | F6: =0.7*C6+0.3*B6 -> 22.748
A7: Knospen | B7: =INDEX('E) Hilfsrechnung'!$A$2:$B$5,MATCH('Schätztabelle N-Gehalt'!A7,'E) Hilfsrechnung'!$A$2:$A$5,0),2)*10 -> 33.32 | C7: 20 | D7: =0.3*C7+0.7*B7 -> 29.324 | E7: =0.5*C7+0.5*B7 -> 26.66 | F7: =0.7*C7+0.3*B7 -> 23.996
A8: Vor Knospen | B8: =INDEX('E) Hilfsrechnung'!$A$2:$B$5,MATCH('Schätztabelle N-Gehalt'!A8,'E) Hilfsrechnung'!$A$2:$A$5,0),2)*10 -> 38.64 | C8: 20 | D8: =0.3*C8+0.7*B8 -> 33.048 | E8: =0.5*C8+0.5*B8 -> 29.32 | F8: =0.7*C8+0.3*B8 -> 25.592

Sheet E) Hilfsrechnung
A1: Entwicklungsstadium Leguminosen | B1: N-Gehalt (%)
A2: Vor Knospen | B2: =AVERAGE(D11,D19) -> 3.864
A3: Knospen | B3: =AVERAGE(D12,D20) -> 3.332 | K3: Liste Auswahl Ertragserhebung | O3: Geschätzter Kohlenstoffgehalt (% in TM)
A4: Beginn Blüte | B4: =AVERAGE(D13,D21) -> 2.916 | I4: Kleegras | K4: b) Sonstige Ertragsmessung | O4: 44
A5: Volle Blüte | B5: =AVERAGE(D14,D22) -> 2.748 | I5: Luzernegras | K5: c) Quadratmeterschnitte
I6: Klee | K6: d) kompr. Bestandeshöhe
A7: Gras N-Gehalt (%) | B7: 2 | I7: Luzerne
A9: DLG-Futterwerttabelle
C10: N-Gehalt (%) | D10: Mittlerer N-Gehalt alle Schnitte
A11: Luzerne 1. Schnitt | B11: Vor der Konspe | C11: 4.064 | D11: =AVERAGE(C11,C15) -> 4.096
B12: In der Knospe | C12: 3.504 | D12: =AVERAGE(C12,C16) -> 3.464
B13: Beginn der Blüte | C13: 2.992 | D13: =AVERAGE(C13,C17) -> 3.128
B14: Mitte bis Ende der Blüte | C14: 2.8 | D14: =AVERAGE(C14,C18) -> 2.936
A15: Luzerne Folgeaufwüchse | B15: Vor der Konspe | C15: 4.128
B16: In der Knospe | C16: 3.424
B17: Beginn der Blüte | C17: 3.264
B18: Mitte bis Ende der Blüte | C18: 3.072
A19: Rotklee 1. Schnitt | B19: Vor der Konspe | C19: 3.632 | D19: =AVERAGE(C19,C23) -> 3.632
B20: In der Knospe | C20: 3.088 | D20: =AVERAGE(C20,C24) -> 3.2
B21: Beginn der Blüte | C21: 2.576 | D21: =AVERAGE(C21,C25) -> 2.704
B22: Mitte bis Ende der Blüte | C22: 2.4 | D22: =AVERAGE(C22,C26) -> 2.56
A23: Rotklee Folgeaufwüchse | B23: Vor der Konspe | C23: 3.632
B24: In der Knospe | C24: 3.312
B25: Beginn der Blüte | C25: 2.832
B26: Mitte bis Ende der Blüte | C26: 2.72

Sheet Optionen
B1: Cut & Carry-Verfahren mit Kleegras
B2: Stand 2025
B3: Erfahrungssätze für überbetriebliche Maschinenarbeiten im Rheinland
E4: Optionen-Verfahren
B5: Netto | E5: Mulchen | F5: C&C Feldhäcksler | G5: C&C Ladewagen | H5: Silierung Rundballen | I5: Silierung Quaderballen | J5: Siloplatte Feldhäcksler | K5: Siloplatte Ladewagen | L5: F-M-Kooperation | M5: Biogas- anlage
B6: Fahrerlohn | C6: €/h | D6: 25
B7: Arbeitserledigungskosten (AEK)1
A8: 204 | B8: Stoppelgrubber (Arbeitstiefe ca. 10 - 15 cm) | C8: €/ha | D8: 50
A9: 206 | B9: Kurzscheibenegge 3 m (Arbeitstiefe ca. 5 cm) | C9: €/ha | D9: 40
A10: 302 | B10: Kreiselegge + Aufbaudrillmaschine (3 m) | C10: €/ha | D10: 81.5
A11: 212 | B11: Cambridge-Walze 6 m | C11: €/ha | D11: 23
B12: Summe var. Arbeitserledigungskosten | C12: €/ha | D12: =SUM(D8:D11) -> 194.5
A14: 401 | B14: Schleuderstreuer 1.500 ltr., 27m | C14: €/ha | D14: 11
A15: 404 | B15: Streuer Kompost/Champost/HTK incl. Laden | C15: €/t | D15: 5
A16: 512 | B16: Zwischenfrucht schlegeln | C16: €/ha | D16: =(57+79)/2 -> 68 | E16: =D16 -> 68
B18: Arbeitserledigungskosten Biomassewerbung/-bergung (LU/MR VK)
A19: 802 | B19: Kreiselmäher Anbau 3,2 m mit Aufbereiter | C19: €/ha | D19: 44 | F19: =D19 -> 44 | G19: =D19 -> 44 | H19: =D19 -> 44 | I19: =D19 -> 44 | J19: =D19 -> 44 | K19: =D19 -> 44 | L19: =D19 -> 44 | M19: =D19 -> 44
A20: 806 | B20: Kreiselschwader (8 - 12 m) | C20: €/ha | D20: 20 | F20: =D20 -> 20 | G20: =D20 -> 20 | H20: =D20 -> 20 | I20: =D20 -> 20 | J20: =D20 -> 20 | K20: =D20 -> 20 | L20: =D20 -> 20 | M20: =D20 -> 20
A22: 816 | B22: Rundballenpresse Silage | C22: €/Ballen | D22: =(7.4+8.3)/2 -> 7.85 | H22: =D22 -> 7.85
A23: 817 | B23: Rundballen-Wickelgerät incl. Folie | C23: €/Ballen | D23: =(7.8+9.9)/2 -> 8.85 | H23: =D23 -> 8.85
A24: 818 | B24: Quaderballenpresse Silage | C24: €/Ballen | D24: =(6.8+10)/2 -> 8.4 | I24: =D24 -> 8.4
A25: 819 | B25: Quaderballen-Wickelgerät incl. Folie | C25: €/Ballen | D25: =(8.3+9.5)/2 -> 8.9 | I25: =D25 -> 8.9
A27: 901 | B27: Dreiachs-Dreiseiten-Kipper (24 t zGG, 18 t NL) | C27: €/h | D27: 86.5
D28: Erntekosten | O28: Erntekosten
C29: Ballengewicht | F29: =Transport!C27 -> 0 | G29: =Transport!C37 -> 0 | H29: =IF('Dateneingabe+Auswertung'!$G$45>0,N35/'Dateneingabe+Auswertung'!$G$45*1000*($H$22+$H$23),N35/$C$30*1000*($H$22+$H$23)) -> 0 | I29: =IF('Dateneingabe+Auswertung'!$G$44>0,N35/'Dateneingabe+Auswertung'!$G$44*1000*($I$24+$I$25),N35/$C$31*1000*($I$24+$I$25)) -> 0 | J29: =Transport!C$48+Transport!C$49 -> 0 | K29: =Transport!C$58+Transport!C$59 -> 0 | O29: 1. Schnitt
B30: Silo-Rundballen | C30: 500 | D30: kg | F30: =Transport!D27 -> 0 | G30: =Transport!D37 -> 0 | H30: =IF('Dateneingabe+Auswertung'!$G$45>0,N36/'Dateneingabe+Auswertung'!$G$45*1000*($H$22+$H$23),N36/$C$30*1000*($H$22+$H$23)) -> 0 | I30: =IF('Dateneingabe+Auswertung'!$G$44>0,N36/'Dateneingabe+Auswertung'!$G$44*1000*($I$24+$I$25),N36/$C$31*1000*($I$24+$I$25)) -> 0 | J30: =Transport!D$48+Transport!D$49 -> 0 | K30: =Transport!D$58+Transport!D$59 -> 0 | O30: 2. Schnitt
B31: Silo-Quaderballen | C31: 750 | D31: kg | F31: =Transport!E27 -> 0 | G31: =Transport!E37 -> 0 | H31: =IF('Dateneingabe+Auswertung'!$G$45>0,N37/'Dateneingabe+Auswertung'!$G$45*1000*($H$22+$H$23),N37/$C$30*1000*($H$22+$H$23)) -> 0 | I31: =IF('Dateneingabe+Auswertung'!$G$44>0,N37/'Dateneingabe+Auswertung'!$G$44*1000*($I$24+$I$25),N37/$C$31*1000*($I$24+$I$25)) -> 0 | J31: =Transport!E$48+Transport!E$49 -> 0 | K31: =Transport!E$58+Transport!E$59 -> 0 | O31: 3. Schnitt
F32: =Transport!F27 -> 0 | G32: =Transport!F37 -> 0 | H32: =IF('Dateneingabe+Auswertung'!$G$45>0,N38/'Dateneingabe+Auswertung'!$G$45*1000*($H$22+$H$23),N38/$C$30*1000*($H$22+$H$23)) -> 0 | I32: =IF('Dateneingabe+Auswertung'!$G$44>0,N38/'Dateneingabe+Auswertung'!$G$44*1000*($I$24+$I$25),N38/$C$31*1000*($I$24+$I$25)) -> 0 | J32: =Transport!F$48+Transport!F$49 -> 0 | K32: =Transport!F$58+Transport!F$59 -> 0 | O32: 4. Schnitt
F33: =Transport!G27 -> 0 | G33: =Transport!G37 -> 0 | H33: =IF('Dateneingabe+Auswertung'!$G$45>0,N39/'Dateneingabe+Auswertung'!$G$45*1000*($H$22+$H$23),N39/$C$30*1000*($H$22+$H$23)) -> 0 | I33: =IF('Dateneingabe+Auswertung'!$G$44>0,N39/'Dateneingabe+Auswertung'!$G$44*1000*($I$24+$I$25),N39/$C$31*1000*($I$24+$I$25)) -> 0 | J33: =Transport!G$48+Transport!G$49 -> 0 | K33: =Transport!G$58+Transport!G$59 -> 0 | O33: 5. Schnitt
B34: Kosten Siloplatte | D34: Lagerkosten Siloplatte | N34: Silagemenge | O34: Lagerkosten Siloplatte
J35: =N35*1000/$C$40*$C$39 -> 0 | K35: =N35*1000/$C$40*$C$39 -> 0 | N35: =IF(AND('Dateneingabe+Auswertung'!$K$14>0,'Dateneingabe+Auswertung'!$K$15>0),'Dateneingabe+Auswertung'!E$10*'Dateneingabe+Auswertung'!$K$15,'Dateneingabe+Auswertung'!E$10*'Dateneingabe+Auswertung'!$R$21)/C41 -> 0 | O35: 1. Schnitt
B36: Herstellungskosten | C36: 65 | J36: =N36*1000/$C$40*$C$39 -> 0 | K36: =N36*1000/$C$40*$C$39 -> 0 | N36: =IF(AND('Dateneingabe+Auswertung'!$K$14>0,'Dateneingabe+Auswertung'!$K$15>0),'Dateneingabe+Auswertung'!F$10*'Dateneingabe+Auswertung'!$K$15,'Dateneingabe+Auswertung'!F$10*'Dateneingabe+Auswertung'!$R$21)/C41 -> 0 | O36: 2. Schnitt
B37: Abschreibung | C37: 20 | D37: Jahre | J37: =N37*1000/$C$40*$C$39 -> 0 | K37: =N37*1000/$C$40*$C$39 -> 0 | N37: =IF(AND('Dateneingabe+Auswertung'!$K$14>0,'Dateneingabe+Auswertung'!$K$15>0),'Dateneingabe+Auswertung'!G$10*'Dateneingabe+Auswertung'!$K$15,'Dateneingabe+Auswertung'!G$10*'Dateneingabe+Auswertung'!$R$21)/C41 -> 0 | O37: 3. Schnitt
B38: Zinssatz | C38: 0.045 | J38: =N38*1000/$C$40*$C$39 -> 0 | K38: =N38*1000/$C$40*$C$39 -> 0 | N38: =IF(AND('Dateneingabe+Auswertung'!$K$14>0,'Dateneingabe+Auswertung'!$K$15>0),'Dateneingabe+Auswertung'!H$10*'Dateneingabe+Auswertung'!$K$15,'Dateneingabe+Auswertung'!H$10*'Dateneingabe+Auswertung'!$R$21)/C41 -> 0 | O38: 4. Schnitt
B39: JAHRESKOSTEN | C39: =C36/C37+C36/2*C38 -> 4.7125 | J39: =N39*1000/$C$40*$C$39 -> 0 | K39: =N39*1000/$C$40*$C$39 -> 0 | N39: =IF(AND('Dateneingabe+Auswertung'!$K$14>0,'Dateneingabe+Auswertung'!$K$15>0),'Dateneingabe+Auswertung'!I$10*'Dateneingabe+Auswertung'!$K$15,'Dateneingabe+Auswertung'!I$10*'Dateneingabe+Auswertung'!$R$21)/C41 -> 0 | O39: 5. Schnitt
B40: Raumgewicht Grassilage 35% | C40: 600 | D40: kg/cbm
B41: TM Grassilage | C41: 0.35
D42: Lagerkosten Silageballen | N42: Lagerdauer | O42: Lagerkosten Silageballen
H43: =N35*$N$46 -> 0 | I43: =N35*$N$46 -> 0 | N43: 6 | O43: 1. Schnitt
H44: =N36*$N$46 -> 0 | I44: =N36*$N$46 -> 0 | N44: Kosten/Mon. | O44: 2. Schnitt
H45: =N37*$N$46 -> 0 | I45: =N37*$N$46 -> 0 | N45: 2 | O45: 3. Schnitt
H46: =N38*$N$46 -> 0 | I46: =N38*$N$46 -> 0 | N46: =N43*N45 -> 12 | O46: 4. Schnitt
H47: =N39*$N$46 -> 0 | I47: =N39*$N$46 -> 0 | O47: 5. Schnitt
D49: Transportkosten Silageballen | O49: Transportkosten Silageballen
H50: =(Transport!C$17+Transport!C$18) -> 0 | I50: =(Transport!C$17+Transport!C$18) -> 0 | O50: 1. Schnitt
H51: =(Transport!D$17+Transport!D$18) -> 0 | I51: =(Transport!D$17+Transport!D$18) -> 0 | O51: 2. Schnitt
H52: =(Transport!E$17+Transport!E$18) -> 0 | I52: =(Transport!E$17+Transport!E$18) -> 0 | O52: 3. Schnitt
H53: =(Transport!F$17+Transport!F$18) -> 0 | I53: =(Transport!F$17+Transport!F$18) -> 0 | O53: 4. Schnitt
H54: =(Transport!G$17+Transport!G$18) -> 0 | I54: =(Transport!G$17+Transport!G$18) -> 0 | O54: 5. Schnitt
D56: Transportkosten F-M Kooperation | O56: Transportkosten F-M Kooperation
L57: =('Dateneingabe+Auswertung'!$E$10*Transport!$B$10+'Dateneingabe+Auswertung'!$E$10*'Dateneingabe+Auswertung'!$C$48*Transport!$B$14)*$D$27 -> 0 | O57: 1. Schnitt
L58: =('Dateneingabe+Auswertung'!F$10*Transport!$B$10+'Dateneingabe+Auswertung'!F$10*'Dateneingabe+Auswertung'!$C$48*Transport!$B$14)*$D$27 -> 0 | O58: 2. Schnitt
L59: =('Dateneingabe+Auswertung'!G$10*Transport!$B$10+'Dateneingabe+Auswertung'!G$10*'Dateneingabe+Auswertung'!$C$48*Transport!$B$14)*$D$27 -> 0 | O59: 3. Schnitt
L60: =('Dateneingabe+Auswertung'!H$10*Transport!$B$10+'Dateneingabe+Auswertung'!H$10*'Dateneingabe+Auswertung'!$C$48*Transport!$B$14)*$D$27 -> 0 | O60: 4. Schnitt
L61: =('Dateneingabe+Auswertung'!I$10*Transport!$B$10+'Dateneingabe+Auswertung'!I$10*'Dateneingabe+Auswertung'!$C$48*Transport!$B$14)*$D$27 -> 0 | O61: 5. Schnitt
D63: Transportkosten Biogasanlage | O63: Transportkosten Biogasanlage
M64: =('Dateneingabe+Auswertung'!E$10*Transport!$B$10+'Dateneingabe+Auswertung'!E$10*'Dateneingabe+Auswertung'!$C$49*Transport!$B$14)*$D$27 -> 0 | O64: 1. Schnitt
M65: =('Dateneingabe+Auswertung'!F$10*Transport!$B$10+'Dateneingabe+Auswertung'!F$10*'Dateneingabe+Auswertung'!$C$49*Transport!$B$14)*$D$27 -> 0 | O65: 2. Schnitt
M66: =('Dateneingabe+Auswertung'!G$10*Transport!$B$10+'Dateneingabe+Auswertung'!G$10*'Dateneingabe+Auswertung'!$C$49*Transport!$B$14)*$D$27 -> 0 | O66: 3. Schnitt
M67: =('Dateneingabe+Auswertung'!H$10*Transport!$B$10+'Dateneingabe+Auswertung'!H$10*'Dateneingabe+Auswertung'!$C$49*Transport!$B$14)*$D$27 -> 0 | O67: 4. Schnitt
M68: =('Dateneingabe+Auswertung'!I$10*Transport!$B$10+'Dateneingabe+Auswertung'!I$10*'Dateneingabe+Auswertung'!$C$49*Transport!$B$14)*$D$27 -> 0 | O68: 5. Schnitt
D70: Ausbringungskosten Stallmist | O70: Ausbringungskosten Stallmist
L71: ='Dateneingabe+Auswertung'!$E$48*Optionen!$D$15*('Dateneingabe+Auswertung'!E$17/SUMIF('Dateneingabe+Auswertung'!$E$8:$I$8,Optionen!$L$5,'Dateneingabe+Auswertung'!$E$17:$I$17)) -> #DIV/0! | O71: 1. Schnitt
L72: ='Dateneingabe+Auswertung'!$E$48*Optionen!$D$15*('Dateneingabe+Auswertung'!F$17/SUMIF('Dateneingabe+Auswertung'!$E$8:$I$8,Optionen!$L$5,'Dateneingabe+Auswertung'!$E$17:$I$17)) -> #DIV/0! | O72: 2. Schnitt
L73: ='Dateneingabe+Auswertung'!$E$48*Optionen!$D$15*('Dateneingabe+Auswertung'!G$17/SUMIF('Dateneingabe+Auswertung'!$E$8:$I$8,Optionen!$L$5,'Dateneingabe+Auswertung'!$E$17:$I$17)) -> #DIV/0! | O73: 3. Schnitt
L74: ='Dateneingabe+Auswertung'!$E$48*Optionen!$D$15*('Dateneingabe+Auswertung'!H$17/SUMIF('Dateneingabe+Auswertung'!$E$8:$I$8,Optionen!$L$5,'Dateneingabe+Auswertung'!$E$17:$I$17)) -> #DIV/0! | O74: 4. Schnitt
L75: ='Dateneingabe+Auswertung'!E$48*Optionen!$D$15*('Dateneingabe+Auswertung'!I$17/SUMIF('Dateneingabe+Auswertung'!$E$8:$I$8,Optionen!$L$5,'Dateneingabe+Auswertung'!$E$17:$I$17)) -> #DIV/0! | O75: 5. Schnitt
D77: Ausbringungskosten Gärrest | O77: Ausbringungskosten Gärrest
M78: ='Dateneingabe+Auswertung'!$E$49*Optionen!$D$15*('Dateneingabe+Auswertung'!E$17/SUMIF('Dateneingabe+Auswertung'!$E$8:$I$8,Optionen!$M$5,'Dateneingabe+Auswertung'!$E$17:$I$17)) -> #DIV/0! | O78: 1. Schnitt
M79: ='Dateneingabe+Auswertung'!$E$49*Optionen!$D$15*('Dateneingabe+Auswertung'!F$17/SUMIF('Dateneingabe+Auswertung'!$E$8:$I$8,Optionen!$M$5,'Dateneingabe+Auswertung'!$E$17:$I$17)) -> #DIV/0! | O79: 2. Schnitt
M80: ='Dateneingabe+Auswertung'!$E$49*Optionen!$D$15*('Dateneingabe+Auswertung'!G$17/SUMIF('Dateneingabe+Auswertung'!$E$8:$I$8,Optionen!$M$5,'Dateneingabe+Auswertung'!$E$17:$I$17)) -> #DIV/0! | O80: 3. Schnitt
M81: ='Dateneingabe+Auswertung'!$E$49*Optionen!$D$15*('Dateneingabe+Auswertung'!H$17/SUMIF('Dateneingabe+Auswertung'!$E$8:$I$8,Optionen!$M$5,'Dateneingabe+Auswertung'!$E$17:$I$17)) -> #DIV/0! | O81: 4. Schnitt
M82: ='Dateneingabe+Auswertung'!$E$49*Optionen!$D$15*('Dateneingabe+Auswertung'!I$17/SUMIF('Dateneingabe+Auswertung'!$E$8:$I$8,Optionen!$M$5,'Dateneingabe+Auswertung'!$E$17:$I$17)) -> #DIV/0! | O82: 5. Schnitt
D84: Ausbringungskosten Silage | O84: Ausbringungskosten Silage
H85: =$N$35*$D$15 -> 0 | I85: =$N$35*$D$15 -> 0 | J85: =$N$35*$D$15 -> 0 | K85: =$N$35*$D$15 -> 0 | O85: 1. Schnitt
H86: =$N$36*$D$15 -> 0 | I86: =$N$36*$D$15 -> 0 | J86: =$N$36*$D$15 -> 0 | K86: =$N$36*$D$15 -> 0 | O86: 2. Schnitt
H87: =$N$37*$D$15 -> 0 | I87: =$N$37*$D$15 -> 0 | J87: =$N$37*$D$15 -> 0 | K87: =$N$37*$D$15 -> 0 | O87: 3. Schnitt
H88: =$N$38*$D$15 -> 0 | I88: =$N$38*$D$15 -> 0 | J88: =$N$38*$D$15 -> 0 | K88: =$N$38*$D$15 -> 0 | O88: 4. Schnitt
H89: =$N$39*$D$15 -> 0 | I89: =$N$39*$D$15 -> 0 | J89: =$N$39*$D$15 -> 0 | K89: =$N$39*$D$15 -> 0 | O89: 5. Schnitt
B100: Summe feste Arbeitserledigungskosten (AEK)
B101: DAKfL | C101: €/ha

Sheet Transport
A1: Transportkosten Cut & Carry
A2: Stand: 2025
A3: KTBL-Verfahren: Rotklee-Gras-Gemenge-Anwelksilage (35% TM)
A4: Schlaggröße = 5 ha
A5: Dieselpreis: | B5: 1.4
A6: Fahrerlohn: | B6: =Optionen!D6 -> 25
C7: Gesamtmenge
A8: Ballen | C8: 1. Schnitt | D8: 2. Schnitt | E8: 3. Schnitt | F8: 4. Schnitt | G8: 5. Schnitt
B9: Transport-Dienstl.
A10: Akh/t FM | B10: 0.066194969 | C10: ='Dateneingabe+Auswertung'!E$10*Transport!$B$10 -> 0 | D10: ='Dateneingabe+Auswertung'!F$10*Transport!$B$10 -> 0 | E10: ='Dateneingabe+Auswertung'!G$10*Transport!$B$10 -> 0 | F10: ='Dateneingabe+Auswertung'!H$10*Transport!$B$10 -> 0 | G10: ='Dateneingabe+Auswertung'!I$10*Transport!$B$10 -> 0
A11: Dieselverbrauch l/t FM | B11: 0.20283019 | C11: ='Dateneingabe+Auswertung'!E$10*Transport!$B$11 -> 0 | D11: ='Dateneingabe+Auswertung'!F$10*Transport!$B$11 -> 0 | E11: ='Dateneingabe+Auswertung'!G$10*Transport!$B$11 -> 0 | F11: ='Dateneingabe+Auswertung'!H$10*Transport!$B$11 -> 0 | G11: ='Dateneingabe+Auswertung'!I$10*Transport!$B$11 -> 0
A12: Gesamtdieselkosten | C12: =C11*$B$5 -> 0 | D12: =D11*$B$5 -> 0 | E12: =E11*$B$5 -> 0 | F12: =F11*$B$5 -> 0 | G12: =G11*$B$5 -> 0
A13: zusätzlich ab 1 km /t FM
A14: Akh/t FM | B14: 0.0019077568 | C14: ='Dateneingabe+Auswertung'!E$10*Transport!$B$14*'Dateneingabe+Auswertung'!$C$45 -> 0 | D14: ='Dateneingabe+Auswertung'!F$10*Transport!$B$14*'Dateneingabe+Auswertung'!$C$45 -> 0 | E14: ='Dateneingabe+Auswertung'!G$10*Transport!$B$14*'Dateneingabe+Auswertung'!$C$45 -> 0 | F14: ='Dateneingabe+Auswertung'!H$10*Transport!$B$14*'Dateneingabe+Auswertung'!$C$45 -> 0 | G14: ='Dateneingabe+Auswertung'!I$10*Transport!$B$14*'Dateneingabe+Auswertung'!$C$45 -> 0
A15: Dieselverbrauch l/t FM | B15: 0.016310273 | C15: ='Dateneingabe+Auswertung'!E$10*Transport!$B$15*'Dateneingabe+Auswertung'!$C$45 -> 0 | D15: ='Dateneingabe+Auswertung'!F$10*Transport!$B$15*'Dateneingabe+Auswertung'!$C$45 -> 0 | E15: ='Dateneingabe+Auswertung'!G$10*Transport!$B$15*'Dateneingabe+Auswertung'!$C$45 -> 0 | F15: ='Dateneingabe+Auswertung'!H$10*Transport!$B$15*'Dateneingabe+Auswertung'!$C$45 -> 0 | G15: ='Dateneingabe+Auswertung'!I$10*Transport!$B$15*'Dateneingabe+Auswertung'!$C$45 -> 0
A16: Gesamtdieselkosten | C16: =C15*$B$5 -> 0 | D16: =D15*$B$5 -> 0 | E16: =E15*$B$5 -> 0 | F16: =F15*$B$5 -> 0 | G16: =G15*$B$5 -> 0
B17: Summe Dieselkosten | C17: =C12+C16 -> 0 | D17: =D12+D16 -> 0 | E17: =E12+E16 -> 0 | F17: =F12+F16 -> 0 | G17: =G12+G16 -> 0
B18: Summe Arbeitskosten | C18: =$B$6*(C10+C14) -> 0 | D18: =$B$6*(D10+D14) -> 0 | E18: =$B$6*(E10+E14) -> 0 | F18: =$B$6*(F10+F14) -> 0 | G18: =$B$6*(G10+G14) -> 0
A19: C&C
A20: Häckseln
B21: LU-Dienstleistung
A22: Häckseln €/t FM | B22: 4.0007862 | C22: ='Dateneingabe+Auswertung'!E$10*Transport!$B$22 -> 0 | D22: ='Dateneingabe+Auswertung'!F$10*Transport!$B$22 -> 0 | E22: ='Dateneingabe+Auswertung'!G$10*Transport!$B$22 -> 0 | F22: ='Dateneingabe+Auswertung'!H$10*Transport!$B$22 -> 0 | G22: ='Dateneingabe+Auswertung'!I$10*Transport!$B$22 -> 0
A23: Transport €/t FM | B23: 1.8732704 | C23: ='Dateneingabe+Auswertung'!E$10*Transport!$B$23 -> 0 | D23: ='Dateneingabe+Auswertung'!F$10*Transport!$B$23 -> 0 | E23: ='Dateneingabe+Auswertung'!G$10*Transport!$B$23 -> 0 | F23: ='Dateneingabe+Auswertung'!H$10*Transport!$B$23 -> 0 | G23: ='Dateneingabe+Auswertung'!I$10*Transport!$B$23 -> 0
A24: zusätzlich ab 1 km /t FM
A25: Häckseln €/t FM | B25: 0.011472746 | C25: ='Dateneingabe+Auswertung'!E$10*Transport!$B$25*'Dateneingabe+Auswertung'!$C$44 -> 0 | D25: ='Dateneingabe+Auswertung'!F$10*Transport!$B$25*'Dateneingabe+Auswertung'!$C$44 -> 0 | E25: ='Dateneingabe+Auswertung'!G$10*Transport!$B$25*'Dateneingabe+Auswertung'!$C$44 -> 0 | F25: ='Dateneingabe+Auswertung'!H$10*Transport!$B$25*'Dateneingabe+Auswertung'!$C$44 -> 0 | G25: ='Dateneingabe+Auswertung'!I$10*Transport!$B$25*'Dateneingabe+Auswertung'!$C$44 -> 0
A26: Transport €/t FM | B26: 0.21357442 | C26: ='Dateneingabe+Auswertung'!E$10*Transport!$B$26*'Dateneingabe+Auswertung'!$C$44 -> 0 | D26: ='Dateneingabe+Auswertung'!F$10*Transport!$B$26*'Dateneingabe+Auswertung'!$C$44 -> 0 | E26: ='Dateneingabe+Auswertung'!G$10*Transport!$B$26*'Dateneingabe+Auswertung'!$C$44 -> 0 | F26: ='Dateneingabe+Auswertung'!H$10*Transport!$B$26*'Dateneingabe+Auswertung'!$C$44 -> 0 | G26: ='Dateneingabe+Auswertung'!I$10*Transport!$B$26*'Dateneingabe+Auswertung'!$C$44 -> 0
B27: Summe | C27: =C22+C23+C25+C26 -> 0 | D27: =D22+D23+D25+D26 -> 0 | E27: =E22+E23+E25+E26 -> 0 | F27: =F22+F23+F25+F26 -> 0 | G27: =G22+G23+G25+G26 -> 0
A28: Festfahren €/t FM | B28: 0.37711141 | C28: ='Dateneingabe+Auswertung'!E$10*Transport!$B$28 -> 0 | D28: ='Dateneingabe+Auswertung'!F$10*Transport!$B$28 -> 0 | E28: ='Dateneingabe+Auswertung'!G$10*Transport!$B$28 -> 0 | F28: ='Dateneingabe+Auswertung'!H$10*Transport!$B$28 -> 0 | G28: ='Dateneingabe+Auswertung'!I$10*Transport!$B$28 -> 0
A31: Ladewagen
B32: LU-Dienstleistung
A33: Ladewagen €/t FM | B33: 2.463522 | C33: ='Dateneingabe+Auswertung'!E$10*Transport!$B$33 -> 0 | D33: ='Dateneingabe+Auswertung'!F$10*Transport!$B$33 -> 0 | E33: ='Dateneingabe+Auswertung'!G$10*Transport!$B$33 -> 0 | F33: ='Dateneingabe+Auswertung'!H$10*Transport!$B$33 -> 0 | G33: ='Dateneingabe+Auswertung'!I$10*Transport!$B$33 -> 0
A34: Festfahren €/t FM | B34: 1.4753145 | C34: ='Dateneingabe+Auswertung'!E$10*Transport!$B$34 -> 0 | D34: ='Dateneingabe+Auswertung'!F$10*Transport!$B$34 -> 0 | E34: ='Dateneingabe+Auswertung'!G$10*Transport!$B$34 -> 0 | F34: ='Dateneingabe+Auswertung'!H$10*Transport!$B$34 -> 0 | G34: ='Dateneingabe+Auswertung'!I$10*Transport!$B$34 -> 0
A35: zusätzlich ab 1 km /t FM
A36: Ladewagen €/t FM | B36: 0.22112159 | C36: ='Dateneingabe+Auswertung'!E$10*Transport!$B$36*'Dateneingabe+Auswertung'!$C$44 -> 0 | D36: ='Dateneingabe+Auswertung'!F$10*Transport!$B$36*'Dateneingabe+Auswertung'!$C$44 -> 0 | E36: ='Dateneingabe+Auswertung'!G$10*Transport!$B$36*'Dateneingabe+Auswertung'!$C$44 -> 0 | F36: ='Dateneingabe+Auswertung'!H$10*Transport!$B$36*'Dateneingabe+Auswertung'!$C$44 -> 0 | G36: ='Dateneingabe+Auswertung'!I$10*Transport!$B$36*'Dateneingabe+Auswertung'!$C$44 -> 0
B37: Summe | C37: =C33+C34+C36 -> 0 | D37: =D33+D34+D36 -> 0 | E37: =E33+E34+E36 -> 0 | F37: =F33+F34+F36 -> 0 | G37: =G33+G34+G36 -> 0
A38: Festfahren €/t FM | B38: 0.1354979 | C38: ='Dateneingabe+Auswertung'!E$10*Transport!$B$38*'Dateneingabe+Auswertung'!$C$45 -> 0 | D38: ='Dateneingabe+Auswertung'!F$10*Transport!$B$38*'Dateneingabe+Auswertung'!$C$45 -> 0 | E38: ='Dateneingabe+Auswertung'!G$10*Transport!$B$38*'Dateneingabe+Auswertung'!$C$45 -> 0 | F38: ='Dateneingabe+Auswertung'!H$10*Transport!$B$38*'Dateneingabe+Auswertung'!$C$45 -> 0 | G38: ='Dateneingabe+Auswertung'!I$10*Transport!$B$38*'Dateneingabe+Auswertung'!$C$45 -> 0
A40: Siloplatte
A41: Häckseln
B42: LU-Dienstleistung
A43: Häckseln €/t FM | B43: 4.0007862 | C43: ='Dateneingabe+Auswertung'!E$10*Transport!$B$22 -> 0 | D43: ='Dateneingabe+Auswertung'!F$10*Transport!$B$22 -> 0 | E43: ='Dateneingabe+Auswertung'!G$10*Transport!$B$22 -> 0 | F43: ='Dateneingabe+Auswertung'!H$10*Transport!$B$22 -> 0 | G43: ='Dateneingabe+Auswertung'!I$10*Transport!$B$22 -> 0
A44: Transport €/t FM | B44: 1.8732704 | C44: ='Dateneingabe+Auswertung'!E$10*Transport!$B$23 -> 0 | D44: ='Dateneingabe+Auswertung'!F$10*Transport!$B$23 -> 0 | E44: ='Dateneingabe+Auswertung'!G$10*Transport!$B$23 -> 0 | F44: ='Dateneingabe+Auswertung'!H$10*Transport!$B$23 -> 0 | G44: ='Dateneingabe+Auswertung'!I$10*Transport!$B$23 -> 0
A45: zusätzlich ab 1 km /t FM
A46: Häckseln €/t FM | B46: 0.011472746 | C46: ='Dateneingabe+Auswertung'!E$10*Transport!$B$25*'Dateneingabe+Auswertung'!$C$45 -> 0 | D46: ='Dateneingabe+Auswertung'!F$10*Transport!$B$25*'Dateneingabe+Auswertung'!$C$45 -> 0 | E46: ='Dateneingabe+Auswertung'!G$10*Transport!$B$25*'Dateneingabe+Auswertung'!$C$45 -> 0 | F46: ='Dateneingabe+Auswertung'!H$10*Transport!$B$25*'Dateneingabe+Auswertung'!$C$45 -> 0 | G46: ='Dateneingabe+Auswertung'!I$10*Transport!$B$25*'Dateneingabe+Auswertung'!$C$45 -> 0
A47: Transport €/t FM | B47: 0.21357442 | C47: ='Dateneingabe+Auswertung'!E$10*Transport!$B$26*'Dateneingabe+Auswertung'!$C$45 -> 0 | D47: ='Dateneingabe+Auswertung'!F$10*Transport!$B$26*'Dateneingabe+Auswertung'!$C$45 -> 0 | E47: ='Dateneingabe+Auswertung'!G$10*Transport!$B$26*'Dateneingabe+Auswertung'!$C$45 -> 0 | F47: ='Dateneingabe+Auswertung'!H$10*Transport!$B$26*'Dateneingabe+Auswertung'!$C$45 -> 0 | G47: ='Dateneingabe+Auswertung'!I$10*Transport!$B$26*'Dateneingabe+Auswertung'!$C$45 -> 0
B48: Summe | C48: =C43+C44+C46+C47 -> 0 | D48: =D43+D44+D46+D47 -> 0 | E48: =E43+E44+E46+E47 -> 0 | F48: =F43+F44+F46+F47 -> 0 | G48: =G43+G44+G46+G47 -> 0
A49: Festfahren €/t FM | B49: 0.37711141 | C49: ='Dateneingabe+Auswertung'!E$10*Transport!$B$28 -> 0 | D49: ='Dateneingabe+Auswertung'!F$10*Transport!$B$28 -> 0 | E49: ='Dateneingabe+Auswertung'!G$10*Transport!$B$28 -> 0 | F49: ='Dateneingabe+Auswertung'!H$10*Transport!$B$28 -> 0 | G49: ='Dateneingabe+Auswertung'!I$10*Transport!$B$28 -> 0
A52: Ladewagen
B53: LU-Dienstleistung
A54: Ladewagen €/t FM | B54: 2.463522 | C54: ='Dateneingabe+Auswertung'!E$10*Transport!$B$33 -> 0 | D54: ='Dateneingabe+Auswertung'!F$10*Transport!$B$33 -> 0 | E54: ='Dateneingabe+Auswertung'!G$10*Transport!$B$33 -> 0 | F54: ='Dateneingabe+Auswertung'!H$10*Transport!$B$33 -> 0 | G54: ='Dateneingabe+Auswertung'!I$10*Transport!$B$33 -> 0
A55: Festfahren €/t FM | B55: 1.4753145 | C55: ='Dateneingabe+Auswertung'!E$10*Transport!$B$34 -> 0 | D55: ='Dateneingabe+Auswertung'!F$10*Transport!$B$34 -> 0 | E55: ='Dateneingabe+Auswertung'!G$10*Transport!$B$34 -> 0 | F55: ='Dateneingabe+Auswertung'!H$10*Transport!$B$34 -> 0 | G55: ='Dateneingabe+Auswertung'!I$10*Transport!$B$34 -> 0
A56: zusätzlich ab 1 km /t FM
A57: Ladewagen €/t FM | B57: 0.22112159 | C57: ='Dateneingabe+Auswertung'!E$10*Transport!$B$36*'Dateneingabe+Auswertung'!$C$45 -> 0 | D57: ='Dateneingabe+Auswertung'!F$10*Transport!$B$36*'Dateneingabe+Auswertung'!$C$45 -> 0 | E57: ='Dateneingabe+Auswertung'!G$10*Transport!$B$36*'Dateneingabe+Auswertung'!$C$45 -> 0 | F57: ='Dateneingabe+Auswertung'!H$10*Transport!$B$36*'Dateneingabe+Auswertung'!$C$45 -> 0 | G57: ='Dateneingabe+Auswertung'!I$10*Transport!$B$36*'Dateneingabe+Auswertung'!$C$45 -> 0
B58: Summe | C58: =C54+C55+C57 -> 0 | D58: =D54+D55+D57 -> 0 | E58: =E54+E55+E57 -> 0 | F58: =F54+F55+F57 -> 0 | G58: =G54+G55+G57 -> 0
A59: Festfahren €/t FM | B59: 0.1354979 | C59: ='Dateneingabe+Auswertung'!E$10*Transport!$B$38*'Dateneingabe+Auswertung'!$C$45 -> 0 | D59: ='Dateneingabe+Auswertung'!F$10*Transport!$B$38*'Dateneingabe+Auswertung'!$C$45 -> 0 | E59: ='Dateneingabe+Auswertung'!G$10*Transport!$B$38*'Dateneingabe+Auswertung'!$C$45 -> 0 | F59: ='Dateneingabe+Auswertung'!H$10*Transport!$B$38*'Dateneingabe+Auswertung'!$C$45 -> 0 | G59: ='Dateneingabe+Auswertung'!I$10*Transport!$B$38*'Dateneingabe+Auswertung'!$C$45 -> 0

Sheet Versionsverzeichnis
A1: Version | B1: Release | C1: Änderungen
A2: 1.0 | B2: März 2026
