Workbook
Name Aussaatkosten1: 'Dateneingabe+Auswertung'!$AA$25:$AE$25
Name Aussaatkosten2: 'Dateneingabe+Auswertung'!$AA$26:$AE$26
Name Aussaatkosten3: 'Dateneingabe+Auswertung'!$AA$27:$AE$27
Name Aussaatkosten4: 'Dateneingabe+Auswertung'!$AA$28:$AE$28
Name Aussaatkosten5: 'Dateneingabe+Auswertung'!$AA$29:$AE$29
Name Saatgut1: 'Dateneingabe+Auswertung'!$S$25:$W$25
Name Saatgut2: 'Dateneingabe+Auswertung'!$S$26:$W$26
Name Saatgut3: 'Dateneingabe+Auswertung'!$S$27:$W$27
Name Saatgut4: 'Dateneingabe+Auswertung'!$S$28:$W$28
Name Saatgut5: 'Dateneingabe+Auswertung'!$S$29:$W$29

Sheet Hinweise
A37: Link zum Cut & Carry-Praxisleitfaden: | E37: Hier klicken
A39: Orientierung im Dokument:
A40: Auswahlfeld | D40: Eingabefeld | G40: Einzelschnitte | J40: Gesamtertrag

Sheet Dateneingabe+Auswertung
A1: C&C-Ökonom- Dateneingabe und Auswertung
A3: (Nettobeträge) | B3: Eingabeoptionen:
A4: = Auswahlfelder | B4: Gesamtertrag | G4: A - Dateneingabe | R4: 1 | S4: 2 | T4: 3 | U4: 4 | V4: 5
A5: = Eingabefelder | B5: oder | E5: Kleegras-Schnitte
B6: Einzelschnitte | E6: 1. Schnitt | F6: 2. Schnitt | G6: 3. Schnitt | H6: 4. Schnitt | I6: 5. Schnitt | K6: Gesamtertrag
E7: Auswahl der Verfahren
A8: Leistungen aus Biomassenutzung | E8: C&C Feldhäcksler | F8: C&C Ladewagen | G8: C&C Ladewagen | R8: 1. Schnitt | S8: 1. Schnitt | T8: 2. Schnitt | U8: 1. Schnitt | V8: 2. Schnitt | W8: 3. Schnitt | X8: 1. Schnitt | Y8: 2. Schnitt | Z8: 3. Schnitt | AA8: 4. Schnitt | AB8: 1. Schnitt | AC8: 2. Schnitt | AD8: 3. Schnitt | AE8: 4. Schnitt | AF8: 5. Schnitt
B9: Anzahl Schnitte | R9: 1 | S9: 0.6 | T9: 0.4 | U9: 0.5 | V9: 0.3 | W9: 0.2 | X9: 0.4 | Y9: 0.3 | Z9: 0.2 | AA9: 0.1 | AB9: 0.4 | AC9: 0.3 | AD9: 0.15 | AE9: 0.1 | AF9: 0.05
E10: =E16 -> 0 | F10: =F16 -> 0 | G10: =G16 -> 0 | H10: =H16 -> 0 | I10: =IF(AND($K$13>0,I$13<=0),I$16,IF(AND($K$13<=0,I$13>0),I$13,0)) -> 0
E11: =IF($C$9=1,R9,IF($C$9=2,S9,IF($C$9=3,U9,IF($C$9=4,X9,IF($C$9=5,AB9,0))))) -> 0 | F11: =IF($C$9=1,0,IF($C$9=2,T9,IF($C$9=3,V9,IF($C$9=4,Y9,IF($C$9=5,AC9,0))))) -> 0 | G11: =IF($C$9=1,0,IF($C$9=2,0,IF($C$9=3,W9,IF($C$9=4,Z9,IF($C$9=5,AD9,0))))) -> 0 | H11: =IF($C$9=1,0,IF($C$9=2,0,IF($C$9=3,0,IF($C$9=4,AA9,IF($C$9=5,AE9,0))))) -> 0 | I11: =IF($C$9=1,0,IF($C$9=2,0,IF($C$9=3,0,IF($C$9=4,0,IF($C$9=5,AF9,0))))) -> 0
E12: Standardwerte: 28 kg/N/t TM bei 18% TM
B13: Einzelertrag pro Schnitt / Gesamtertrag | C13: t FM/ha
B14: N-Gehalt | C14: kg/t TM | J14: oder
B15: TM-Gehalt | C15: % TM
B16: Zum Weiterrechnen verwendeter Ertrag | C16: t FM/ha | E16: =IF(E$13>0,E$13,$K$13*E$11) -> 0 | F16: =IF(F$13>0,F$13,$K$13*F$11) -> 0 | G16: =IF(G$13>0,G$13,$K$13*G$11) -> 0 | H16: =IF(H$13>0,H$13,$K$13*H$11) -> 0 | I16: =IF(I$13>0,I$13,$K$13*I$11) -> 0 | K16: =SUM(E16:I16) -> 0
B17: Ertragsanteile der einzelnen Schnitte | E17: =IF(E16>0,E16/SUM($E16:$I16),0) -> 0 | F17: =IF(F16>0,F16/SUM($E16:$I16),0) -> 0 | G17: =IF(G16>0,G16/SUM($E16:$I16),0) -> 0 | H17: =IF(H16>0,H16/SUM($E16:$I16),0) -> 0 | I17: =IF(I16>0,I16/SUM($E16:$I16),0) -> 0 | K17: =SUM(E17:I17) -> 0
E18: =IF(ISNUMBER($K$14),$K$14,$R$20) -> 28 | F18: =IF(ISNUMBER($K$14),$K$14,$R$20) -> 28 | G18: =IF(ISNUMBER($K$14),$K$14,$R$20) -> 28 | H18: =IF(ISNUMBER($K$14),$K$14,$R$20) -> 28 | I18: =IF(ISNUMBER($K$14),$K$14,$R$20) -> 28
E19: =IF(ISNUMBER($K$15),$K$15,$R$21) -> 0.18 | F19: =IF(ISNUMBER($K$15),$K$15,$R$21) -> 0.18 | G19: =IF(ISNUMBER($K$15),$K$15,$R$21) -> 0.18 | H19: =IF(ISNUMBER($K$15),$K$15,$R$21) -> 0.18 | I19: =IF(ISNUMBER($K$15),$K$15,$R$21) -> 0.18 | R19: Standardwerte
C20: N-Gesamtertrag | E20: =E16*E18*E19 -> 0 | F20: =F16*F18*F19 -> 0 | G20: =G16*G18*G19 -> 0 | H20: =H16*H18*H19 -> 0 | I20: =I16*I18*I19 -> 0 | R20: 28 | S20: kg N/t TM
C21: N-Einzelschnitt | E21: =E13*IF(ISNUMBER(E$14),E$14,IF(ISNUMBER($K$14),$K$14,$R$20))*IF(ISNUMBER(E$15),E$15,IF(ISNUMBER($K$15),$K$15,$R$21)) -> 0 | F21: =F13*IF(ISNUMBER(F$14),F$14,IF(ISNUMBER($K$14),$K$14,$R$20))*IF(ISNUMBER(F$15),F$15,IF(ISNUMBER($K$15),$K$15,$R$21)) -> 0 | G21: =G13*IF(ISNUMBER(G$14),G$14,IF(ISNUMBER($K$14),$K$14,$R$20))*IF(ISNUMBER(G$15),G$15,IF(ISNUMBER($K$15),$K$15,$R$21)) -> 0 | H21: =H13*IF(ISNUMBER(H$14),H$14,IF(ISNUMBER($K$14),$K$14,$R$20))*IF(ISNUMBER(H$15),H$15,IF(ISNUMBER($K$15),$K$15,$R$21)) -> 0 | I21: =I13*IF(ISNUMBER(I$14),I$14,IF(ISNUMBER($K$14),$K$14,$R$20))*IF(ISNUMBER(I$15),I$15,IF(ISNUMBER($K$15),$K$15,$R$21)) -> 0 | R21: 0.18 | S21: TM
B22: N-Lieferung (Schnitte) | C22: kg/ha | E22: =IF(AND($K$13>0,E$13<=0),E$20,IF(AND(E$13>0),E$21,0)) -> 0 | F22: =IF(AND($K$13>0,F$13<=0),F$20,IF(AND(F$13>0),F$21,0)) -> 0 | G22: =IF(AND($K$13>0,G$13<=0),G$20,IF(AND(G$13>0),G$21,0)) -> 0 | H22: =IF(AND($K$13>0,H$13<=0),H$20,IF(AND(H$13>0),H$21,0)) -> 0 | I22: =IF(AND($K$13>0,I$13<=0),I$20,IF(AND($K$13<=0,I$13>0),I$21,0)) -> 0 | K22: =SUM(E22:I22) -> 0
R23: Saatgut | Z23: Aussaatkosten
A24: Direktkosten | S24: 1 | T24: 2 | U24: 3 | V24: 4 | W24: 5 | X24: Su. | AA24: 1 | AB24: 2 | AC24: 3 | AD24: 4 | AE24: 5 | AF24: Su.
A25: Saatgut | B25: kg/ha | E25: {=IF($C$9=1,Saatgut1,IF($C$9=2,Saatgut2,IF($C$9=3,Saatgut3,IF($C$9=4,Saatgut4,IF($C$9=5,Saatgut5,"")))))} | K25: =SUM(_xlfn.ANCHORARRAY(E25)) -> 0 | S25: =C25*C26 -> 0 | X25: =SUM(S25:W25) -> 0 | AA25: =Optionen!D12 -> 194.5 | AF25: =SUM(AA25:AE25) -> 194.5
B26: €/kg | S26: =S25/T24 -> 0 | T26: =S25/T24 -> 0 | X26: =SUM(S26:W26) -> 0 | AA26: =AA25/AB24 -> 97.25 | AB26: =AA25/AB24 -> 97.25 | AF26: =SUM(AA26:AE26) -> 194.5
A27: Düngung Kleegras | S27: =S25/U24 -> 0 | T27: =S25/U24 -> 0 | U27: =S25/U24 -> 0 | X27: =SUM(S27:W27) -> 0 | AA27: =AA25/AC24 -> 64.833333 | AB27: =AA25/AC24 -> 64.833333 | AC27: =AA25/AC24 -> 64.833333 | AF27: =SUM(AA27:AE27) -> 194.5
A28: Organische Düngung | B28: t/ha | S28: =S25/V24 -> 0 | T28: =S25/V24 -> 0 | U28: =S25/V24 -> 0 | V28: =S25/V24 -> 0 | X28: =SUM(S28:W28) -> 0 | AA28: =AA25/AD24 -> 48.625 | AB28: =AA25/AD24 -> 48.625 | AC28: =AA25/AD24 -> 48.625 | AD28: =AA25/AD24 -> 48.625 | AF28: =SUM(AA28:AE28) -> 194.5
B29: €/t | S29: =S25/W24 -> 0 | T29: =S25/W24 -> 0 | U29: =S25/W24 -> 0 | V29: =S25/W24 -> 0 | W29: =S25/W24 -> 0 | X29: =SUM(S29:W29) -> 0 | AA29: =AA25/AE24 -> 38.9 | AB29: =AA25/AE24 -> 38.9 | AC29: =AA25/AE24 -> 38.9 | AD29: =AA25/AE24 -> 38.9 | AE29: =AA25/AE24 -> 38.9 | AF29: =SUM(AA29:AE29) -> 194.5
A31: K-Mg-Düngung | B31: dt/ha
B32: €/dt
A34: S-Düngung | B34: kg/ha
B35: €/kg
C36: Summe Direktkosten | E36: =IF($C$9>0,E25+E28*E29+E31*E32+E34*E35,0) -> 0 | F36: =IF($C$9>0,F25+F28*F29+F31*F32+F34*F35,0) -> 0 | G36: =IF($C$9>0,G25+G28*G29+G31*G32+G34*G35,0) -> 0 | H36: =IF($C$9>0,H25+H28*H29+H31*H32+H34*H35,0) -> 0 | I36: =IF($C$9>0,I25+I28*I29+I31*I32+I34*I35,0) -> 0 | K36: =SUM(E36:I36) -> 0
C37: Aussaatkosten (Drillsaat) | E37: {=IF($C$9=1,Aussaatkosten1,IF($C$9=2,Aussaatkosten2,IF($C$9=3,Aussaatkosten3,IF($C$9=4,Aussaatkosten4,IF($C$9=5,Aussaatkosten5,"")))))} | K37: =IF(C9>0,Optionen!D12,0) -> 0
C38: ausgeblendete Zeile (Ausbringkosten org. Dünger) | E38: =IF(E28>0,E28*Optionen!$D$15,0) -> 0 | F38: =IF(F28>0,F28*Optionen!$D$15,0) -> 0 | G38: =IF(G28>0,G28*Optionen!$D$15,0) -> 0 | H38: =IF(H28>0,H28*Optionen!$D$15,0) -> 0 | I38: =IF(I28>0,I28*Optionen!$D$15,0) -> 0
C39: ausgeblendete Zeile (Ausbringkosten K+Mg-Dünger) | E39: =IF(E31>0,Optionen!$D$14,0) -> 0 | F39: =IF(F31>0,Optionen!$D$14,0) -> 0 | G39: =IF(G31>0,Optionen!$D$14,0) -> 0 | H39: =IF(H31>0,Optionen!$D$14,0) -> 0 | I39: =IF(I31>0,Optionen!$D$14,0) -> 0
C40: ausgeblendete Zeile (Ausbringkosten S-Dünger) | E40: =IF(E34>0,Optionen!$D$14,0) -> 0 | F40: =IF(F34>0,Optionen!$D$14,0) -> 0 | G40: =IF(G34>0,Optionen!$D$14,0) -> 0 | H40: =IF(H34>0,Optionen!$D$14,0) -> 0 | I40: =IF(I34>0,Optionen!$D$14,0) -> 0
C41: Düngungskosten | E41: =IF($C$9>0,SUM(E38:E40),0) -> 0 | F41: =IF($C$9>0,SUM(F38:F40),0) -> 0 | G41: =IF($C$9>0,SUM(G38:G40),0) -> 0 | H41: =IF($C$9>0,SUM(H38:H40),0) -> 0 | I41: =IF($C$9>0,SUM(I38:I40),0) -> 0 | K41: =SUM(E41:I41) -> 0
A43: Feldentfernungen (einfache Strecke) | G43: Ballengewicht
A44: Geber-Nehmerfeld C&C | B44: km | F44: Silo-Quaderballen | H44: kg
...

Sheet Schätztabelle N-Gehalt
A1: Tabelle zur Abschätzung des Stickstoffgehalts im Aufwuchs auf dem Geberfeld
B3: N-Gehalt (kg/t Trockenmasse) zur Orientierung
A4: Entwicklungs-stadium Leguminosen | B4: 100 % Leguminose (Rotklee, Luzerne) | C4: 100 % Gras | D4: 70 % Leg., 30 % Gras | E4: 50 % Leg., 50 % Gras | F4: 30 % Leg., 70 % Gras
A5: Volle Blüte | B5: =INDEX('E) Hilfsrechnung'!$A$2:$B$5,MATCH('Schätztabelle N-Gehalt'!A5,'E) Hilfsrechnung'!$A$2:$A$5,0),2)*10 -> 27.48 | C5: 18 | D5: =0.3*C5+0.7*B5 -> 24.636 | E5: =0.5*C5+0.5*B5 -> 22.74 | F5: =0.7*C5+0.3*B5 -> 20.844
A6: Beginn Blüte | B6: =INDEX('E) Hilfsrechnung'!$A$2:$B$5,MATCH('Schätztabelle N-Gehalt'!A6,'E) Hilfsrechnung'!$A$2:$A$5,0),2)*10 -> 29.16 | C6: 20 | D6: =0.3*C6+0.7*B6 -> 26.412 | E6: =0.5*C6+0.5*B6 -> 24.58 | F6: =0.7*C6+0.3*B6 -> 22.748
A7: Knospen | B7: =INDEX('E) Hilfsrechnung'!$A$2:$B$5,MATCH('Schätztabelle N-Gehalt'!A7,'E) Hilfsrechnung'!$A$2:$A$5,0),2)*10 -> 33.32 | C7: 20 | D7: =0.3*C7+0.7*B7 -> 29.324 | E7: =0.5*C7+0.5*B7 -> 26.66 | F7: =0.7*C7+0.3*B7 -> 23.996
A8: Vor Knospen | B8: =INDEX('E) Hilfsrechnung'!$A$2:$B$5,MATCH('Schätztabelle N-Gehalt'!A8,'E) Hilfsrechnung'!$A$2:$A$5,0),2)*10 -> 38.64 | C8: 20 | D8: =0.3*C8+0.7*B8 -> 33.048 | E8: =0.5*C8+0.5*B8 -> 29.32 | F8: =0.7*C8+0.3*B8 -> 25.592

Sheet E) Hilfsrechnung
A1: Entwicklungsstadium Leguminosen | B1: N-Gehalt (%)
A2: Vor Knospen | B2: =AVERAGE(D11,D19) -> 3.864
A3: Knospen | B3: =AVERAGE(D12,D20) -> 3.332 | K3: Liste Auswahl Ertragserhebung | O3: Geschätzter Kohlenstoffgehalt (% in TM)
A4: Beginn Blüte | B4: =AVERAGE(D13,D21) -> 2.916 | I4: Kleegras | K4: b) Sonstige Ertragsmessung | O4: 44
A5: Volle Blüte | B5: =AVERAGE(D14,D22) -> 2.748 | I5: Luzernegras | K5: c) Quadratmeterschnitte
I6: Klee | K6: d) kompr. Bestandeshöhe
A7: Gras N-Gehalt (%) | B7: 2 | I7: Luzerne
A9: DLG-Futterwerttabelle
C10: N-Gehalt (%) | D10: Mittlerer N-Gehalt alle Schnitte
A11: Luzerne 1. Schnitt | B11: Vor der Konspe | C11: 4.064 | D11: =AVERAGE(C11,C15) -> 4.096
B12: In der Knospe | C12: 3.504 | D12: =AVERAGE(C12,C16) -> 3.464
B13: Beginn der Blüte | C13: 2.992 | D13: =AVERAGE(C13,C17) -> 3.128
B14: Mitte bis Ende der Blüte | C14: 2.8 | D14: =AVERAGE(C14,C18) -> 2.936
A15: Luzerne Folgeaufwüchse | B15: Vor der Konspe | C15: 4.128
B16: In der Knospe | C16: 3.424
B17: Beginn der Blüte | C17: 3.264
B18: Mitte bis Ende der Blüte | C18: 3.072
A19: Rotklee 1. Schnitt | B19: Vor der Konspe | C19: 3.632 | D19: =AVERAGE(C19,C23) -> 3.632
B20: In der Knospe | C20: 3.088 | D20: =AVERAGE(C20,C24) -> 3.2
B21: Beginn der Blüte | C21: 2.576 | D21: =AVERAGE(C21,C25) -> 2.704
B22: Mitte bis Ende der Blüte | C22: 2.4 | D22: =AVERAGE(C22,C26) -> 2.56
A23: Rotklee Folgeaufwüchse | B23: Vor der Konspe | C23: 3.632
B24: In der Knospe | C24: 3.312
B25: Beginn der Blüte | C25: 2.832
B26: Mitte bis Ende der Blüte | C26: 2.72

Sheet Optionen
B1: Cut & Carry-Verfahren mit Kleegras
B2: Stand 2025
B3: Erfahrungssätze für überbetriebliche Maschinenarbeiten im Rheinland
E4: Optionen-Verfahren
B5: Netto | E5: Mulchen | F5: C&C Feldhäcksler | G5: C&C Ladewagen | H5: Silierung Rundballen | I5: Silierung Quaderballen | J5: Siloplatte Feldhäcksler | K5: Siloplatte Ladewagen | L5: F-M-Kooperation | M5: Biogas- anlage
B6: Fahrerlohn | C6: €/h | D6: 25
B7: Arbeitserledigungskosten (AEK)1
A8: 204 | B8: Stoppelgrubber (Arbeitstiefe ca. 10 - 15 cm) | C8: €/ha | D8: 50
A9: 206 | B9: Kurzscheibenegge 3 m (Arbeitstiefe ca. 5 cm) | C9: €/ha | D9: 40
A10: 302 | B10: Kreiselegge + Aufbaudrillmaschine (3 m) | C10: €/ha | D10: 81.5
A11: 212 | B11: Cambridge-Walze 6 m | C11: €/ha | D11: 23
B12: Summe var. Arbeitserledigungskosten | C12: €/ha | D12: =SUM(D8:D11) -> 194.5
A14: 401 | B14: Schleuderstreuer 1.500 ltr., 27m | C14: €/ha | D14: 11
A15: 404 | B15: Streuer Kompost/Champost/HTK incl. Laden | C15: €/t | D15: 5
A16: 512 | B16: Zwischenfrucht schlegeln | C16: €/ha | D16: =(57+79)/2 -> 68 | E16: =D16 -> 68
B18: Arbeitserledigungskosten Biomassewerbung/-bergung (LU/MR VK)
A19: 802 | B19: Kreiselmäher Anbau 3,2 m mit Aufbereiter | C19: €/ha | D19: 44 | F19: =D19 -> 44 | G19: =D19 -> 44 | H19: =D19 -> 44 | I19: =D19 -> 44 | J19: =D19 -> 44 | K19: =D19 -> 44 | L19: =D19 -> 44 | M19: =D19 -> 44
A20: 806 | B20: Kreiselschwader (8 - 12 m) | C20: €/ha | D20: 20 | F20: =D20 -> 20 | G20: =D20 -> 20 | H20: =D20 -> 20 | I20: =D20 -> 20 | J20: =D20 -> 20 | K20: =D20 -> 20 | L20: =D20 -> 20 | M20: =D20 -> 20
A22: 816 | B22: Rundballenpresse Silage | C22: €/Ballen | D22: =(7.4+8.3)/2 -> 7.85 | H22: =D22 -> 7.85
A23: 817 | B23: Rundballen-Wickelgerät incl. Folie | C23: €/Ballen | D23: =(7.8+9.9)/2 -> 8.85 | H23: =D23 -> 8.85
A24: 818 | B24: Quaderballenpresse Silage | C24: €/Ballen | D24: =(6.8+10)/2 -> 8.4 | I24: =D24 -> 8.4
A25: 819 | B25: Quaderballen-Wickelgerät incl. Folie | C25: €/Ballen | D25: =(8.3+9.5)/2 -> 8.9 | I25: =D25 -> 8.9
A27: 901 | B27: Dreiachs-Dreiseiten-Kipper (24 t zGG, 18 t NL) | C27: €/h | D27: 86.5
D28: Erntekosten | O28: Erntekosten
C29: Ballengewicht | F29: =Transport!C27 -> 0 | G29: =Transport!C37 -> 0 | H29: =IF('Dateneingabe+Auswertung'!$G$45>0,N35/'Dateneingabe+Auswertung'!$G$45*1000*($H$22+$H$23),N35/$C$30*1000*($H$22+$H$23)) -> 0 | I29: =IF('Dateneingabe+Auswertung'!$G$44>0,N35/'Dateneingabe+Auswertung'!$G$44*1000*($I$24+$I$25),N35/$C$31*1000*($I$24+$I$25)) -> 0 | J29: =Transport!C$48+Transport!C$49 -> 0 | K29: =Transport!C$58+Transport!C$59 -> 0 | O29: 1. Schnitt
B30: Silo-Rundballen | C30: 500 | D30: kg | F30: =Transport!D27 -> 0 | G30: =Transport!D37 -> 0 | H30: =IF('Dateneingabe+Auswertung'!$G$45>0,N36/'Dateneingabe+Auswertung'!$G$45*1000*($H$22+$H$23),N36/$C$30*1000*($H$22+$H$23)) -> 0 | I30: =IF('Dateneingabe+Auswertung'!$G$44>0,N36/'Dateneingabe+Auswertung'!$G$44*1000*($I$24+$I$25),N36/$C$31*1000*($I$24+$I$25)) -> 0 | J30: =Transport!D$48+Transport!D$49 -> 0 | K30: =Transport!D$58+Transport!D$59 -> 0 | O30: 2. Schnitt
B31: Silo-Quaderballen | C31: 750 | D31: kg | F31: =Transport!E27 -> 0 | G31: =Transport!E37 -> 0 | H31: =IF('Dateneingabe+Auswertung'!$G$45>0,N37/'Dateneingabe+Auswertung'!$G$45*1000*($H$22+$H$23),N37/$C$30*1000*($H$22+$H$23)) -> 0 | I31: =IF('Dateneingabe+Auswertung'!$G$44>0,N37/'Dateneingabe+Auswertung'!$G$44*1000*($I$24+$I$25),N37/$C$31*1000*($I$24+$I$25)) -> 0 | J31: =Transport!E$48+Transport!E$49 -> 0 | K31: =Transport!E$58+Transport!E$59 -> 0 | O31: 3. Schnitt
F32: =Transport!F27 -> 0 | G32: =Transport!F37 -> 0 | H32: =IF('Dateneingabe+Auswertung'!$G$45>0,N38/'Dateneingabe+Auswertung'!$G$45*1000*($H$22+$H$23),N38/$C$30*1000*($H$22+$H$23)) -> 0 | I32: =IF('Dateneingabe+Auswertung'!$G$44>0,N38/'Dateneingabe+Auswertung'!$G$44*1000*($I$24+$I$25),N38/$C$31*1000*($I$24+$I$25)) -> 0 | J32: =Transport!F$48+Transport!F$49 -> 0 | K32: =Transport!F$58+Transport!F$59 -> 0 | O32: 4. Schnitt
F33: =Transport!G27 -> 0 | G33: =Transport!G37 -> 0 | H33: =IF('Dateneingabe+Auswertung'!$G$45>0,N39/'Dateneingabe+Auswertung'!$G$45*1000*($H$22+$H$23),N39/$C$30*1000*($H$22+$H$23)) -> 0 | I33: =IF('Dateneingabe+Auswertung'!$G$44>0,N39/'Dateneingabe+Auswertung'!$G$44*1000*($I$24+$I$25),N39/$C$31*1000*($I$24+$I$25)) -> 0 | J33: =Transport!G$48+Transport!G$49 -> 0 | K33: =Transport!G$58+Transport!G$59 -> 0 | O33: 5. Schnitt
B34: Kosten Siloplatte | D34: Lagerkosten Siloplatte | N34: Silagemenge | O34: Lagerkosten Siloplatte
J35: =N35*1000/$C$40*$C$39 -> 0 | K35: =N35*1000/$C$40*$C$39 -> 0 | N35: =IF(AND('Dateneingabe+Auswertung'!$K$14>0,'Dateneingabe+Auswertung'!$K$15>0),'Dateneingabe+Auswertung'!E$10*'Dateneingabe+Auswertung'!$K$15,'Dateneingabe+Auswertung'!E$10*'Dateneingabe+Auswertung'!$R$21)/C41 -> 0 | O35: 1. Schnitt
B36: Herstellungskosten | C36: 65 | J36: =N36*1000/$C$40*$C$39 -> 0 | K36: =N36*1000/$C$40*$C$39 -> 0 | N36: =IF(AND('Dateneingabe+Auswertung'!$K$14>0,'Dateneingabe+Auswertung'!$K$15>0),'Dateneingabe+Auswertung'!F$10*'Dateneingabe+Auswertung'!$K$15,'Dateneingabe+Auswertung'!F$10*'Dateneingabe+Auswertung'!$R$21)/C41 -> 0 | O36: 2. Schnitt
B37: Abschreibung | C37: 20 | D37: Jahre | J37: =N37*1000/$C$40*$C$39 -> 0 | K37: =N37*1000/$C$40*$C$39 -> 0 | N37: =IF(AND('Dateneingabe+Auswertung'!$K$14>0,'Dateneingabe+Auswertung'!$K$15>0),'Dateneingabe+Auswertung'!G$10*'Dateneingabe+Auswertung'!$K$15,'Dateneingabe+Auswertung'!G$10*'Dateneingabe+Auswertung'!$R$21)/C41 -> 0 | O37: 3. Schnitt
B38: Zinssatz | C38: 0.045 | J38: =N38*1000/$C$40*$C$39 -> 0 | K38: =N38*1000/$C$40*$C$39 -> 0 | N38: =IF(AND('Dateneingabe+Auswertung'!$K$14>0,'Dateneingabe+Auswertung'!$K$15>0),'Dateneingabe+Auswertung'!H$10*'Dateneingabe+Auswertung'!$K$15,'Dateneingabe+Auswertung'!H$10*'Dateneingabe+Auswertung'!$R$21)/C41 -> 0 | O38: 4. Schnitt
B39: JAHRESKOSTEN | C39: =C36/C37+C36/2*C38 -> 4.7125 | J39: =N39*1000/$C$40*$C$39 -> 0 | K39: =N39*1000/$C$40*$C$39 -> 0 | N39: =IF(AND('Dateneingabe+Auswertung'!$K$14>0,'Dateneingabe+Auswertung'!$K$15>0),'Dateneingabe+Auswertung'!I$10*'Dateneingabe+Auswertung'!$K$15,'Dateneingabe+Auswertung'!I$10*'Dateneingabe+Auswertung'!$R$21)/C41 -> 0 | O39: 5. Schnitt
B40: Raumgewicht Grassilage 35% | C40: 600 | D40: kg/cbm
B41: TM Grassilage | C41: 0.35
D42: Lagerkosten Silageballen | N42: Lagerdauer | O42: Lagerkosten Silageballen
H43: =N35*$N$46 -> 0 | I43: =N35*$N$46 -> 0 | N43: 6 | O43: 1. Schnitt
H44: =N36*$N$46 -> 0 | I44: =N36*$N$46 -> 0 | N44: Kosten/Mon. | O44: 2. Schnitt
...

Sheet Transport
A1: Transportkosten Cut & Carry
A2: Stand: 2025
A3: KTBL-Verfahren: Rotklee-Gras-Gemenge-Anwelksilage (35% TM)
A4: Schlaggröße = 5 ha
A5: Dieselpreis: | B5: 1.4
A6: Fahrerlohn: | B6: =Optionen!D6 -> 25
C7: Gesamtmenge
A8: Ballen | C8: 1. Schnitt | D8: 2. Schnitt | E8: 3. Schnitt | F8: 4. Schnitt | G8: 5. Schnitt
B9: Transport-Dienstl.
A10: Akh/t FM | B10: 0.066194969 | C10: ='Dateneingabe+Auswertung'!E$10*Transport!$B$10 -> 0 | D10: ='Dateneingabe+Auswertung'!F$10*Transport!$B$10 -> 0 | E10: ='Dateneingabe+Auswertung'!G$10*Transport!$B$10 -> 0 | F10: ='Dateneingabe+Auswertung'!H$10*Transport!$B$10 -> 0 | G10: ='Dateneingabe+Auswertung'!I$10*Transport!$B$10 -> 0
A11: Dieselverbrauch l/t FM | B11: 0.20283019 | C11: ='Dateneingabe+Auswertung'!E$10*Transport!$B$11 -> 0 | D11: ='Dateneingabe+Auswertung'!F$10*Transport!$B$11 -> 0 | E11: ='Dateneingabe+Auswertung'!G$10*Transport!$B$11 -> 0 | F11: ='Dateneingabe+Auswertung'!H$10*Transport!$B$11 -> 0 | G11: ='Dateneingabe+Auswertung'!I$10*Transport!$B$11 -> 0
A12: Gesamtdieselkosten | C12: =C11*$B$5 -> 0 | D12: =D11*$B$5 -> 0 | E12: =E11*$B$5 -> 0 | F12: =F11*$B$5 -> 0 | G12: =G11*$B$5 -> 0
A13: zusätzlich ab 1 km /t FM
A14: Akh/t FM | B14: 0.0019077568 | C14: ='Dateneingabe+Auswertung'!E$10*Transport!$B$14*'Dateneingabe+Auswertung'!$C$45 -> 0 | D14: ='Dateneingabe+Auswertung'!F$10*Transport!$B$14*'Dateneingabe+Auswertung'!$C$45 -> 0 | E14: ='Dateneingabe+Auswertung'!G$10*Transport!$B$14*'Dateneingabe+Auswertung'!$C$45 -> 0 | F14: ='Dateneingabe+Auswertung'!H$10*Transport!$B$14*'Dateneingabe+Auswertung'!$C$45 -> 0 | G14: ='Dateneingabe+Auswertung'!I$10*Transport!$B$14*'Dateneingabe+Auswertung'!$C$45 -> 0
A15: Dieselverbrauch l/t FM | B15: 0.016310273 | C15: ='Dateneingabe+Auswertung'!E$10*Transport!$B$15*'Dateneingabe+Auswertung'!$C$45 -> 0 | D15: ='Dateneingabe+Auswertung'!F$10*Transport!$B$15*'Dateneingabe+Auswertung'!$C$45 -> 0 | E15: ='Dateneingabe+Auswertung'!G$10*Transport!$B$15*'Dateneingabe+Auswertung'!$C$45 -> 0 | F15: ='Dateneingabe+Auswertung'!H$10*Transport!$B$15*'Dateneingabe+Auswertung'!$C$45 -> 0 | G15: ='Dateneingabe+Auswertung'!I$10*Transport!$B$15*'Dateneingabe+Auswertung'!$C$45 -> 0
A16: Gesamtdieselkosten | C16: =C15*$B$5 -> 0 | D16: =D15*$B$5 -> 0 | E16: =E15*$B$5 -> 0 | F16: =F15*$B$5 -> 0 | G16: =G15*$B$5 -> 0
B17: Summe Dieselkosten | C17: =C12+C16 -> 0 | D17: =D12+D16 -> 0 | E17: =E12+E16 -> 0 | F17: =F12+F16 -> 0 | G17: =G12+G16 -> 0
B18: Summe Arbeitskosten | C18: =$B$6*(C10+C14) -> 0 | D18: =$B$6*(D10+D14) -> 0 | E18: =$B$6*(E10+E14) -> 0 | F18: =$B$6*(F10+F14) -> 0 | G18: =$B$6*(G10+G14) -> 0
A19: C&C
A20: Häckseln
B21: LU-Dienstleistung
A22: Häckseln €/t FM | B22: 4.0007862 | C22: ='Dateneingabe+Auswertung'!E$10*Transport!$B$22 -> 0 | D22: ='Dateneingabe+Auswertung'!F$10*Transport!$B$22 -> 0 | E22: ='Dateneingabe+Auswertung'!G$10*Transport!$B$22 -> 0 | F22: ='Dateneingabe+Auswertung'!H$10*Transport!$B$22 -> 0 | G22: ='Dateneingabe+Auswertung'!I$10*Transport!$B$22 -> 0
A23: Transport €/t FM | B23: 1.8732704 | C23: ='Dateneingabe+Auswertung'!E$10*Transport!$B$23 -> 0 | D23: ='Dateneingabe+Auswertung'!F$10*Transport!$B$23 -> 0 | E23: ='Dateneingabe+Auswertung'!G$10*Transport!$B$23 -> 0 | F23: ='Dateneingabe+Auswertung'!H$10*Transport!$B$23 -> 0 | G23: ='Dateneingabe+Auswertung'!I$10*Transport!$B$23 -> 0
A24: zusätzlich ab 1 km /t FM
A25: Häckseln €/t FM | B25: 0.011472746 | C25: ='Dateneingabe+Auswertung'!E$10*Transport!$B$25*'Dateneingabe+Auswertung'!$C$44 -> 0 | D25: ='Dateneingabe+Auswertung'!F$10*Transport!$B$25*'Dateneingabe+Auswertung'!$C$44 -> 0 | E25: ='Dateneingabe+Auswertung'!G$10*Transport!$B$25*'Dateneingabe+Auswertung'!$C$44 -> 0 | F25: ='Dateneingabe+Auswertung'!H$10*Transport!$B$25*'Dateneingabe+Auswertung'!$C$44 -> 0 | G25: ='Dateneingabe+Auswertung'!I$10*Transport!$B$25*'Dateneingabe+Auswertung'!$C$44 -> 0
A26: Transport €/t FM | B26: 0.21357442 | C26: ='Dateneingabe+Auswertung'!E$10*Transport!$B$26*'Dateneingabe+Auswertung'!$C$44 -> 0 | D26: ='Dateneingabe+Auswertung'!F$10*Transport!$B$26*'Dateneingabe+Auswertung'!$C$44 -> 0 | E26: ='Dateneingabe+Auswertung'!G$10*Transport!$B$26*'Dateneingabe+Auswertung'!$C$44 -> 0 | F26: ='Dateneingabe+Auswertung'!H$10*Transport!$B$26*'Dateneingabe+Auswertung'!$C$44 -> 0 | G26: ='Dateneingabe+Auswertung'!I$10*Transport!$B$26*'Dateneingabe+Auswertung'!$C$44 -> 0
B27: Summe | C27: =C22+C23+C25+C26 -> 0 | D27: =D22+D23+D25+D26 -> 0 | E27: =E22+E23+E25+E26 -> 0 | F27: =F22+F23+F25+F26 -> 0 | G27: =G22+G23+G25+G26 -> 0
A28: Festfahren €/t FM | B28: 0.37711141 | C28: ='Dateneingabe+Auswertung'!E$10*Transport!$B$28 -> 0 | D28: ='Dateneingabe+Auswertung'!F$10*Transport!$B$28 -> 0 | E28: ='Dateneingabe+Auswertung'!G$10*Transport!$B$28 -> 0 | F28: ='Dateneingabe+Auswertung'!H$10*Transport!$B$28 -> 0 | G28: ='Dateneingabe+Auswertung'!I$10*Transport!$B$28 -> 0
A31: Ladewagen
B32: LU-Dienstleistung
A33: Ladewagen €/t FM | B33: 2.463522 | C33: ='Dateneingabe+Auswertung'!E$10*Transport!$B$33 -> 0 | D33: ='Dateneingabe+Auswertung'!F$10*Transport!$B$33 -> 0 | E33: ='Dateneingabe+Auswertung'!G$10*Transport!$B$33 -> 0 | F33: ='Dateneingabe+Auswertung'!H$10*Transport!$B$33 -> 0 | G33: ='Dateneingabe+Auswertung'!I$10*Transport!$B$33 -> 0
A34: Festfahren €/t FM | B34: 1.4753145 | C34: ='Dateneingabe+Auswertung'!E$10*Transport!$B$34 -> 0 | D34: ='Dateneingabe+Auswertung'!F$10*Transport!$B$34 -> 0 | E34: ='Dateneingabe+Auswertung'!G$10*Transport!$B$34 -> 0 | F34: ='Dateneingabe+Auswertung'!H$10*Transport!$B$34 -> 0 | G34: ='Dateneingabe+Auswertung'!I$10*Transport!$B$34 -> 0
A35: zusätzlich ab 1 km /t FM
A36: Ladewagen €/t FM | B36: 0.22112159 | C36: ='Dateneingabe+Auswertung'!E$10*Transport!$B$36*'Dateneingabe+Auswertung'!$C$44 -> 0 | D36: ='Dateneingabe+Auswertung'!F$10*Transport!$B$36*'Dateneingabe+Auswertung'!$C$44 -> 0 | E36: ='Dateneingabe+Auswertung'!G$10*Transport!$B$36*'Dateneingabe+Auswertung'!$C$44 -> 0 | F36: ='Dateneingabe+Auswertung'!H$10*Transport!$B$36*'Dateneingabe+Auswertung'!$C$44 -> 0 | G36: ='Dateneingabe+Auswertung'!I$10*Transport!$B$36*'Dateneingabe+Auswertung'!$C$44 -> 0
B37: Summe | C37: =C33+C34+C36 -> 0 | D37: =D33+D34+D36 -> 0 | E37: =E33+E34+E36 -> 0 | F37: =F33+F34+F36 -> 0 | G37: =G33+G34+G36 -> 0
A38: Festfahren €/t FM | B38: 0.1354979 | C38: ='Dateneingabe+Auswertung'!E$10*Transport!$B$38*'Dateneingabe+Auswertung'!$C$45 -> 0 | D38: ='Dateneingabe+Auswertung'!F$10*Transport!$B$38*'Dateneingabe+Auswertung'!$C$45 -> 0 | E38: ='Dateneingabe+Auswertung'!G$10*Transport!$B$38*'Dateneingabe+Auswertung'!$C$45 -> 0 | F38: ='Dateneingabe+Auswertung'!H$10*Transport!$B$38*'Dateneingabe+Auswertung'!$C$45 -> 0 | G38: ='Dateneingabe+Auswertung'!I$10*Transport!$B$38*'Dateneingabe+Auswertung'!$C$45 -> 0
A40: Siloplatte
A41: Häckseln
B42: LU-Dienstleistung
A43: Häckseln €/t FM | B43: 4.0007862 | C43: ='Dateneingabe+Auswertung'!E$10*Transport!$B$22 -> 0 | D43: ='Dateneingabe+Auswertung'!F$10*Transport!$B$22 -> 0 | E43: ='Dateneingabe+Auswertung'!G$10*Transport!$B$22 -> 0 | F43: ='Dateneingabe+Auswertung'!H$10*Transport!$B$22 -> 0 | G43: ='Dateneingabe+Auswertung'!I$10*Transport!$B$22 -> 0
...

Sheet Versionsverzeichnis
A1: Version | B1: Release | C1: Änderungen
A2: 1.0 | B2: März 2026
