Workbook

Sheet Info
A38: Link zum Cut & Carry-Praxisleitfaden: | D38: Hier klicken
A40: Orientierung im Dokument: Viele Zellen im Dokument sind entweder in der Spaltenüberschrift (zum Vorgehen) oder in den Zellen selbst (zur Eingabe) zum besseren Verständnis kommentiert. Um einen besseren Überblick zu gewährleisten, arbeiten wir in den Tabellen mit folgender Farbgebung:
A41: Geberfläche: Fläche mit dem Aufwuchs abzufahrender Sprossmasse, z.B. Luzerne oder Kleegras. Zellen, die die Geberfläche betreffen, sind grün hinterlegt
A42: Nehmerfläche: Die zu düngende Fläche. Zellen, die die Nehmerfläche betreffen, sind blau hinterlegt.
A43: Zellen mit freier Eingabe
A44: Zellen mit Drop-Down-Menü
A45: Zellen mit hinterlegten Formeln oder Werten, keine Eingabe möglich

Sheet A) Geberfläche
A1: A) | B1: Einschätzung Ertrag und Qualität des Aufwuchses der Geberfläche | Z1: AUSBLENDEN | AD1: AUSBLENDEN | AE1: AUSBLENDEN
B2: Name der Geberfläche, darf Text oder Zahl sein. | C2: Größe der Geberfläche, muss eine Zahl sein. | D2: Kultur auf der Geberfläche, darf Text oder Zahl sein. Wird nicht weiterverwendet. | E2: Datum der Probenahme für m2-Schnitte und Analysen, wird nicht weiterverwendet. | F2: Schnittnummer auf dem Schlag. Muss eine Zahl sein, keine Prüfung auf Dopplungen. | G2: Die Methode der Ertragsermittlung wird aus einem Dropdown-Menü ausgewählt, das im Blatt "Hilfsrechnung" definiert ist. In Abhängigkeit von der Auswahl werden bestimmte Bereiche im Folgenden ausgegraut. | J2: Angabe bei sonstiger Ertragserfassung z.B. Feldhäcksler. Muss eine Zahl sein. | K2: Beprobungsfläche, bezogen auf jeden Quadratmeterschnitt (z.B. 0,25 oder 0,5 m²). Muss eine Zahl sein. | L2: Ertrag pro Quadratmeterschnitt, netto (ohne Eimer). Muss eine Zahl sein. | M2: Ertrag pro Quadratmeterschnitt, netto (ohne Eimer). Muss eine Zahl sein. | N2: Ertrag pro Quadratmeterschnitt, netto (ohne Eimer). Muss eine Zahl sein. | O2: Ertrag pro Quadratmeterschnitt, netto (ohne Eimer). Muss eine Zahl sein. | P2: Nur angezeigt, wenn "Quadratmeterschnitte" im Dropdown ausgewählt | Q2: Umrechnung von kg/m² in dt/ha, Abzug von 10 % durch Randeffekte (Vorgewende etc.) | S2: Brutto-Einwaage. Muss eine Zahl sein. | T2: Brutto-Rückwaage. Muss eine Zahl sein. | U2: Die bei 70 °C verbleibenden 5% Wasser werden herausgerechnet | V2: Nur wenn "Quadratmeterschnitte" ausgewählt: Verrechnung von TM-Gehalt und FM-Ertrag zu TM-Ertrag. Bei fehlendem TM-Ertrag wird mit 18 % TM gerechnet. | W2: Auswahl des Kulturnamens aus der Kalibrierung aus Blatt D | X2: Muss eine Zahl sein. | Y2: Berechnung der Reggressionsgeraden aus der Kalibration für den ausgewählten Kulturnamen und Anwendung auf die eingetragene Bestandeshöhe | Z2: Heraussuchen der zugehörigen TM-Gehalte zur Berechnung des Frischmasse-Ertrags (für Ausbringmengen-Kalkulation). Wenn kein Wert vorhanden, 18% als Fallback | AB2: Muss eine Zahl sein | AC2: Dropdown-Menü bezieht sich auf C) Schätztabelle | AD2: Festlegen des TM-Ertrags, der für die weitere Berechnung verwendet werden soll. In der Reihenfolge: Sonstige Ertragsermittlung > Komprimierte Bestandeshöhe > Quadratmeterschnitte | AE2: Errechnen des Frischmasseertrags aus AD, unter Verwendung eines geeigneten TM-Gehalts: Analyse > eigene Messung aus Heißluftfritteuse > TM-Gehalt bei komprimierter Bestandeshöhe | AF2: Aus den stadiums- und mischungsabhängigen N-Gehalten und einem fixen Kohlenstoffanteil von 44 % TM (Glowacki, eigene Messungen) wird das C/N-Verhältnis geschätzt | AG2: Aus dem Leguminosenanteil, dem Grasanteil (1-LegAnteil), dem TM-Ertrag und dem N-Gehalt nach Stadium der Leguminose wird der N-Ertrag bestimmt | AI2: Muss eine Zahl zwischen 0 und 100 sein. | AJ2: Muss eine Zahl zwischen 0 und 100 sein. | AK2: Muss eine Zahl zwischen 0 und 100 sein. | AL2: C/N-Verhältnis wird, wenn C-Gehalt in AK fehlt, mit dem Standardwert (44 % TM) aus Tabellenblatt Hilfsrechnung berechnet | AM2: Berechnung des TM-Ertrags aus dem TM-Gehalt der Analyse
A4: A.1) Daten zu Fläche und Schnitt | I4: A.2) Sonstige Ertragsmessung | K4: A.3) Ermittlung Frischmasse-Ertrag mittels Quadratmeterschnitten | R4: A.4) Bestimmung Trockenmasse | W4: A.5) Ertragsmessung nach komprimierter Bestandeshöhe | AB4: A.6) Schätzung Stickstoff im Aufwuchs nach Schätztabelle | AI4: nachbereitend: A.7 Analyse Labor (genauer als Schätzung), Eingabe erst nach Erhalt der Laborergebnisse möglich
A5: Geber-ID | B5: Geberfläche [Name] | C5: Geberfläche [ha] | D5: Kultur Geberfläche | E5: Datum Probenahme | F5: Schnitt | G5: Auswahl verwendeter Ertragsermittlung | I5: FM-Ertrag [dt/ha] | J5: TM-Ertrag [dt/ha] | K5: einzelne Beprobungsfläche [m²] | L5: Ertrag Schnitt A [kg FM] | M5: Ertrag Schnitt B [kg FM] | N5: Ertrag Schnitt C [kg FM] | O5: Ertrag Schnitt D [kg FM] | P5: FM-Ertrag [kg/m²] | Q5: FM-Ertrag korrigiert [dt/ha] | R5: Behältnis [g] | S5: Einwaage mit Behältnis [g] | T5: Rückwaage mit Behältnis [g] | U5: TM -Gehalt [%] | V5: TM-Ertrag [dt/ha] | W5: Kulturname aus Kalibration | X5: gemessene Bestandeshöhe aus mehreren Messungen [cm] | Y5: geschätzter Trockenmasseertrag aus der Kalibration [dt/ha] | Z5: TM-Gehalt aus der Kalibration [%] | AB5: Anteil Leguminose [%] | AC5: Stadium Leguminose | AD5: zu verwendener TM Ertrag [dt/ha] | AE5: zu verwendender FM Ertrag [dt/ha] | AF5: geschätztes C/N-Verhältnis | AG5: N-Ertrag nach Schätzung [kg N/ha] | AI5: TM [%] | AJ5: Stickstoffgehalt [% in TM] | AK5: Kohlenstoffgehalt [% in TM] | AL5: C/N-Verhältnis | AM5: TM-Ertrag [dt/ha] | AN5: N-Ertrag nach Analyse [kg N/ha]
A6: 1 | B6: Arendsen 1 | C6: 2 | D6: Kleegras | E6: 45772 | F6: 1 | G6: A.3) Quadratmeterschnitte | J6: =IFERROR(IF(ISNUMBER(I6),I6*IF(ISNUMBER(U6),U6,18)/100,""),"") | K6: 1 | L6: 2 | M6: 2 | N6: 2 | O6: 2 | P6: =IF(AND(ISNUMBER(K6),ISNUMBER(L6),G6="A.3) Quadratmeterschnitte"),AVERAGE(L6:O6)*(1/K6),"") -> 2 | Q6: =IF(ISNUMBER(P6),P6*0.9*100,"") -> 180 | R6: 30 | S6: 285 | T6: 73 | U6: =IF(AND(ISNUMBER(R6),ISNUMBER(S6),ISNUMBER(T6)),((T6-R6)/(S6-R6))*100,"") -> 16.862745 | V6: =IF(AND(ISNUMBER(Q6), U6=""), Q6*(18/100), IF(AND(ISNUMBER(Q6), ISNUMBER(U6)), Q6*(U6/100), "")) -> 30.352941 | Y6: {=IF(AND(G6="A.5) kompr. Bestandeshöhe",W6<>"",X6>0),ROUND(X6*(INDEX(LINEST(_xlfn._xlws.FILTER('D) Ertrag kompr. Bestandeshöhe'!$V$5:$V$999,('D) Ertrag kompr. Bestandeshöhe'!$J$5:$J$999=W6)*('D) Ertrag kompr. Bestandeshöhe'!$K$5:$K$999<>"")*('D) Ertrag kompr. Bestandeshöhe'!$V$5:$V$999<>"")), _xlfn._xlws.FILTER('D) Ertrag kompr. Bestandeshöhe'!$K$5:$K$999,('D) Ertrag kompr. Bestandeshöhe'!$J$5:$J$999=W6)*('D) Ertrag kompr. Bestandeshöhe'!$K$5:$K$999<>"")*('D) Ertrag kompr. Bestandeshöhe'!$V$5:$V$999<>"")), TRUE, FALSE), 1))+(INDEX(LINEST(_xlfn._xlws.FILTER('D) Ertrag kompr. Bestandeshöhe'!$V$5:$V$999,('D) Ertrag kompr. Bestandeshöhe'!$J$5:$J$999=W6)*('D) Ertrag kompr. Bestandeshöhe'!$K$5:$K$999<>"")*('D) Ertrag kompr. Bestandeshöhe'!$V$5:$V$999<>"")), _xlfn._xlws.FILTER('D) Ertrag kompr. Bestandeshöhe'!$K$5:$K$999,('D) Ertrag kompr. Bestandeshöhe'!$J$5:$J$999=W6)*('D) Ertrag kompr. Bestandeshöhe'!$K$5:$K$999<>"")*('D) Ertrag kompr. Bestandeshöhe'!$V$5:$V$999<>"")), TRUE, FALSE), 2)),0),"")} | Z6: {=IFERROR(AVERAGE(_xlfn._xlws.FILTER('D) Ertrag kompr. Bestandeshöhe'!$O$5:$O$999,('D) Ertrag kompr. Bestandeshöhe'!$J$5:$J$999=$W6)*('D) Ertrag kompr. Bestandeshöhe'!$O$5:$O$999<>""))),18)} -> 18 | AB6: 70 | AC6: Knospen | AD6: =IFERROR(IF(AND(G6='F) Hilfsrechnung'!$I$4,J6>0),J6,IF(AND(G6='F) Hilfsrechnung'!$I$6,Y6>0),Y6,IF(AND(G6='F) Hilfsrechnung'!$I$5,V6>0),V6,""))),"") -> 30.352941 | AE6: =IFERROR(IF(ISNUMBER(AD6),AD6,"")/IF(ISNUMBER(AI6),AI6,IF(ISNUMBER(U6),U6,IF(ISNUMBER(Z6),Z6,18)))*100,"") -> 178.54671 | AF6: =IF(AG6<>"",'F) Hilfsrechnung'!$K$4/(AG6/AD6),"") -> 15.004774 | AG6: =IF(AND(ISNUMBER(AB6),AD6<>""),((INDEX('F) Hilfsrechnung'!$A$2:$B$5,MATCH(AC6,'F) Hilfsrechnung'!$A$2:$A$5,0),2)*AB6/100)+('F) Hilfsrechnung'!$B$7*(100-AB6)/100))*AD6,"") -> 89.006965 | AI6: 17 | AJ6: 3.25 | AL6: =IF(AND(ISNUMBER(AJ6),AK6=""),ROUND('F) Hilfsrechnung'!$K$4/AJ6,0),IF(AND(ISNUMBER(AJ6),ISNUMBER(AK6)),ROUND(AK6/AJ6,0),"")) -> 14 | AM6: =IF(AND(ISNUMBER(Q6),ISNUMBER(AI6)),Q6*AI6/100,IF(AD6>0,AD6,"")) -> 30.6 | AN6: =IF(AND(ISNUMBER(AJ6),ISNUMBER(AM6)),ROUND(AM6*(AJ6/100)*100,0),"") -> 99
A7: 2 | B7: Arendsen 2 | C7: 5 | D7: Kleegras | E7: 45772 | F7: 1 | G7: A.3) Quadratmeterschnitte | J7: =IFERROR(IF(ISNUMBER(I7),I7*IF(ISNUMBER(U7),U7,18)/100,""),"") | K7: 1 | L7: 2 | M7: 2 | N7: 2 | O7: 2 | P7: =IF(AND(ISNUMBER(K7),ISNUMBER(L7),G7="A.3) Quadratmeterschnitte"),AVERAGE(L7:O7)*(1/K7),"") -> 2 | Q7: =IF(ISNUMBER(P7),P7*0.9*100,"") -> 180 | R7: 30 | S7: 285 | T7: 73 | U7: =IF(AND(ISNUMBER(R7),ISNUMBER(S7),ISNUMBER(T7)),((T7-R7)/(S7-R7))*100,"") -> 16.862745 | V7: =IF(AND(ISNUMBER(Q7), U7=""), Q7*(18/100), IF(AND(ISNUMBER(Q7), ISNUMBER(U7)), Q7*(U7/100), "")) -> 30.352941 | Y7: {=IF(AND(G7="A.5) kompr. Bestandeshöhe",W7<>"",X7>0),ROUND(X7*(INDEX(LINEST(_xlfn._xlws.FILTER('D) Ertrag kompr. Bestandeshöhe'!$V$5:$V$999,('D) Ertrag kompr. Bestandeshöhe'!$J$5:$J$999=W7)*('D) Ertrag kompr. Bestandeshöhe'!$K$5:$K$999<>"")*('D) Ertrag kompr. Bestandeshöhe'!$V$5:$V$999<>"")), _xlfn._xlws.FILTER('D) Ertrag kompr. Bestandeshöhe'!$K$5:$K$999,('D) Ertrag kompr. Bestandeshöhe'!$J$5:$J$999=W7)*('D) Ertrag kompr. Bestandeshöhe'!$K$5:$K$999<>"")*('D) Ertrag kompr. Bestandeshöhe'!$V$5:$V$999<>"")), TRUE, FALSE), 1))+(INDEX(LINEST(_xlfn._xlws.FILTER('D) Ertrag kompr. Bestandeshöhe'!$V$5:$V$999,('D) Ertrag kompr. Bestandeshöhe'!$J$5:$J$999=W7)*('D) Ertrag kompr. Bestandeshöhe'!$K$5:$K$999<>"")*('D) Ertrag kompr. Bestandeshöhe'!$V$5:$V$999<>"")), _xlfn._xlws.FILTER('D) Ertrag kompr. Bestandeshöhe'!$K$5:$K$999,('D) Ertrag kompr. Bestandeshöhe'!$J$5:$J$999=W7)*('D) Ertrag kompr. Bestandeshöhe'!$K$5:$K$999<>"")*('D) Ertrag kompr. Bestandeshöhe'!$V$5:$V$999<>"")), TRUE, FALSE), 2)),0),"")} | Z7: {=IFERROR(AVERAGE(_xlfn._xlws.FILTER('D) Ertrag kompr. Bestandeshöhe'!$O$5:$O$999,('D) Ertrag kompr. Bestandeshöhe'!$J$5:$J$999=$W7)*('D) Ertrag kompr. Bestandeshöhe'!$O$5:$O$999<>""))),18)} -> 18 | AB7: 70 | AC7: Knospen | AD7: =IFERROR(IF(AND(G7='F) Hilfsrechnung'!$I$4,J7>0),J7,IF(AND(G7='F) Hilfsrechnung'!$I$6,Y7>0),Y7,IF(AND(G7='F) Hilfsrechnung'!$I$5,V7>0),V7,""))),"") -> 30.352941 | AE7: =IFERROR(IF(ISNUMBER(AD7),AD7,"")/IF(ISNUMBER(AI7),AI7,IF(ISNUMBER(U7),U7,IF(ISNUMBER(Z7),Z7,18)))*100,"") -> 178.54671 | AF7: =IF(AG7<>"",'F) Hilfsrechnung'!$K$4/(AG7/AD7),"") -> 15.004774 | AG7: =IF(AND(ISNUMBER(AB7),AD7<>""),((INDEX('F) Hilfsrechnung'!$A$2:$B$5,MATCH(AC7,'F) Hilfsrechnung'!$A$2:$A$5,0),2)*AB7/100)+('F) Hilfsrechnung'!$B$7*(100-AB7)/100))*AD7,"") -> 89.006965 | AI7: 17 | AJ7: 3.25 | AL7: =IF(AND(ISNUMBER(AJ7),AK7=""),ROUND('F) Hilfsrechnung'!$K$4/AJ7,0),IF(AND(ISNUMBER(AJ7),ISNUMBER(AK7)),ROUND(AK7/AJ7,0),"")) -> 14 | AM7: =IF(AND(ISNUMBER(Q7),ISNUMBER(AI7)),Q7*AI7/100,IF(AD7>0,AD7,"")) -> 30.6 | AN7: =IF(AND(ISNUMBER(AJ7),ISNUMBER(AM7)),ROUND(AM7*(AJ7/100)*100,0),"") -> 99
A8: 3 | J8: =IFERROR(IF(ISNUMBER(I8),I8*IF(ISNUMBER(U8),U8,18)/100,""),"") | P8: =IF(AND(ISNUMBER(K8),ISNUMBER(L8),G8="A.3) Quadratmeterschnitte"),AVERAGE(L8:O8)*(1/K8),"") | Q8: =IF(ISNUMBER(P8),P8*0.9*100,"") | U8: =IF(AND(ISNUMBER(R8),ISNUMBER(S8),ISNUMBER(T8)),((T8-R8)/(S8-R8))*100,"") | V8: =IF(AND(ISNUMBER(Q8), U8=""), Q8*(18/100), IF(AND(ISNUMBER(Q8), ISNUMBER(U8)), Q8*(U8/100), "")) | Y8: {=IF(AND(G8="A.5) kompr. Bestandeshöhe",W8<>"",X8>0),ROUND(X8*(INDEX(LINEST(_xlfn._xlws.FILTER('D) Ertrag kompr. Bestandeshöhe'!$V$5:$V$999,('D) Ertrag kompr. Bestandeshöhe'!$J$5:$J$999=W8)*('D) Ertrag kompr. Bestandeshöhe'!$K$5:$K$999<>"")*('D) Ertrag kompr. Bestandeshöhe'!$V$5:$V$999<>"")), _xlfn._xlws.FILTER('D) Ertrag kompr. Bestandeshöhe'!$K$5:$K$999,('D) Ertrag kompr. Bestandeshöhe'!$J$5:$J$999=W8)*('D) Ertrag kompr. Bestandeshöhe'!$K$5:$K$999<>"")*('D) Ertrag kompr. Bestandeshöhe'!$V$5:$V$999<>"")), TRUE, FALSE), 1))+(INDEX(LINEST(_xlfn._xlws.FILTER('D) Ertrag kompr. Bestandeshöhe'!$V$5:$V$999,('D) Ertrag kompr. Bestandeshöhe'!$J$5:$J$999=W8)*('D) Ertrag kompr. Bestandeshöhe'!$K$5:$K$999<>"")*('D) Ertrag kompr. Bestandeshöhe'!$V$5:$V$999<>"")), _xlfn._xlws.FILTER('D) Ertrag kompr. Bestandeshöhe'!$K$5:$K$999,('D) Ertrag kompr. Bestandeshöhe'!$J$5:$J$999=W8)*('D) Ertrag kompr. Bestandeshöhe'!$K$5:$K$999<>"")*('D) Ertrag kompr. Bestandeshöhe'!$V$5:$V$999<>"")), TRUE, FALSE), 2)),0),"")} | Z8: {=IFERROR(AVERAGE(_xlfn._xlws.FILTER('D) Ertrag kompr. Bestandeshöhe'!$O$5:$O$999,('D) Ertrag kompr. Bestandeshöhe'!$J$5:$J$999=$W8)*('D) Ertrag kompr. Bestandeshöhe'!$O$5:$O$999<>""))),18)} -> 18 | AD8: =IFERROR(IF(AND(G8='F) Hilfsrechnung'!$I$4,J8>0),J8,IF(AND(G8='F) Hilfsrechnung'!$I$6,Y8>0),Y8,IF(AND(G8='F) Hilfsrechnung'!$I$5,V8>0),V8,""))),"") | AE8: =IFERROR(IF(ISNUMBER(AD8),AD8,"")/IF(ISNUMBER(AI8),AI8,IF(ISNUMBER(U8),U8,IF(ISNUMBER(Z8),Z8,18)))*100,"") | AF8: =IF(AG8<>"",'F) Hilfsrechnung'!$K$4/(AG8/AD8),"") | AG8: =IF(AND(ISNUMBER(AB8),AD8<>""),((INDEX('F) Hilfsrechnung'!$A$2:$B$5,MATCH(AC8,'F) Hilfsrechnung'!$A$2:$A$5,0),2)*AB8/100)+('F) Hilfsrechnung'!$B$7*(100-AB8)/100))*AD8,"") | AL8: =IF(AND(ISNUMBER(AJ8),AK8=""),ROUND('F) Hilfsrechnung'!$K$4/AJ8,0),IF(AND(ISNUMBER(AJ8),ISNUMBER(AK8)),ROUND(AK8/AJ8,0),"")) | AM8: =IF(AND(ISNUMBER(Q8),ISNUMBER(AI8)),Q8*AI8/100,IF(AD8>0,AD8,"")) | AN8: =IF(AND(ISNUMBER(AJ8),ISNUMBER(AM8)),ROUND(AM8*(AJ8/100)*100,0),"")
A9: 4 | J9: =IFERROR(IF(ISNUMBER(I9),I9*IF(ISNUMBER(U9),U9,18)/100,""),"") | P9: =IF(AND(ISNUMBER(K9),ISNUMBER(L9),G9="A.3) Quadratmeterschnitte"),AVERAGE(L9:O9)*(1/K9),"") | Q9: =IF(ISNUMBER(P9),P9*0.9*100,"") | U9: =IF(AND(ISNUMBER(R9),ISNUMBER(S9),ISNUMBER(T9)),((T9-R9)/(S9-R9))*100,"") | V9: =IF(AND(ISNUMBER(Q9), U9=""), Q9*(18/100), IF(AND(ISNUMBER(Q9), ISNUMBER(U9)), Q9*(U9/100), "")) | Y9: {=IF(AND(G9="A.5) kompr. Bestandeshöhe",W9<>"",X9>0),ROUND(X9*(INDEX(LINEST(_xlfn._xlws.FILTER('D) Ertrag kompr. Bestandeshöhe'!$V$5:$V$999,('D) Ertrag kompr. Bestandeshöhe'!$J$5:$J$999=W9)*('D) Ertrag kompr. Bestandeshöhe'!$K$5:$K$999<>"")*('D) Ertrag kompr. Bestandeshöhe'!$V$5:$V$999<>"")), _xlfn._xlws.FILTER('D) Ertrag kompr. Bestandeshöhe'!$K$5:$K$999,('D) Ertrag kompr. Bestandeshöhe'!$J$5:$J$999=W9)*('D) Ertrag kompr. Bestandeshöhe'!$K$5:$K$999<>"")*('D) Ertrag kompr. Bestandeshöhe'!$V$5:$V$999<>"")), TRUE, FALSE), 1))+(INDEX(LINEST(_xlfn._xlws.FILTER('D) Ertrag kompr. Bestandeshöhe'!$V$5:$V$999,('D) Ertrag kompr. Bestandeshöhe'!$J$5:$J$999=W9)*('D) Ertrag kompr. Bestandeshöhe'!$K$5:$K$999<>"")*('D) Ertrag kompr. Bestandeshöhe'!$V$5:$V$999<>"")), _xlfn._xlws.FILTER('D) Ertrag kompr. Bestandeshöhe'!$K$5:$K$999,('D) Ertrag kompr. Bestandeshöhe'!$J$5:$J$999=W9)*('D) Ertrag kompr. Bestandeshöhe'!$K$5:$K$999<>"")*('D) Ertrag kompr. Bestandeshöhe'!$V$5:$V$999<>"")), TRUE, FALSE), 2)),0),"")} | Z9: {=IFERROR(AVERAGE(_xlfn._xlws.FILTER('D) Ertrag kompr. Bestandeshöhe'!$O$5:$O$999,('D) Ertrag kompr. Bestandeshöhe'!$J$5:$J$999=$W9)*('D) Ertrag kompr. Bestandeshöhe'!$O$5:$O$999<>""))),18)} -> 18 | AD9: =IFERROR(IF(AND(G9='F) Hilfsrechnung'!$I$4,J9>0),J9,IF(AND(G9='F) Hilfsrechnung'!$I$6,Y9>0),Y9,IF(AND(G9='F) Hilfsrechnung'!$I$5,V9>0),V9,""))),"") | AE9: =IFERROR(IF(ISNUMBER(AD9),AD9,"")/IF(ISNUMBER(AI9),AI9,IF(ISNUMBER(U9),U9,IF(ISNUMBER(Z9),Z9,18)))*100,"") | AF9: =IF(AG9<>"",'F) Hilfsrechnung'!$K$4/(AG9/AD9),"") | AG9: =IF(AND(ISNUMBER(AB9),AD9<>""),((INDEX('F) Hilfsrechnung'!$A$2:$B$5,MATCH(AC9,'F) Hilfsrechnung'!$A$2:$A$5,0),2)*AB9/100)+('F) Hilfsrechnung'!$B$7*(100-AB9)/100))*AD9,"") | AL9: =IF(AND(ISNUMBER(AJ9),AK9=""),ROUND('F) Hilfsrechnung'!$K$4/AJ9,0),IF(AND(ISNUMBER(AJ9),ISNUMBER(AK9)),ROUND(AK9/AJ9,0),"")) | AM9: =IF(AND(ISNUMBER(Q9),ISNUMBER(AI9)),Q9*AI9/100,IF(AD9>0,AD9,"")) | AN9: =IF(AND(ISNUMBER(AJ9),ISNUMBER(AM9)),ROUND(AM9*(AJ9/100)*100,0),"")
A10: 5 | J10: =IFERROR(IF(ISNUMBER(I10),I10*IF(ISNUMBER(U10),U10,18)/100,""),"") | P10: =IF(AND(ISNUMBER(K10),ISNUMBER(L10),G10="A.3) Quadratmeterschnitte"),AVERAGE(L10:O10)*(1/K10),"") | Q10: =IF(ISNUMBER(P10),P10*0.9*100,"") | U10: =IF(AND(ISNUMBER(R10),ISNUMBER(S10),ISNUMBER(T10)),((T10-R10)/(S10-R10))*100,"") | V10: =IF(AND(ISNUMBER(Q10), U10=""), Q10*(18/100), IF(AND(ISNUMBER(Q10), ISNUMBER(U10)), Q10*(U10/100), "")) | Y10: {=IF(AND(G10="A.5) kompr. Bestandeshöhe",W10<>"",X10>0),ROUND(X10*(INDEX(LINEST(_xlfn._xlws.FILTER('D) Ertrag kompr. Bestandeshöhe'!$V$5:$V$999,('D) Ertrag kompr. Bestandeshöhe'!$J$5:$J$999=W10)*('D) Ertrag kompr. Bestandeshöhe'!$K$5:$K$999<>"")*('D) Ertrag kompr. Bestandeshöhe'!$V$5:$V$999<>"")), _xlfn._xlws.FILTER('D) Ertrag kompr. Bestandeshöhe'!$K$5:$K$999,('D) Ertrag kompr. Bestandeshöhe'!$J$5:$J$999=W10)*('D) Ertrag kompr. Bestandeshöhe'!$K$5:$K$999<>"")*('D) Ertrag kompr. Bestandeshöhe'!$V$5:$V$999<>"")), TRUE, FALSE), 1))+(INDEX(LINEST(_xlfn._xlws.FILTER('D) Ertrag kompr. Bestandeshöhe'!$V$5:$V$999,('D) Ertrag kompr. Bestandeshöhe'!$J$5:$J$999=W10)*('D) Ertrag kompr. Bestandeshöhe'!$K$5:$K$999<>"")*('D) Ertrag kompr. Bestandeshöhe'!$V$5:$V$999<>"")), _xlfn._xlws.FILTER('D) Ertrag kompr. Bestandeshöhe'!$K$5:$K$999,('D) Ertrag kompr. Bestandeshöhe'!$J$5:$J$999=W10)*('D) Ertrag kompr. Bestandeshöhe'!$K$5:$K$999<>"")*('D) Ertrag kompr. Bestandeshöhe'!$V$5:$V$999<>"")), TRUE, FALSE), 2)),0),"")} | Z10: {=IFERROR(AVERAGE(_xlfn._xlws.FILTER('D) Ertrag kompr. Bestandeshöhe'!$O$5:$O$999,('D) Ertrag kompr. Bestandeshöhe'!$J$5:$J$999=$W10)*('D) Ertrag kompr. Bestandeshöhe'!$O$5:$O$999<>""))),18)} -> 18 | AD10: =IFERROR(IF(AND(G10='F) Hilfsrechnung'!$I$4,J10>0),J10,IF(AND(G10='F) Hilfsrechnung'!$I$6,Y10>0),Y10,IF(AND(G10='F) Hilfsrechnung'!$I$5,V10>0),V10,""))),"") | AE10: =IFERROR(IF(ISNUMBER(AD10),AD10,"")/IF(ISNUMBER(AI10),AI10,IF(ISNUMBER(U10),U10,IF(ISNUMBER(Z10),Z10,18)))*100,"") | AF10: =IF(AG10<>"",'F) Hilfsrechnung'!$K$4/(AG10/AD10),"") | AG10: =IF(AND(ISNUMBER(AB10),AD10<>""),((INDEX('F) Hilfsrechnung'!$A$2:$B$5,MATCH(AC10,'F) Hilfsrechnung'!$A$2:$A$5,0),2)*AB10/100)+('F) Hilfsrechnung'!$B$7*(100-AB10)/100))*AD10,"") | AL10: =IF(AND(ISNUMBER(AJ10),AK10=""),ROUND('F) Hilfsrechnung'!$K$4/AJ10,0),IF(AND(ISNUMBER(AJ10),ISNUMBER(AK10)),ROUND(AK10/AJ10,0),"")) | AM10: =IF(AND(ISNUMBER(Q10),ISNUMBER(AI10)),Q10*AI10/100,IF(AD10>0,AD10,"")) | AN10: =IF(AND(ISNUMBER(AJ10),ISNUMBER(AM10)),ROUND(AM10*(AJ10/100)*100,0),"")
A11: 6 | J11: =IFERROR(IF(ISNUMBER(I11),I11*IF(ISNUMBER(U11),U11,18)/100,""),"") | P11: =IF(AND(ISNUMBER(K11),ISNUMBER(L11),G11="A.3) Quadratmeterschnitte"),AVERAGE(L11:O11)*(1/K11),"") | Q11: =IF(ISNUMBER(P11),P11*0.9*100,"") | U11: =IF(AND(ISNUMBER(R11),ISNUMBER(S11),ISNUMBER(T11)),((T11-R11)/(S11-R11))*100,"") | V11: =IF(AND(ISNUMBER(Q11), U11=""), Q11*(18/100), IF(AND(ISNUMBER(Q11), ISNUMBER(U11)), Q11*(U11/100), "")) | Y11: {=IF(AND(G11="A.5) kompr. Bestandeshöhe",W11<>"",X11>0),ROUND(X11*(INDEX(LINEST(_xlfn._xlws.FILTER('D) Ertrag kompr. Bestandeshöhe'!$V$5:$V$999,('D) Ertrag kompr. Bestandeshöhe'!$J$5:$J$999=W11)*('D) Ertrag kompr. Bestandeshöhe'!$K$5:$K$999<>"")*('D) Ertrag kompr. Bestandeshöhe'!$V$5:$V$999<>"")), _xlfn._xlws.FILTER('D) Ertrag kompr. Bestandeshöhe'!$K$5:$K$999,('D) Ertrag kompr. Bestandeshöhe'!$J$5:$J$999=W11)*('D) Ertrag kompr. Bestandeshöhe'!$K$5:$K$999<>"")*('D) Ertrag kompr. Bestandeshöhe'!$V$5:$V$999<>"")), TRUE, FALSE), 1))+(INDEX(LINEST(_xlfn._xlws.FILTER('D) Ertrag kompr. Bestandeshöhe'!$V$5:$V$999,('D) Ertrag kompr. Bestandeshöhe'!$J$5:$J$999=W11)*('D) Ertrag kompr. Bestandeshöhe'!$K$5:$K$999<>"")*('D) Ertrag kompr. Bestandeshöhe'!$V$5:$V$999<>"")), _xlfn._xlws.FILTER('D) Ertrag kompr. Bestandeshöhe'!$K$5:$K$999,('D) Ertrag kompr. Bestandeshöhe'!$J$5:$J$999=W11)*('D) Ertrag kompr. Bestandeshöhe'!$K$5:$K$999<>"")*('D) Ertrag kompr. Bestandeshöhe'!$V$5:$V$999<>"")), TRUE, FALSE), 2)),0),"")} | Z11: {=IFERROR(AVERAGE(_xlfn._xlws.FILTER('D) Ertrag kompr. Bestandeshöhe'!$O$5:$O$999,('D) Ertrag kompr. Bestandeshöhe'!$J$5:$J$999=$W11)*('D) Ertrag kompr. Bestandeshöhe'!$O$5:$O$999<>""))),18)} -> 18 | AD11: =IFERROR(IF(AND(G11='F) Hilfsrechnung'!$I$4,J11>0),J11,IF(AND(G11='F) Hilfsrechnung'!$I$6,Y11>0),Y11,IF(AND(G11='F) Hilfsrechnung'!$I$5,V11>0),V11,""))),"") | AE11: =IFERROR(IF(ISNUMBER(AD11),AD11,"")/IF(ISNUMBER(AI11),AI11,IF(ISNUMBER(U11),U11,IF(ISNUMBER(Z11),Z11,18)))*100,"") | AF11: =IF(AG11<>"",'F) Hilfsrechnung'!$K$4/(AG11/AD11),"") | AG11: =IF(AND(ISNUMBER(AB11),AD11<>""),((INDEX('F) Hilfsrechnung'!$A$2:$B$5,MATCH(AC11,'F) Hilfsrechnung'!$A$2:$A$5,0),2)*AB11/100)+('F) Hilfsrechnung'!$B$7*(100-AB11)/100))*AD11,"") | AL11: =IF(AND(ISNUMBER(AJ11),AK11=""),ROUND('F) Hilfsrechnung'!$K$4/AJ11,0),IF(AND(ISNUMBER(AJ11),ISNUMBER(AK11)),ROUND(AK11/AJ11,0),"")) | AM11: =IF(AND(ISNUMBER(Q11),ISNUMBER(AI11)),Q11*AI11/100,IF(AD11>0,AD11,"")) | AN11: =IF(AND(ISNUMBER(AJ11),ISNUMBER(AM11)),ROUND(AM11*(AJ11/100)*100,0),"")
A12: 7 | J12: =IFERROR(IF(ISNUMBER(I12),I12*IF(ISNUMBER(U12),U12,18)/100,""),"") | P12: =IF(AND(ISNUMBER(K12),ISNUMBER(L12),G12="A.3) Quadratmeterschnitte"),AVERAGE(L12:O12)*(1/K12),"") | Q12: =IF(ISNUMBER(P12),P12*0.9*100,"") | U12: =IF(AND(ISNUMBER(R12),ISNUMBER(S12),ISNUMBER(T12)),((T12-R12)/(S12-R12))*100,"") | V12: =IF(AND(ISNUMBER(Q12), U12=""), Q12*(18/100), IF(AND(ISNUMBER(Q12), ISNUMBER(U12)), Q12*(U12/100), "")) | Y12: {=IF(AND(G12="A.5) kompr. Bestandeshöhe",W12<>"",X12>0),ROUND(X12*(INDEX(LINEST(_xlfn._xlws.FILTER('D) Ertrag kompr. Bestandeshöhe'!$V$5:$V$999,('D) Ertrag kompr. Bestandeshöhe'!$J$5:$J$999=W12)*('D) Ertrag kompr. Bestandeshöhe'!$K$5:$K$999<>"")*('D) Ertrag kompr. Bestandeshöhe'!$V$5:$V$999<>"")), _xlfn._xlws.FILTER('D) Ertrag kompr. Bestandeshöhe'!$K$5:$K$999,('D) Ertrag kompr. Bestandeshöhe'!$J$5:$J$999=W12)*('D) Ertrag kompr. Bestandeshöhe'!$K$5:$K$999<>"")*('D) Ertrag kompr. Bestandeshöhe'!$V$5:$V$999<>"")), TRUE, FALSE), 1))+(INDEX(LINEST(_xlfn._xlws.FILTER('D) Ertrag kompr. Bestandeshöhe'!$V$5:$V$999,('D) Ertrag kompr. Bestandeshöhe'!$J$5:$J$999=W12)*('D) Ertrag kompr. Bestandeshöhe'!$K$5:$K$999<>"")*('D) Ertrag kompr. Bestandeshöhe'!$V$5:$V$999<>"")), _xlfn._xlws.FILTER('D) Ertrag kompr. Bestandeshöhe'!$K$5:$K$999,('D) Ertrag kompr. Bestandeshöhe'!$J$5:$J$999=W12)*('D) Ertrag kompr. Bestandeshöhe'!$K$5:$K$999<>"")*('D) Ertrag kompr. Bestandeshöhe'!$V$5:$V$999<>"")), TRUE, FALSE), 2)),0),"")} | Z12: {=IFERROR(AVERAGE(_xlfn._xlws.FILTER('D) Ertrag kompr. Bestandeshöhe'!$O$5:$O$999,('D) Ertrag kompr. Bestandeshöhe'!$J$5:$J$999=$W12)*('D) Ertrag kompr. Bestandeshöhe'!$O$5:$O$999<>""))),18)} -> 18 | AD12: =IFERROR(IF(AND(G12='F) Hilfsrechnung'!$I$4,J12>0),J12,IF(AND(G12='F) Hilfsrechnung'!$I$6,Y12>0),Y12,IF(AND(G12='F) Hilfsrechnung'!$I$5,V12>0),V12,""))),"") | AE12: =IFERROR(IF(ISNUMBER(AD12),AD12,"")/IF(ISNUMBER(AI12),AI12,IF(ISNUMBER(U12),U12,IF(ISNUMBER(Z12),Z12,18)))*100,"") | AF12: =IF(AG12<>"",'F) Hilfsrechnung'!$K$4/(AG12/AD12),"") | AG12: =IF(AND(ISNUMBER(AB12),AD12<>""),((INDEX('F) Hilfsrechnung'!$A$2:$B$5,MATCH(AC12,'F) Hilfsrechnung'!$A$2:$A$5,0),2)*AB12/100)+('F) Hilfsrechnung'!$B$7*(100-AB12)/100))*AD12,"") | AL12: =IF(AND(ISNUMBER(AJ12),AK12=""),ROUND('F) Hilfsrechnung'!$K$4/AJ12,0),IF(AND(ISNUMBER(AJ12),ISNUMBER(AK12)),ROUND(AK12/AJ12,0),"")) | AM12: =IF(AND(ISNUMBER(Q12),ISNUMBER(AI12)),Q12*AI12/100,IF(AD12>0,AD12,"")) | AN12: =IF(AND(ISNUMBER(AJ12),ISNUMBER(AM12)),ROUND(AM12*(AJ12/100)*100,0),"")
A13: 8 | J13: =IFERROR(IF(ISNUMBER(I13),I13*IF(ISNUMBER(U13),U13,18)/100,""),"") | P13: =IF(AND(ISNUMBER(K13),ISNUMBER(L13),G13="A.3) Quadratmeterschnitte"),AVERAGE(L13:O13)*(1/K13),"") | Q13: =IF(ISNUMBER(P13),P13*0.9*100,"") | U13: =IF(AND(ISNUMBER(R13),ISNUMBER(S13),ISNUMBER(T13)),((T13-R13)/(S13-R13))*100,"") | V13: =IF(AND(ISNUMBER(Q13), U13=""), Q13*(18/100), IF(AND(ISNUMBER(Q13), ISNUMBER(U13)), Q13*(U13/100), "")) | Y13: {=IF(AND(G13="A.5) kompr. Bestandeshöhe",W13<>"",X13>0),ROUND(X13*(INDEX(LINEST(_xlfn._xlws.FILTER('D) Ertrag kompr. Bestandeshöhe'!$V$5:$V$999,('D) Ertrag kompr. Bestandeshöhe'!$J$5:$J$999=W13)*('D) Ertrag kompr. Bestandeshöhe'!$K$5:$K$999<>"")*('D) Ertrag kompr. Bestandeshöhe'!$V$5:$V$999<>"")), _xlfn._xlws.FILTER('D) Ertrag kompr. Bestandeshöhe'!$K$5:$K$999,('D) Ertrag kompr. Bestandeshöhe'!$J$5:$J$999=W13)*('D) Ertrag kompr. Bestandeshöhe'!$K$5:$K$999<>"")*('D) Ertrag kompr. Bestandeshöhe'!$V$5:$V$999<>"")), TRUE, FALSE), 1))+(INDEX(LINEST(_xlfn._xlws.FILTER('D) Ertrag kompr. Bestandeshöhe'!$V$5:$V$999,('D) Ertrag kompr. Bestandeshöhe'!$J$5:$J$999=W13)*('D) Ertrag kompr. Bestandeshöhe'!$K$5:$K$999<>"")*('D) Ertrag kompr. Bestandeshöhe'!$V$5:$V$999<>"")), _xlfn._xlws.FILTER('D) Ertrag kompr. Bestandeshöhe'!$K$5:$K$999,('D) Ertrag kompr. Bestandeshöhe'!$J$5:$J$999=W13)*('D) Ertrag kompr. Bestandeshöhe'!$K$5:$K$999<>"")*('D) Ertrag kompr. Bestandeshöhe'!$V$5:$V$999<>"")), TRUE, FALSE), 2)),0),"")} | Z13: {=IFERROR(AVERAGE(_xlfn._xlws.FILTER('D) Ertrag kompr. Bestandeshöhe'!$O$5:$O$999,('D) Ertrag kompr. Bestandeshöhe'!$J$5:$J$999=$W13)*('D) Ertrag kompr. Bestandeshöhe'!$O$5:$O$999<>""))),18)} -> 18 | AD13: =IFERROR(IF(AND(G13='F) Hilfsrechnung'!$I$4,J13>0),J13,IF(AND(G13='F) Hilfsrechnung'!$I$6,Y13>0),Y13,IF(AND(G13='F) Hilfsrechnung'!$I$5,V13>0),V13,""))),"") | AE13: =IFERROR(IF(ISNUMBER(AD13),AD13,"")/IF(ISNUMBER(AI13),AI13,IF(ISNUMBER(U13),U13,IF(ISNUMBER(Z13),Z13,18)))*100,"") | AF13: =IF(AG13<>"",'F) Hilfsrechnung'!$K$4/(AG13/AD13),"") | AG13: =IF(AND(ISNUMBER(AB13),AD13<>""),((INDEX('F) Hilfsrechnung'!$A$2:$B$5,MATCH(AC13,'F) Hilfsrechnung'!$A$2:$A$5,0),2)*AB13/100)+('F) Hilfsrechnung'!$B$7*(100-AB13)/100))*AD13,"") | AL13: =IF(AND(ISNUMBER(AJ13),AK13=""),ROUND('F) Hilfsrechnung'!$K$4/AJ13,0),IF(AND(ISNUMBER(AJ13),ISNUMBER(AK13)),ROUND(AK13/AJ13,0),"")) | AM13: =IF(AND(ISNUMBER(Q13),ISNUMBER(AI13)),Q13*AI13/100,IF(AD13>0,AD13,"")) | AN13: =IF(AND(ISNUMBER(AJ13),ISNUMBER(AM13)),ROUND(AM13*(AJ13/100)*100,0),"")
A14: 9 | J14: =IFERROR(IF(ISNUMBER(I14),I14*IF(ISNUMBER(U14),U14,18)/100,""),"") | P14: =IF(AND(ISNUMBER(K14),ISNUMBER(L14),G14="A.3) Quadratmeterschnitte"),AVERAGE(L14:O14)*(1/K14),"") | Q14: =IF(ISNUMBER(P14),P14*0.9*100,"") | U14: =IF(AND(ISNUMBER(R14),ISNUMBER(S14),ISNUMBER(T14)),((T14-R14)/(S14-R14))*100,"") | V14: =IF(AND(ISNUMBER(Q14), U14=""), Q14*(18/100), IF(AND(ISNUMBER(Q14), ISNUMBER(U14)), Q14*(U14/100), "")) | Y14: {=IF(AND(G14="A.5) kompr. Bestandeshöhe",W14<>"",X14>0),ROUND(X14*(INDEX(LINEST(_xlfn._xlws.FILTER('D) Ertrag kompr. Bestandeshöhe'!$V$5:$V$999,('D) Ertrag kompr. Bestandeshöhe'!$J$5:$J$999=W14)*('D) Ertrag kompr. Bestandeshöhe'!$K$5:$K$999<>"")*('D) Ertrag kompr. Bestandeshöhe'!$V$5:$V$999<>"")), _xlfn._xlws.FILTER('D) Ertrag kompr. Bestandeshöhe'!$K$5:$K$999,('D) Ertrag kompr. Bestandeshöhe'!$J$5:$J$999=W14)*('D) Ertrag kompr. Bestandeshöhe'!$K$5:$K$999<>"")*('D) Ertrag kompr. Bestandeshöhe'!$V$5:$V$999<>"")), TRUE, FALSE), 1))+(INDEX(LINEST(_xlfn._xlws.FILTER('D) Ertrag kompr. Bestandeshöhe'!$V$5:$V$999,('D) Ertrag kompr. Bestandeshöhe'!$J$5:$J$999=W14)*('D) Ertrag kompr. Bestandeshöhe'!$K$5:$K$999<>"")*('D) Ertrag kompr. Bestandeshöhe'!$V$5:$V$999<>"")), _xlfn._xlws.FILTER('D) Ertrag kompr. Bestandeshöhe'!$K$5:$K$999,('D) Ertrag kompr. Bestandeshöhe'!$J$5:$J$999=W14)*('D) Ertrag kompr. Bestandeshöhe'!$K$5:$K$999<>"")*('D) Ertrag kompr. Bestandeshöhe'!$V$5:$V$999<>"")), TRUE, FALSE), 2)),0),"")} | Z14: {=IFERROR(AVERAGE(_xlfn._xlws.FILTER('D) Ertrag kompr. Bestandeshöhe'!$O$5:$O$999,('D) Ertrag kompr. Bestandeshöhe'!$J$5:$J$999=$W14)*('D) Ertrag kompr. Bestandeshöhe'!$O$5:$O$999<>""))),18)} -> 18 | AD14: =IFERROR(IF(AND(G14='F) Hilfsrechnung'!$I$4,J14>0),J14,IF(AND(G14='F) Hilfsrechnung'!$I$6,Y14>0),Y14,IF(AND(G14='F) Hilfsrechnung'!$I$5,V14>0),V14,""))),"") | AE14: =IFERROR(IF(ISNUMBER(AD14),AD14,"")/IF(ISNUMBER(AI14),AI14,IF(ISNUMBER(U14),U14,IF(ISNUMBER(Z14),Z14,18)))*100,"") | AF14: =IF(AG14<>"",'F) Hilfsrechnung'!$K$4/(AG14/AD14),"") | AG14: =IF(AND(ISNUMBER(AB14),AD14<>""),((INDEX('F) Hilfsrechnung'!$A$2:$B$5,MATCH(AC14,'F) Hilfsrechnung'!$A$2:$A$5,0),2)*AB14/100)+('F) Hilfsrechnung'!$B$7*(100-AB14)/100))*AD14,"") | AL14: =IF(AND(ISNUMBER(AJ14),AK14=""),ROUND('F) Hilfsrechnung'!$K$4/AJ14,0),IF(AND(ISNUMBER(AJ14),ISNUMBER(AK14)),ROUND(AK14/AJ14,0),"")) | AM14: =IF(AND(ISNUMBER(Q14),ISNUMBER(AI14)),Q14*AI14/100,IF(AD14>0,AD14,"")) | AN14: =IF(AND(ISNUMBER(AJ14),ISNUMBER(AM14)),ROUND(AM14*(AJ14/100)*100,0),"")
A15: 10 | J15: =IFERROR(IF(ISNUMBER(I15),I15*IF(ISNUMBER(U15),U15,18)/100,""),"") | P15: =IF(AND(ISNUMBER(K15),ISNUMBER(L15),G15="A.3) Quadratmeterschnitte"),AVERAGE(L15:O15)*(1/K15),"") | Q15: =IF(ISNUMBER(P15),P15*0.9*100,"") | U15: =IF(AND(ISNUMBER(R15),ISNUMBER(S15),ISNUMBER(T15)),((T15-R15)/(S15-R15))*100,"") | V15: =IF(AND(ISNUMBER(Q15), U15=""), Q15*(18/100), IF(AND(ISNUMBER(Q15), ISNUMBER(U15)), Q15*(U15/100), "")) | Y15: {=IF(AND(G15="A.5) kompr. Bestandeshöhe",W15<>"",X15>0),ROUND(X15*(INDEX(LINEST(_xlfn._xlws.FILTER('D) Ertrag kompr. Bestandeshöhe'!$V$5:$V$999,('D) Ertrag kompr. Bestandeshöhe'!$J$5:$J$999=W15)*('D) Ertrag kompr. Bestandeshöhe'!$K$5:$K$999<>"")*('D) Ertrag kompr. Bestandeshöhe'!$V$5:$V$999<>"")), _xlfn._xlws.FILTER('D) Ertrag kompr. Bestandeshöhe'!$K$5:$K$999,('D) Ertrag kompr. Bestandeshöhe'!$J$5:$J$999=W15)*('D) Ertrag kompr. Bestandeshöhe'!$K$5:$K$999<>"")*('D) Ertrag kompr. Bestandeshöhe'!$V$5:$V$999<>"")), TRUE, FALSE), 1))+(INDEX(LINEST(_xlfn._xlws.FILTER('D) Ertrag kompr. Bestandeshöhe'!$V$5:$V$999,('D) Ertrag kompr. Bestandeshöhe'!$J$5:$J$999=W15)*('D) Ertrag kompr. Bestandeshöhe'!$K$5:$K$999<>"")*('D) Ertrag kompr. Bestandeshöhe'!$V$5:$V$999<>"")), _xlfn._xlws.FILTER('D) Ertrag kompr. Bestandeshöhe'!$K$5:$K$999,('D) Ertrag kompr. Bestandeshöhe'!$J$5:$J$999=W15)*('D) Ertrag kompr. Bestandeshöhe'!$K$5:$K$999<>"")*('D) Ertrag kompr. Bestandeshöhe'!$V$5:$V$999<>"")), TRUE, FALSE), 2)),0),"")} | Z15: {=IFERROR(AVERAGE(_xlfn._xlws.FILTER('D) Ertrag kompr. Bestandeshöhe'!$O$5:$O$999,('D) Ertrag kompr. Bestandeshöhe'!$J$5:$J$999=$W15)*('D) Ertrag kompr. Bestandeshöhe'!$O$5:$O$999<>""))),18)} -> 18 | AD15: =IFERROR(IF(AND(G15='F) Hilfsrechnung'!$I$4,J15>0),J15,IF(AND(G15='F) Hilfsrechnung'!$I$6,Y15>0),Y15,IF(AND(G15='F) Hilfsrechnung'!$I$5,V15>0),V15,""))),"") | AE15: =IFERROR(IF(ISNUMBER(AD15),AD15,"")/IF(ISNUMBER(AI15),AI15,IF(ISNUMBER(U15),U15,IF(ISNUMBER(Z15),Z15,18)))*100,"") | AF15: =IF(AG15<>"",'F) Hilfsrechnung'!$K$4/(AG15/AD15),"") | AG15: =IF(AND(ISNUMBER(AB15),AD15<>""),((INDEX('F) Hilfsrechnung'!$A$2:$B$5,MATCH(AC15,'F) Hilfsrechnung'!$A$2:$A$5,0),2)*AB15/100)+('F) Hilfsrechnung'!$B$7*(100-AB15)/100))*AD15,"") | AL15: =IF(AND(ISNUMBER(AJ15),AK15=""),ROUND('F) Hilfsrechnung'!$K$4/AJ15,0),IF(AND(ISNUMBER(AJ15),ISNUMBER(AK15)),ROUND(AK15/AJ15,0),"")) | AM15: =IF(AND(ISNUMBER(Q15),ISNUMBER(AI15)),Q15*AI15/100,IF(AD15>0,AD15,"")) | AN15: =IF(AND(ISNUMBER(AJ15),ISNUMBER(AM15)),ROUND(AM15*(AJ15/100)*100,0),"")
A16: 11 | J16: =IFERROR(IF(ISNUMBER(I16),I16*IF(ISNUMBER(U16),U16,18)/100,""),"") | P16: =IF(AND(ISNUMBER(K16),ISNUMBER(L16),G16="A.3) Quadratmeterschnitte"),AVERAGE(L16:O16)*(1/K16),"") | Q16: =IF(ISNUMBER(P16),P16*0.9*100,"") | U16: =IF(AND(ISNUMBER(R16),ISNUMBER(S16),ISNUMBER(T16)),((T16-R16)/(S16-R16))*100,"") | V16: =IF(AND(ISNUMBER(Q16), U16=""), Q16*(18/100), IF(AND(ISNUMBER(Q16), ISNUMBER(U16)), Q16*(U16/100), "")) | Y16: {=IF(AND(G16="A.5) kompr. Bestandeshöhe",W16<>"",X16>0),ROUND(X16*(INDEX(LINEST(_xlfn._xlws.FILTER('D) Ertrag kompr. Bestandeshöhe'!$V$5:$V$999,('D) Ertrag kompr. Bestandeshöhe'!$J$5:$J$999=W16)*('D) Ertrag kompr. Bestandeshöhe'!$K$5:$K$999<>"")*('D) Ertrag kompr. Bestandeshöhe'!$V$5:$V$999<>"")), _xlfn._xlws.FILTER('D) Ertrag kompr. Bestandeshöhe'!$K$5:$K$999,('D) Ertrag kompr. Bestandeshöhe'!$J$5:$J$999=W16)*('D) Ertrag kompr. Bestandeshöhe'!$K$5:$K$999<>"")*('D) Ertrag kompr. Bestandeshöhe'!$V$5:$V$999<>"")), TRUE, FALSE), 1))+(INDEX(LINEST(_xlfn._xlws.FILTER('D) Ertrag kompr. Bestandeshöhe'!$V$5:$V$999,('D) Ertrag kompr. Bestandeshöhe'!$J$5:$J$999=W16)*('D) Ertrag kompr. Bestandeshöhe'!$K$5:$K$999<>"")*('D) Ertrag kompr. Bestandeshöhe'!$V$5:$V$999<>"")), _xlfn._xlws.FILTER('D) Ertrag kompr. Bestandeshöhe'!$K$5:$K$999,('D) Ertrag kompr. Bestandeshöhe'!$J$5:$J$999=W16)*('D) Ertrag kompr. Bestandeshöhe'!$K$5:$K$999<>"")*('D) Ertrag kompr. Bestandeshöhe'!$V$5:$V$999<>"")), TRUE, FALSE), 2)),0),"")} | Z16: {=IFERROR(AVERAGE(_xlfn._xlws.FILTER('D) Ertrag kompr. Bestandeshöhe'!$O$5:$O$999,('D) Ertrag kompr. Bestandeshöhe'!$J$5:$J$999=$W16)*('D) Ertrag kompr. Bestandeshöhe'!$O$5:$O$999<>""))),18)} -> 18 | AD16: =IFERROR(IF(AND(G16='F) Hilfsrechnung'!$I$4,J16>0),J16,IF(AND(G16='F) Hilfsrechnung'!$I$6,Y16>0),Y16,IF(AND(G16='F) Hilfsrechnung'!$I$5,V16>0),V16,""))),"") | AE16: =IFERROR(IF(ISNUMBER(AD16),AD16,"")/IF(ISNUMBER(AI16),AI16,IF(ISNUMBER(U16),U16,IF(ISNUMBER(Z16),Z16,18)))*100,"") | AF16: =IF(AG16<>"",'F) Hilfsrechnung'!$K$4/(AG16/AD16),"") | AG16: =IF(AND(ISNUMBER(AB16),AD16<>""),((INDEX('F) Hilfsrechnung'!$A$2:$B$5,MATCH(AC16,'F) Hilfsrechnung'!$A$2:$A$5,0),2)*AB16/100)+('F) Hilfsrechnung'!$B$7*(100-AB16)/100))*AD16,"") | AL16: =IF(AND(ISNUMBER(AJ16),AK16=""),ROUND('F) Hilfsrechnung'!$K$4/AJ16,0),IF(AND(ISNUMBER(AJ16),ISNUMBER(AK16)),ROUND(AK16/AJ16,0),"")) | AM16: =IF(AND(ISNUMBER(Q16),ISNUMBER(AI16)),Q16*AI16/100,IF(AD16>0,AD16,"")) | AN16: =IF(AND(ISNUMBER(AJ16),ISNUMBER(AM16)),ROUND(AM16*(AJ16/100)*100,0),"")
A17: 12 | J17: =IFERROR(IF(ISNUMBER(I17),I17*IF(ISNUMBER(U17),U17,18)/100,""),"") | P17: =IF(AND(ISNUMBER(K17),ISNUMBER(L17),G17="A.3) Quadratmeterschnitte"),AVERAGE(L17:O17)*(1/K17),"") | Q17: =IF(ISNUMBER(P17),P17*0.9*100,"") | U17: =IF(AND(ISNUMBER(R17),ISNUMBER(S17),ISNUMBER(T17)),((T17-R17)/(S17-R17))*100,"") | V17: =IF(AND(ISNUMBER(Q17), U17=""), Q17*(18/100), IF(AND(ISNUMBER(Q17), ISNUMBER(U17)), Q17*(U17/100), "")) | Y17: {=IF(AND(G17="A.5) kompr. Bestandeshöhe",W17<>"",X17>0),ROUND(X17*(INDEX(LINEST(_xlfn._xlws.FILTER('D) Ertrag kompr. Bestandeshöhe'!$V$5:$V$999,('D) Ertrag kompr. Bestandeshöhe'!$J$5:$J$999=W17)*('D) Ertrag kompr. Bestandeshöhe'!$K$5:$K$999<>"")*('D) Ertrag kompr. Bestandeshöhe'!$V$5:$V$999<>"")), _xlfn._xlws.FILTER('D) Ertrag kompr. Bestandeshöhe'!$K$5:$K$999,('D) Ertrag kompr. Bestandeshöhe'!$J$5:$J$999=W17)*('D) Ertrag kompr. Bestandeshöhe'!$K$5:$K$999<>"")*('D) Ertrag kompr. Bestandeshöhe'!$V$5:$V$999<>"")), TRUE, FALSE), 1))+(INDEX(LINEST(_xlfn._xlws.FILTER('D) Ertrag kompr. Bestandeshöhe'!$V$5:$V$999,('D) Ertrag kompr. Bestandeshöhe'!$J$5:$J$999=W17)*('D) Ertrag kompr. Bestandeshöhe'!$K$5:$K$999<>"")*('D) Ertrag kompr. Bestandeshöhe'!$V$5:$V$999<>"")), _xlfn._xlws.FILTER('D) Ertrag kompr. Bestandeshöhe'!$K$5:$K$999,('D) Ertrag kompr. Bestandeshöhe'!$J$5:$J$999=W17)*('D) Ertrag kompr. Bestandeshöhe'!$K$5:$K$999<>"")*('D) Ertrag kompr. Bestandeshöhe'!$V$5:$V$999<>"")), TRUE, FALSE), 2)),0),"")} | Z17: {=IFERROR(AVERAGE(_xlfn._xlws.FILTER('D) Ertrag kompr. Bestandeshöhe'!$O$5:$O$999,('D) Ertrag kompr. Bestandeshöhe'!$J$5:$J$999=$W17)*('D) Ertrag kompr. Bestandeshöhe'!$O$5:$O$999<>""))),18)} -> 18 | AD17: =IFERROR(IF(AND(G17='F) Hilfsrechnung'!$I$4,J17>0),J17,IF(AND(G17='F) Hilfsrechnung'!$I$6,Y17>0),Y17,IF(AND(G17='F) Hilfsrechnung'!$I$5,V17>0),V17,""))),"") | AE17: =IFERROR(IF(ISNUMBER(AD17),AD17,"")/IF(ISNUMBER(AI17),AI17,IF(ISNUMBER(U17),U17,IF(ISNUMBER(Z17),Z17,18)))*100,"") | AF17: =IF(AG17<>"",'F) Hilfsrechnung'!$K$4/(AG17/AD17),"") | AG17: =IF(AND(ISNUMBER(AB17),AD17<>""),((INDEX('F) Hilfsrechnung'!$A$2:$B$5,MATCH(AC17,'F) Hilfsrechnung'!$A$2:$A$5,0),2)*AB17/100)+('F) Hilfsrechnung'!$B$7*(100-AB17)/100))*AD17,"") | AL17: =IF(AND(ISNUMBER(AJ17),AK17=""),ROUND('F) Hilfsrechnung'!$K$4/AJ17,0),IF(AND(ISNUMBER(AJ17),ISNUMBER(AK17)),ROUND(AK17/AJ17,0),"")) | AM17: =IF(AND(ISNUMBER(Q17),ISNUMBER(AI17)),Q17*AI17/100,IF(AD17>0,AD17,"")) | AN17: =IF(AND(ISNUMBER(AJ17),ISNUMBER(AM17)),ROUND(AM17*(AJ17/100)*100,0),"")
A18: 13 | J18: =IFERROR(IF(ISNUMBER(I18),I18*IF(ISNUMBER(U18),U18,18)/100,""),"") | P18: =IF(AND(ISNUMBER(K18),ISNUMBER(L18),G18="A.3) Quadratmeterschnitte"),AVERAGE(L18:O18)*(1/K18),"") | Q18: =IF(ISNUMBER(P18),P18*0.9*100,"") | U18: =IF(AND(ISNUMBER(R18),ISNUMBER(S18),ISNUMBER(T18)),((T18-R18)/(S18-R18))*100,"") | V18: =IF(AND(ISNUMBER(Q18), U18=""), Q18*(18/100), IF(AND(ISNUMBER(Q18), ISNUMBER(U18)), Q18*(U18/100), "")) | Y18: {=IF(AND(G18="A.5) kompr. Bestandeshöhe",W18<>"",X18>0),ROUND(X18*(INDEX(LINEST(_xlfn._xlws.FILTER('D) Ertrag kompr. Bestandeshöhe'!$V$5:$V$999,('D) Ertrag kompr. Bestandeshöhe'!$J$5:$J$999=W18)*('D) Ertrag kompr. Bestandeshöhe'!$K$5:$K$999<>"")*('D) Ertrag kompr. Bestandeshöhe'!$V$5:$V$999<>"")), _xlfn._xlws.FILTER('D) Ertrag kompr. Bestandeshöhe'!$K$5:$K$999,('D) Ertrag kompr. Bestandeshöhe'!$J$5:$J$999=W18)*('D) Ertrag kompr. Bestandeshöhe'!$K$5:$K$999<>"")*('D) Ertrag kompr. Bestandeshöhe'!$V$5:$V$999<>"")), TRUE, FALSE), 1))+(INDEX(LINEST(_xlfn._xlws.FILTER('D) Ertrag kompr. Bestandeshöhe'!$V$5:$V$999,('D) Ertrag kompr. Bestandeshöhe'!$J$5:$J$999=W18)*('D) Ertrag kompr. Bestandeshöhe'!$K$5:$K$999<>"")*('D) Ertrag kompr. Bestandeshöhe'!$V$5:$V$999<>"")), _xlfn._xlws.FILTER('D) Ertrag kompr. Bestandeshöhe'!$K$5:$K$999,('D) Ertrag kompr. Bestandeshöhe'!$J$5:$J$999=W18)*('D) Ertrag kompr. Bestandeshöhe'!$K$5:$K$999<>"")*('D) Ertrag kompr. Bestandeshöhe'!$V$5:$V$999<>"")), TRUE, FALSE), 2)),0),"")} | Z18: {=IFERROR(AVERAGE(_xlfn._xlws.FILTER('D) Ertrag kompr. Bestandeshöhe'!$O$5:$O$999,('D) Ertrag kompr. Bestandeshöhe'!$J$5:$J$999=$W18)*('D) Ertrag kompr. Bestandeshöhe'!$O$5:$O$999<>""))),18)} -> 18 | AD18: =IFERROR(IF(AND(G18='F) Hilfsrechnung'!$I$4,J18>0),J18,IF(AND(G18='F) Hilfsrechnung'!$I$6,Y18>0),Y18,IF(AND(G18='F) Hilfsrechnung'!$I$5,V18>0),V18,""))),"") | AE18: =IFERROR(IF(ISNUMBER(AD18),AD18,"")/IF(ISNUMBER(AI18),AI18,IF(ISNUMBER(U18),U18,IF(ISNUMBER(Z18),Z18,18)))*100,"") | AF18: =IF(AG18<>"",'F) Hilfsrechnung'!$K$4/(AG18/AD18),"") | AG18: =IF(AND(ISNUMBER(AB18),AD18<>""),((INDEX('F) Hilfsrechnung'!$A$2:$B$5,MATCH(AC18,'F) Hilfsrechnung'!$A$2:$A$5,0),2)*AB18/100)+('F) Hilfsrechnung'!$B$7*(100-AB18)/100))*AD18,"") | AL18: =IF(AND(ISNUMBER(AJ18),AK18=""),ROUND('F) Hilfsrechnung'!$K$4/AJ18,0),IF(AND(ISNUMBER(AJ18),ISNUMBER(AK18)),ROUND(AK18/AJ18,0),"")) | AM18: =IF(AND(ISNUMBER(Q18),ISNUMBER(AI18)),Q18*AI18/100,IF(AD18>0,AD18,"")) | AN18: =IF(AND(ISNUMBER(AJ18),ISNUMBER(AM18)),ROUND(AM18*(AJ18/100)*100,0),"")
A19: 14 | J19: =IFERROR(IF(ISNUMBER(I19),I19*IF(ISNUMBER(U19),U19,18)/100,""),"") | P19: =IF(AND(ISNUMBER(K19),ISNUMBER(L19),G19="A.3) Quadratmeterschnitte"),AVERAGE(L19:O19)*(1/K19),"") | Q19: =IF(ISNUMBER(P19),P19*0.9*100,"") | U19: =IF(AND(ISNUMBER(R19),ISNUMBER(S19),ISNUMBER(T19)),((T19-R19)/(S19-R19))*100,"") | V19: =IF(AND(ISNUMBER(Q19), U19=""), Q19*(18/100), IF(AND(ISNUMBER(Q19), ISNUMBER(U19)), Q19*(U19/100), "")) | Y19: {=IF(AND(G19="A.5) kompr. Bestandeshöhe",W19<>"",X19>0),ROUND(X19*(INDEX(LINEST(_xlfn._xlws.FILTER('D) Ertrag kompr. Bestandeshöhe'!$V$5:$V$999,('D) Ertrag kompr. Bestandeshöhe'!$J$5:$J$999=W19)*('D) Ertrag kompr. Bestandeshöhe'!$K$5:$K$999<>"")*('D) Ertrag kompr. Bestandeshöhe'!$V$5:$V$999<>"")), _xlfn._xlws.FILTER('D) Ertrag kompr. Bestandeshöhe'!$K$5:$K$999,('D) Ertrag kompr. Bestandeshöhe'!$J$5:$J$999=W19)*('D) Ertrag kompr. Bestandeshöhe'!$K$5:$K$999<>"")*('D) Ertrag kompr. Bestandeshöhe'!$V$5:$V$999<>"")), TRUE, FALSE), 1))+(INDEX(LINEST(_xlfn._xlws.FILTER('D) Ertrag kompr. Bestandeshöhe'!$V$5:$V$999,('D) Ertrag kompr. Bestandeshöhe'!$J$5:$J$999=W19)*('D) Ertrag kompr. Bestandeshöhe'!$K$5:$K$999<>"")*('D) Ertrag kompr. Bestandeshöhe'!$V$5:$V$999<>"")), _xlfn._xlws.FILTER('D) Ertrag kompr. Bestandeshöhe'!$K$5:$K$999,('D) Ertrag kompr. Bestandeshöhe'!$J$5:$J$999=W19)*('D) Ertrag kompr. Bestandeshöhe'!$K$5:$K$999<>"")*('D) Ertrag kompr. Bestandeshöhe'!$V$5:$V$999<>"")), TRUE, FALSE), 2)),0),"")} | Z19: {=IFERROR(AVERAGE(_xlfn._xlws.FILTER('D) Ertrag kompr. Bestandeshöhe'!$O$5:$O$999,('D) Ertrag kompr. Bestandeshöhe'!$J$5:$J$999=$W19)*('D) Ertrag kompr. Bestandeshöhe'!$O$5:$O$999<>""))),18)} -> 18 | AD19: =IFERROR(IF(AND(G19='F) Hilfsrechnung'!$I$4,J19>0),J19,IF(AND(G19='F) Hilfsrechnung'!$I$6,Y19>0),Y19,IF(AND(G19='F) Hilfsrechnung'!$I$5,V19>0),V19,""))),"") | AE19: =IFERROR(IF(ISNUMBER(AD19),AD19,"")/IF(ISNUMBER(AI19),AI19,IF(ISNUMBER(U19),U19,IF(ISNUMBER(Z19),Z19,18)))*100,"") | AF19: =IF(AG19<>"",'F) Hilfsrechnung'!$K$4/(AG19/AD19),"") | AG19: =IF(AND(ISNUMBER(AB19),AD19<>""),((INDEX('F) Hilfsrechnung'!$A$2:$B$5,MATCH(AC19,'F) Hilfsrechnung'!$A$2:$A$5,0),2)*AB19/100)+('F) Hilfsrechnung'!$B$7*(100-AB19)/100))*AD19,"") | AL19: =IF(AND(ISNUMBER(AJ19),AK19=""),ROUND('F) Hilfsrechnung'!$K$4/AJ19,0),IF(AND(ISNUMBER(AJ19),ISNUMBER(AK19)),ROUND(AK19/AJ19,0),"")) | AM19: =IF(AND(ISNUMBER(Q19),ISNUMBER(AI19)),Q19*AI19/100,IF(AD19>0,AD19,"")) | AN19: =IF(AND(ISNUMBER(AJ19),ISNUMBER(AM19)),ROUND(AM19*(AJ19/100)*100,0),"")
... A105: 100 | J105: =IFERROR(IF(ISNUMBER(I105),I105*IF(ISNUMBER(U105),U105,18)/100,""),"") | P105: =IF(AND(ISNUMBER(K105),ISNUMBER(L105),G105="A.3) Quadratmeterschnitte"),AVERAGE(L105:O105)*(1/K105),"") | Q105: =IF(ISNUMBER(P105),P105*0.9*100,"") | U105: =IF(AND(ISNUMBER(R105),ISNUMBER(S105),ISNUMBER(T105)),((T105-R105)/(S105-R105))*100,"") | V105: =IF(AND(ISNUMBER(Q105), U105=""), Q105*(18/100), IF(AND(ISNUMBER(Q105), ISNUMBER(U105)), Q105*(U105/100), "")) | Y105: {=IF(AND(G105="A.5) kompr. Bestandeshöhe",W105<>"",X105>0),ROUND(X105*(INDEX(LINEST(_xlfn._xlws.FILTER('D) Ertrag kompr. Bestandeshöhe'!$V$5:$V$999,('D) Ertrag kompr. Bestandeshöhe'!$J$5:$J$999=W105)*('D) Ertrag kompr. Bestandeshöhe'!$K$5:$K$999<>"")*('D) Ertrag kompr. Bestandeshöhe'!$V$5:$V$999<>"")), _xlfn._xlws.FILTER('D) Ertrag kompr. Bestandeshöhe'!$K$5:$K$999,('D) Ertrag kompr. Bestandeshöhe'!$J$5:$J$999=W105)*('D) Ertrag kompr. Bestandeshöhe'!$K$5:$K$999<>"")*('D) Ertrag kompr. Bestandeshöhe'!$V$5:$V$999<>"")), TRUE, FALSE), 1))+(INDEX(LINEST(_xlfn._xlws.FILTER('D) Ertrag kompr. Bestandeshöhe'!$V$5:$V$999,('D) Ertrag kompr. Bestandeshöhe'!$J$5:$J$999=W105)*('D) Ertrag kompr. Bestandeshöhe'!$K$5:$K$999<>"")*('D) Ertrag kompr. Bestandeshöhe'!$V$5:$V$999<>"")), _xlfn._xlws.FILTER('D) Ertrag kompr. Bestandeshöhe'!$K$5:$K$999,('D) Ertrag kompr. Bestandeshöhe'!$J$5:$J$999=W105)*('D) Ertrag kompr. Bestandeshöhe'!$K$5:$K$999<>"")*('D) Ertrag kompr. Bestandeshöhe'!$V$5:$V$999<>"")), TRUE, FALSE), 2)),0),"")} | Z105: {=IFERROR(AVERAGE(_xlfn._xlws.FILTER('D) Ertrag kompr. Bestandeshöhe'!$O$5:$O$999,('D) Ertrag kompr. Bestandeshöhe'!$J$5:$J$999=$W105)*('D) Ertrag kompr. Bestandeshöhe'!$O$5:$O$999<>""))),18)} -> 18 | AD105: =IFERROR(IF(AND(G105='F) Hilfsrechnung'!$I$4,J105>0),J105,IF(AND(G105='F) Hilfsrechnung'!$I$6,Y105>0),Y105,IF(AND(G105='F) Hilfsrechnung'!$I$5,V105>0),V105,""))),"") | AE105: =IFERROR(IF(ISNUMBER(AD105),AD105,"")/IF(ISNUMBER(AI105),AI105,IF(ISNUMBER(U105),U105,IF(ISNUMBER(Z105),Z105,18)))*100,"") | AF105: =IF(AG105<>"",'F) Hilfsrechnung'!$K$4/(AG105/AD105),"") | AG105: =IF(AND(ISNUMBER(AB105),AD105<>""),((INDEX('F) Hilfsrechnung'!$A$2:$B$5,MATCH(AC105,'F) Hilfsrechnung'!$A$2:$A$5,0),2)*AB105/100)+('F) Hilfsrechnung'!$B$7*(100-AB105)/100))*AD105,"") | AL105: =IF(AND(ISNUMBER(AJ105),AK105=""),ROUND('F) Hilfsrechnung'!$K$4/AJ105,0),IF(AND(ISNUMBER(AJ105),ISNUMBER(AK105)),ROUND(AK105/AJ105,0),"")) | AM105: =IF(AND(ISNUMBER(Q105),ISNUMBER(AI105)),Q105*AI105/100,IF(AD105>0,AD105,"")) | AN105: =IF(AND(ISNUMBER(AJ105),ISNUMBER(AM105)),ROUND(AM105*(AJ105/100)*100,0),"")

Sheet B) Nehmerfläche
A1: B) | B1: Bedarf der Kultur im Nehmerfeld bestimmen und mit dem Geberfeld abgleichen | N1: AUSBLENDEN | O1: AUSBLENDEN | R1: AUSBLENDEN | U1: AUSBLENDEN | W1: AUSBLENDEN | X1: AUSBLENDEN | Y1: AUSBLENDEN | Z1: AUSBLENDEN
A2: Name der Nehmerfläche, muss Text enthalten | B2: Größe der Nehmerfläche, muss eine positive Zahl sein | C2: Keine Verwendung, zur Identifikatio der Nehmerfläche | D2: Keine Verwendung, zur Identifikatio der Nehmerfläche | E2: Düngebedarf wird nicht im Programm gerechnet, damit es flexibler bleibt. Eingabe muss eine positive Zahl sein. | F2: Kein Anteil des Düngebedarfs in %, sondern die "echte N-Menge". Muss mindestens 0 und darf maximal dem Düngebedarf entsprechen. | H2: Dropdown-Feld, bezieht sich auf Spalte "Geber-ID" aus Blatt A) | I2: aus A) | J2: aus A) | K2: aus A) | L2: aus A) | M2: N-Ertrag, der zum Zeitpunkt der Ausbringung vorhanden ist. Da davon ausgegangen wird, dass der Schätzwert zeitlich näher am Schnitt ist, wird dieser bevorzugt. Wird also geschätzt, verändert sich dieser Wert durch nachträgliche Analyse nicht. | N2: aus A) | O2: aus A) | P2: Wenn nicht die gesamte Geberfläche genutzt wurde, wird wie in Spalte AB beschrieben die Restfläche zur nächsten Nehmerfläche zugeteilt. Darf maximal der Größe der Geberfläche entsprechen. | R2: In dieser Spalte wird entschieden, mit welcher Geber-Grundfläche weitergerechnet wird: der Teilfläche (Spalte Q), wenn eingegeben, sonst mit der gesamten (Spalte K) | T2: Bei der Anrechenbarkeit werden 80 % vorgeschlagen, die aber überschrieben werden können. Wird die Zahl entfernt, werden 100% Anrechenbarkeit angenommen | U2: Entscheidungs-Zelle zur Spalte links | W2: Das Verhältnis von Geber- zu Nehmerfläche: Wenn vorhanden, wird als Ausgangspunkt der Düngebedarf herangezogen, der durch C&C gedeckt werden soll, alternativ der gesamte Düngebedarf. Dieser wird ins Verhältnis zum vorläufigen N-Ertrag bei Ausbringung gesetzt, der um die Anrechenbarkeit korrigiert wurde. | X2: Die vorhergegangenen Düngungen werden berücksichtigt, indem die rechte Spalte aufsummiert und vom Düngebedarf (Gesamtmenge, nicht pro ha) abgezogen wird. Liegt ein C&C-Düngebedarf nicht vor, wird mit dem Gesamtdüngebedarf gerechnet. | Y2: N über diese C&C-Düngung gedüngt [kg N, nicht pro ha], um Anrechenbarkeit korrigiert | Z2: N über diese C&C-Düngung gedüngt [kg N/ha], bereits zuvor um Anrechenbarkeit korrigiert | AA2: Für die visuelle Darstellung rückwärts gerechnet, keine Formel-Nachfolger | AB2: Errechnet über die Rest-Menge N: Übersteigt die C&C-Gabe den Düngebedarf, wird die Differenz positiv. Multipliziert mit der Nehmerfeldfläche ergibt das die Menge Rest-N, die dann durch die (anrechenbare) N-Menge im Aufwuchs des Geberfeldes geteilt wird. Es ergibt sich die Rest-Fläche des Geberfelds, die über die MAX-Funktion nicht negativ werden kann | AC2: Übersteigt der Düngebedarf die gegebene C&C-Menge, wird die Spalte positiv. Kann durch MAX-Funktion nie negativ werden | AD2: Ausbringmenge, basierend auf dem FM-Ertrag (Blatt A), AE) und Geberflächen-Verhältnis (N-Anrechenbarkeit berücksichtigt, Schätzung vor Analyse -> keine Nachkorrektur durch Analyse) | AE2: Ergänzungsdüngung aus anderen Quellen [kg N/ha]. Ist noch C&C-Düngebedarf offen und wird keine neue Geberfläche zugewiesen, ist die Ergänzungsdüngung um die noch fehlende C&C-Düngermenge höher | AH2: Abgleich Schätzung zu Analyse. Es wird davon ausgegangen, dass zuerst geschätzt und danach analysiert wird. Durch den Abgleich können zukünftige Schätzfehler besser beurteilt werden.
A4: B.1) Daten zur Nehmerfläche, geplante Kultur mit Düngebedarf | H4: B.2) Kenndaten der ausgewählten Geberfläche (Geber-ID) werden aus Tabellenblatt "A) Geberfläche" übernommen. | T4: B.3) Angenommene Anrechenbarkeit | AA4: B.4) Abgleich Geberfläche zu Nehmerfläche | AG4: B.5) Informative Kennzahlen nach Erhalt der Analyseergebnisse
A5: Nehmerfläche [Name] | B5: Nehmerfläche [ha] | C5: Kultur Nehmerfläche | D5: Pflanzdatum | E5: Düngebedarf (DüV) (nach Nmin, Vorfrucht etc.) [kg Nanrechenbar/ha] | F5: Menge des Düngebedarfs, die über C&C gedüngt werden soll [kg Nanrechenbar/ha] | H5: Geber-ID | I5: Geberfläche [Name] | J5: Geberfläche [ha] | K5: Kultur Geberfläche | L5: Schnitt | M5: Vorläufiger N-Ertrag bei Ausbringung [kg N/ha] | N5: N-Ertrag nach Schätzung [kg N/ha] | O5: N-Ertrag nach Analyse [kg N/ha] | P5: Zugeteilte Geber-Teilfläche [ha], wenn zutreffend (s. Kommentar in Spalte AB) | R5: In dieser Düngemaßnahme zu verwendende Geberfeld-Fläche | T5: Anrechenbarkeit der Sprossmasse im ersten Jahr nach Ausbringung[%] | U5: Anrechenbarkeit [%] zum Weiterrechnen | W5: Geber:Nehmer [ : 1 ] | X5: Verbleibender Düngebedarf [kg N/ha] vor Düngung | Y5: N-Menge C&C-Gabe [kg Nanrechenbar] | Z5: N-Menge C&C-Gabe pro ha bei voller Zuteilung [kg Nanrechenbar/ha] | AA5: N-Menge C&C-Gabe pro ha [kg Nanrechenbar/ha] | AB5: ENTWEDER: Geberfläche übrig [ha] - Wenn positiv: siehe Kommentar! | AC5: ODER: Verbleibender C&C-Düngebedarf [kg N/ha] Wenn positiv: siehe Kommentar! | AD5: Ausbringmenge [t FM/ha] | AE5: Erforderliche Kombi-Düngung nach C&C-Ausbringung [kg N/ha] | AG5: N-Ertrag aus Analyse [kg/ha] | AH5: Zu wenig (-)/ zu viel (+) mit C&C gedüngt, nach Abgleich von Schätzung mit Analyse [%] | AI5: Zu wenig (-)/ zu viel (+) mit C&C gedüngt, nach Abgleich von Schätzung mit Analyse [kg Nanrechenbar/ha] | AJ5: Aktualisierte Kombi-Düngung nach C&C-Ausbringung [kg N/ha]
A6: Arendsen N | B6: 6 | C6: Kürbis | D6: 45818 | E6: 110 | F6: 55 | H6: 1 | I6: =IF(H6="","",_xlfn.XLOOKUP($H6,'A) Geberfläche'!$A$6:$A$28,'A) Geberfläche'!$B$6:$B$28,"kein Wert",0)) -> Arendsen 1 | J6: =IF(H6="","",_xlfn.XLOOKUP($H6,'A) Geberfläche'!$A$6:$A$28,'A) Geberfläche'!$C$6:$C$28,"kein Wert",0)) -> 2 | K6: =IF(H6="","",_xlfn.XLOOKUP($H6,'A) Geberfläche'!$A$6:$A$28,'A) Geberfläche'!$D$6:$D$28,"kein Wert",0)) -> Kleegras | L6: =IF(H6="","",_xlfn.XLOOKUP($H6,'A) Geberfläche'!$A$6:$A$28,'A) Geberfläche'!$F$6:$F$28,"kein Wert",0)) -> 1 | M6: =IF(H6="","",IF(ISNUMBER(N6),N6,O6)) -> 89.006965 | N6: =IF(H6="","",_xlfn.XLOOKUP($H6,'A) Geberfläche'!$A$6:$A$28,'A) Geberfläche'!$AG$6:$AG$28,"kein Wert",0)) -> 89.006965 | O6: =IF(H6="","",_xlfn.XLOOKUP($H6,'A) Geberfläche'!$A$6:$A$28,'A) Geberfläche'!$AN$6:$AN$28,"kein Wert",0)) -> 99 | R6: =IFERROR(IF(ISNUMBER(P6),IF(H6=H7,P6-P7,P6),J6),"") -> 2 | T6: 80 | U6: =IF(T6="",100,T6) -> 80 | W6: =IF(AND(ISNUMBER(F6),ISNUMBER(M6)),F6/(M6*(U6/100)),IF(ISNUMBER(M6),E6/(M6*(U6/100)),"")) -> 0.77241146 | X6: =IF(AND(ISNUMBER(F6),ISNUMBER(B6),ISTEXT(A6)),(F6*B6-IFERROR(SUMIF($A$4:A5,A6,$Y$4:Y5),0))/B6,IF(AND(ISNUMBER(E6),ISNUMBER(B6),ISTEXT(A6)),(E6*B6-IFERROR(SUMIF($A$4:A5,A6,$Y$4:Y5),0))/B6,"")) -> 55 | Y6: =IF(AND(ISNUMBER(M6), ISNUMBER(R6)),R6*M6*U6/100,"") -> 142.41114 | Z6: =IF(AND(ISNUMBER(Y6),ISNUMBER(B6)),Y6/B6,"") -> 23.735191 | AA6: =IFERROR(F6-AC6,"") -> 23.735191 | AB6: =IF(AND(ISNUMBER(B6),ISNUMBER(M6)),MAX(0,((Z6-X6)*B6/(U6/100))/M6),"") -> 0 | AC6: =IF(AND(ISNUMBER(X6),ISNUMBER(Z6)),MAX(0,X6-Z6),"") -> 31.264809 | AD6: =IFERROR(_xlfn.XLOOKUP(H6,'A) Geberfläche'!$A$6:$A$105,'A) Geberfläche'!$AE$6:$AE$105)*W6/10,"") -> 13.791153 | AE6: =IF(AND(ISNUMBER(E6),ISNUMBER(F6),ISNUMBER(AC6),COUNTIF(A6:$A$105,A6)=1),E6-F6+AC6,"") | AG6: =O6 -> 99 | AH6: =IF(AND(ISNUMBER(N6),ISNUMBER(O6)),((N6-O6)/O6*(-1)),"") -> 0.10093975 | AI6: =IFERROR(AA6*AH6,"") -> 2.3958242 | AJ6: =IFERROR(AE6-SUMIF($A$6:$A$105,A6,$AI$6:$AI$105),"")
A7: Arendsen N | B7: 6 | C7: Kürbis | D7: 45818 | E7: 110 | F7: 55 | H7: 2 | I7: =IF(H7="","",_xlfn.XLOOKUP($H7,'A) Geberfläche'!$A$6:$A$28,'A) Geberfläche'!$B$6:$B$28,"kein Wert",0)) -> Arendsen 2 | J7: =IF(H7="","",_xlfn.XLOOKUP($H7,'A) Geberfläche'!$A$6:$A$28,'A) Geberfläche'!$C$6:$C$28,"kein Wert",0)) -> 5 | K7: =IF(H7="","",_xlfn.XLOOKUP($H7,'A) Geberfläche'!$A$6:$A$28,'A) Geberfläche'!$D$6:$D$28,"kein Wert",0)) -> Kleegras | L7: =IF(H7="","",_xlfn.XLOOKUP($H7,'A) Geberfläche'!$A$6:$A$28,'A) Geberfläche'!$F$6:$F$28,"kein Wert",0)) -> 1 | M7: =IF(H7="","",IF(ISNUMBER(N7),N7,O7)) -> 89.006965 | N7: =IF(H7="","",_xlfn.XLOOKUP($H7,'A) Geberfläche'!$A$6:$A$28,'A) Geberfläche'!$AG$6:$AG$28,"kein Wert",0)) -> 89.006965 | O7: =IF(H7="","",_xlfn.XLOOKUP($H7,'A) Geberfläche'!$A$6:$A$28,'A) Geberfläche'!$AN$6:$AN$28,"kein Wert",0)) -> 99 | R7: =IFERROR(IF(ISNUMBER(P7),IF(H7=H8,P7-P8,P7),J7),"") -> 5 | T7: 80 | U7: =IF(T7="",100,T7) -> 80 | W7: =IF(AND(ISNUMBER(F7),ISNUMBER(M7)),F7/(M7*(U7/100)),IF(ISNUMBER(M7),E7/(M7*(U7/100)),"")) -> 0.77241146 | X7: =IF(AND(ISNUMBER(F7),ISNUMBER(B7),ISTEXT(A7)),(F7*B7-IFERROR(SUMIF($A$4:A6,A7,$Y$4:Y6),0))/B7,IF(AND(ISNUMBER(E7),ISNUMBER(B7),ISTEXT(A7)),(E7*B7-IFERROR(SUMIF($A$4:A6,A7,$Y$4:Y6),0))/B7,"")) -> 31.264809 | Y7: =IF(AND(ISNUMBER(M7), ISNUMBER(R7)),R7*M7*U7/100,"") -> 356.02786 | Z7: =IF(AND(ISNUMBER(Y7),ISNUMBER(B7)),Y7/B7,"") -> 59.337976 | AA7: =IFERROR(F7-AC7,"") -> 55 | AB7: =IF(AND(ISNUMBER(B7),ISNUMBER(M7)),MAX(0,((Z7-X7)*B7/(U7/100))/M7),"") -> 2.3655312 | AC7: =IF(AND(ISNUMBER(X7),ISNUMBER(Z7)),MAX(0,X7-Z7),"") -> 0 | AD7: =IFERROR(_xlfn.XLOOKUP(H7,'A) Geberfläche'!$A$6:$A$105,'A) Geberfläche'!$AE$6:$AE$105)*W7/10,"") -> 13.791153 | AE7: =IF(AND(ISNUMBER(E7),ISNUMBER(F7),ISNUMBER(AC7),COUNTIF(A7:$A$105,A7)=1),E7-F7+AC7,"") -> 55 | AG7: =O7 -> 99 | AH7: =IF(AND(ISNUMBER(N7),ISNUMBER(O7)),((N7-O7)/O7*(-1)),"") -> 0.10093975 | AI7: =IFERROR(AA7*AH7,"") -> 5.5516863 | AJ7: =IFERROR(AE7-SUMIF($A$6:$A$105,A7,$AI$6:$AI$105),"") -> 47.05249
I8: =IF(H8="","",_xlfn.XLOOKUP($H8,'A) Geberfläche'!$A$6:$A$28,'A) Geberfläche'!$B$6:$B$28,"kein Wert",0)) | J8: =IF(H8="","",_xlfn.XLOOKUP($H8,'A) Geberfläche'!$A$6:$A$28,'A) Geberfläche'!$C$6:$C$28,"kein Wert",0)) | K8: =IF(H8="","",_xlfn.XLOOKUP($H8,'A) Geberfläche'!$A$6:$A$28,'A) Geberfläche'!$D$6:$D$28,"kein Wert",0)) | L8: =IF(H8="","",_xlfn.XLOOKUP($H8,'A) Geberfläche'!$A$6:$A$28,'A) Geberfläche'!$F$6:$F$28,"kein Wert",0)) | M8: =IF(H8="","",IF(ISNUMBER(N8),N8,O8)) | N8: =IF(H8="","",_xlfn.XLOOKUP($H8,'A) Geberfläche'!$A$6:$A$28,'A) Geberfläche'!$AG$6:$AG$28,"kein Wert",0)) | O8: =IF(H8="","",_xlfn.XLOOKUP($H8,'A) Geberfläche'!$A$6:$A$28,'A) Geberfläche'!$AN$6:$AN$28,"kein Wert",0)) | R8: =IFERROR(IF(ISNUMBER(P8),IF(H8=H9,P8-P9,P8),J8),"") | T8: 80 | U8: =IF(T8="",100,T8) -> 80 | W8: =IF(AND(ISNUMBER(F8),ISNUMBER(M8)),F8/(M8*(U8/100)),IF(ISNUMBER(M8),E8/(M8*(U8/100)),"")) | X8: =IF(AND(ISNUMBER(F8),ISNUMBER(B8),ISTEXT(A8)),(F8*B8-IFERROR(SUMIF($A$4:A7,A8,$Y$4:Y7),0))/B8,IF(AND(ISNUMBER(E8),ISNUMBER(B8),ISTEXT(A8)),(E8*B8-IFERROR(SUMIF($A$4:A7,A8,$Y$4:Y7),0))/B8,"")) | Y8: =IF(AND(ISNUMBER(M8), ISNUMBER(R8)),R8*M8*U8/100,"") | Z8: =IF(AND(ISNUMBER(Y8),ISNUMBER(B8)),Y8/B8,"") | AA8: =IFERROR(F8-AC8,"") | AB8: =IF(AND(ISNUMBER(B8),ISNUMBER(M8)),MAX(0,((Z8-X8)*B8/(U8/100))/M8),"") | AC8: =IF(AND(ISNUMBER(X8),ISNUMBER(Z8)),MAX(0,X8-Z8),"") | AD8: =IFERROR(_xlfn.XLOOKUP(H8,'A) Geberfläche'!$A$6:$A$105,'A) Geberfläche'!$AE$6:$AE$105)*W8/10,"") | AE8: =IF(AND(ISNUMBER(E8),ISNUMBER(F8),ISNUMBER(AC8),COUNTIF(A8:$A$105,A8)=1),E8-F8+AC8,"") | AG8: =O8 | AH8: =IF(AND(ISNUMBER(N8),ISNUMBER(O8)),((N8-O8)/O8*(-1)),"") | AI8: =IFERROR(AA8*AH8,"") | AJ8: =IFERROR(AE8-SUMIF($A$6:$A$105,A8,$AI$6:$AI$105),"")
I9: =IF(H9="","",_xlfn.XLOOKUP($H9,'A) Geberfläche'!$A$6:$A$28,'A) Geberfläche'!$B$6:$B$28,"kein Wert",0)) | J9: =IF(H9="","",_xlfn.XLOOKUP($H9,'A) Geberfläche'!$A$6:$A$28,'A) Geberfläche'!$C$6:$C$28,"kein Wert",0)) | K9: =IF(H9="","",_xlfn.XLOOKUP($H9,'A) Geberfläche'!$A$6:$A$28,'A) Geberfläche'!$D$6:$D$28,"kein Wert",0)) | L9: =IF(H9="","",_xlfn.XLOOKUP($H9,'A) Geberfläche'!$A$6:$A$28,'A) Geberfläche'!$F$6:$F$28,"kein Wert",0)) | M9: =IF(H9="","",IF(ISNUMBER(N9),N9,O9)) | N9: =IF(H9="","",_xlfn.XLOOKUP($H9,'A) Geberfläche'!$A$6:$A$28,'A) Geberfläche'!$AG$6:$AG$28,"kein Wert",0)) | O9: =IF(H9="","",_xlfn.XLOOKUP($H9,'A) Geberfläche'!$A$6:$A$28,'A) Geberfläche'!$AN$6:$AN$28,"kein Wert",0)) | R9: =IFERROR(IF(ISNUMBER(P9),IF(H9=H10,P9-P10,P9),J9),"") | T9: 80 | U9: =IF(T9="",100,T9) -> 80 | W9: =IF(AND(ISNUMBER(F9),ISNUMBER(M9)),F9/(M9*(U9/100)),IF(ISNUMBER(M9),E9/(M9*(U9/100)),"")) | X9: =IF(AND(ISNUMBER(F9),ISNUMBER(B9),ISTEXT(A9)),(F9*B9-IFERROR(SUMIF($A$4:A8,A9,$Y$4:Y8),0))/B9,IF(AND(ISNUMBER(E9),ISNUMBER(B9),ISTEXT(A9)),(E9*B9-IFERROR(SUMIF($A$4:A8,A9,$Y$4:Y8),0))/B9,"")) | Y9: =IF(AND(ISNUMBER(M9), ISNUMBER(R9)),R9*M9*U9/100,"") | Z9: =IF(AND(ISNUMBER(Y9),ISNUMBER(B9)),Y9/B9,"") | AA9: =IFERROR(F9-AC9,"") | AB9: =IF(AND(ISNUMBER(B9),ISNUMBER(M9)),MAX(0,((Z9-X9)*B9/(U9/100))/M9),"") | AC9: =IF(AND(ISNUMBER(X9),ISNUMBER(Z9)),MAX(0,X9-Z9),"") | AD9: =IFERROR(_xlfn.XLOOKUP(H9,'A) Geberfläche'!$A$6:$A$105,'A) Geberfläche'!$AE$6:$AE$105)*W9/10,"") | AE9: =IF(AND(ISNUMBER(E9),ISNUMBER(F9),ISNUMBER(AC9),COUNTIF(A9:$A$105,A9)=1),E9-F9+AC9,"") | AG9: =O9 | AH9: =IF(AND(ISNUMBER(N9),ISNUMBER(O9)),((N9-O9)/O9*(-1)),"") | AI9: =IFERROR(AA9*AH9,"") | AJ9: =IFERROR(AE9-SUMIF($A$6:$A$105,A9,$AI$6:$AI$105),"")
I10: =IF(H10="","",_xlfn.XLOOKUP($H10,'A) Geberfläche'!$A$6:$A$28,'A) Geberfläche'!$B$6:$B$28,"kein Wert",0)) | J10: =IF(H10="","",_xlfn.XLOOKUP($H10,'A) Geberfläche'!$A$6:$A$28,'A) Geberfläche'!$C$6:$C$28,"kein Wert",0)) | K10: =IF(H10="","",_xlfn.XLOOKUP($H10,'A) Geberfläche'!$A$6:$A$28,'A) Geberfläche'!$D$6:$D$28,"kein Wert",0)) | L10: =IF(H10="","",_xlfn.XLOOKUP($H10,'A) Geberfläche'!$A$6:$A$28,'A) Geberfläche'!$F$6:$F$28,"kein Wert",0)) | M10: =IF(H10="","",IF(ISNUMBER(N10),N10,O10)) | N10: =IF(H10="","",_xlfn.XLOOKUP($H10,'A) Geberfläche'!$A$6:$A$28,'A) Geberfläche'!$AG$6:$AG$28,"kein Wert",0)) | O10: =IF(H10="","",_xlfn.XLOOKUP($H10,'A) Geberfläche'!$A$6:$A$28,'A) Geberfläche'!$AN$6:$AN$28,"kein Wert",0)) | R10: =IFERROR(IF(ISNUMBER(P10),IF(H10=H11,P10-P11,P10),J10),"") | T10: 80 | U10: =IF(T10="",100,T10) -> 80 | W10: =IF(AND(ISNUMBER(F10),ISNUMBER(M10)),F10/(M10*(U10/100)),IF(ISNUMBER(M10),E10/(M10*(U10/100)),"")) | X10: =IF(AND(ISNUMBER(F10),ISNUMBER(B10),ISTEXT(A10)),(F10*B10-IFERROR(SUMIF($A$4:A9,A10,$Y$4:Y9),0))/B10,IF(AND(ISNUMBER(E10),ISNUMBER(B10),ISTEXT(A10)),(E10*B10-IFERROR(SUMIF($A$4:A9,A10,$Y$4:Y9),0))/B10,"")) | Y10: =IF(AND(ISNUMBER(M10), ISNUMBER(R10)),R10*M10*U10/100,"") | Z10: =IF(AND(ISNUMBER(Y10),ISNUMBER(B10)),Y10/B10,"") | AA10: =IFERROR(F10-AC10,"") | AB10: =IF(AND(ISNUMBER(B10),ISNUMBER(M10)),MAX(0,((Z10-X10)*B10/(U10/100))/M10),"") | AC10: =IF(AND(ISNUMBER(X10),ISNUMBER(Z10)),MAX(0,X10-Z10),"") | AD10: =IFERROR(_xlfn.XLOOKUP(H10,'A) Geberfläche'!$A$6:$A$105,'A) Geberfläche'!$AE$6:$AE$105)*W10/10,"") | AE10: =IF(AND(ISNUMBER(E10),ISNUMBER(F10),ISNUMBER(AC10),COUNTIF(A10:$A$105,A10)=1),E10-F10+AC10,"") | AG10: =O10 | AH10: =IF(AND(ISNUMBER(N10),ISNUMBER(O10)),((N10-O10)/O10*(-1)),"") | AI10: =IFERROR(AA10*AH10,"") | AJ10: =IFERROR(AE10-SUMIF($A$6:$A$105,A10,$AI$6:$AI$105),"")
I11: =IF(H11="","",_xlfn.XLOOKUP($H11,'A) Geberfläche'!$A$6:$A$28,'A) Geberfläche'!$B$6:$B$28,"kein Wert",0)) | J11: =IF(H11="","",_xlfn.XLOOKUP($H11,'A) Geberfläche'!$A$6:$A$28,'A) Geberfläche'!$C$6:$C$28,"kein Wert",0)) | K11: =IF(H11="","",_xlfn.XLOOKUP($H11,'A) Geberfläche'!$A$6:$A$28,'A) Geberfläche'!$D$6:$D$28,"kein Wert",0)) | L11: =IF(H11="","",_xlfn.XLOOKUP($H11,'A) Geberfläche'!$A$6:$A$28,'A) Geberfläche'!$F$6:$F$28,"kein Wert",0)) | M11: =IF(H11="","",IF(ISNUMBER(N11),N11,O11)) | N11: =IF(H11="","",_xlfn.XLOOKUP($H11,'A) Geberfläche'!$A$6:$A$28,'A) Geberfläche'!$AG$6:$AG$28,"kein Wert",0)) | O11: =IF(H11="","",_xlfn.XLOOKUP($H11,'A) Geberfläche'!$A$6:$A$28,'A) Geberfläche'!$AN$6:$AN$28,"kein Wert",0)) | R11: =IFERROR(IF(ISNUMBER(P11),IF(H11=H12,P11-P12,P11),J11),"") | T11: 80 | U11: =IF(T11="",100,T11) -> 80 | W11: =IF(AND(ISNUMBER(F11),ISNUMBER(M11)),F11/(M11*(U11/100)),IF(ISNUMBER(M11),E11/(M11*(U11/100)),"")) | X11: =IF(AND(ISNUMBER(F11),ISNUMBER(B11),ISTEXT(A11)),(F11*B11-IFERROR(SUMIF($A$4:A10,A11,$Y$4:Y10),0))/B11,IF(AND(ISNUMBER(E11),ISNUMBER(B11),ISTEXT(A11)),(E11*B11-IFERROR(SUMIF($A$4:A10,A11,$Y$4:Y10),0))/B11,"")) | Y11: =IF(AND(ISNUMBER(M11), ISNUMBER(R11)),R11*M11*U11/100,"") | Z11: =IF(AND(ISNUMBER(Y11),ISNUMBER(B11)),Y11/B11,"") | AA11: =IFERROR(F11-AC11,"") | AB11: =IF(AND(ISNUMBER(B11),ISNUMBER(M11)),MAX(0,((Z11-X11)*B11/(U11/100))/M11),"") | AC11: =IF(AND(ISNUMBER(X11),ISNUMBER(Z11)),MAX(0,X11-Z11),"") | AD11: =IFERROR(_xlfn.XLOOKUP(H11,'A) Geberfläche'!$A$6:$A$105,'A) Geberfläche'!$AE$6:$AE$105)*W11/10,"") | AE11: =IF(AND(ISNUMBER(E11),ISNUMBER(F11),ISNUMBER(AC11),COUNTIF(A11:$A$105,A11)=1),E11-F11+AC11,"") | AG11: =O11 | AH11: =IF(AND(ISNUMBER(N11),ISNUMBER(O11)),((N11-O11)/O11*(-1)),"") | AI11: =IFERROR(AA11*AH11,"") | AJ11: =IFERROR(AE11-SUMIF($A$6:$A$105,A11,$AI$6:$AI$105),"")
