Workbook

Sheet Info
A38: Link zum Cut & Carry-Praxisleitfaden: | D38: Hier klicken
A40: Orientierung im Dokument: Viele Zellen im Dokument sind entweder in der Spaltenüberschrift (zum Vorgehen) oder in den Zellen selbst (zur Eingabe) zum besseren Verständnis kommentiert. Um einen besseren Überblick zu gewährleisten, arbeiten wir in den Tabellen mit folgender Farbgebung:
A41: Geberfläche: Fläche mit dem Aufwuchs abzufahrender Sprossmasse, z.B. Luzerne oder Kleegras. Zellen, die die Geberfläche betreffen, sind grün hinterlegt
A42: Nehmerfläche: Die zu düngende Fläche. Zellen, die die Nehmerfläche betreffen, sind blau hinterlegt.
A43: Zellen mit freier Eingabe
A44: Zellen mit Drop-Down-Menü
A45: Zellen mit hinterlegten Formeln oder Werten, keine Eingabe möglich

Sheet A) Geberfläche
A1: A) | B1: Einschätzung Ertrag und Qualität des Aufwuchses der Geberfläche | Z1: AUSBLENDEN | AD1: AUSBLENDEN | AE1: AUSBLENDEN
B2: Name der Geberfläche, darf Text oder Zahl sein. | C2: Größe der Geberfläche, muss eine Zahl sein. | D2: Kultur auf der Geberfläche, darf Text oder Zahl sein. Wird nicht weiterverwendet. | E2: Datum der Probenahme für m2-Schnitte und Analysen, wird nicht weiterverwendet. | F2: Schnittnummer auf dem Schlag. Muss eine Zahl sein, keine Prüfung auf Dopplungen. | G2: Die Methode der Ertragsermittlung wird aus einem Dropdown-Menü ausgewählt, das im Blatt "Hilfsrechnung" definiert ist. In Abhängigkeit von der Auswahl werden bestimmte Bereiche im Folgenden ausgegraut. | J2: Angabe bei sonstiger Ertragserfassung z.B. Feldhäcksler. Muss eine Zahl sein. | K2: Beprobungsfläche, bezogen auf jeden Quadratmeterschnitt (z.B. 0,25 oder 0,5 m²). Muss eine Zahl sein. | L2: Ertrag pro Quadratmeterschnitt, netto (ohne Eimer). Muss eine Zahl sein. | M2: Ertrag pro Quadratmeterschnitt, netto (ohne Eimer). Muss eine Zahl sein. | N2: Ertrag pro Quadratmeterschnitt, netto (ohne Eimer). Muss eine Zahl sein. | O2: Ertrag pro Quadratmeterschnitt, netto (ohne Eimer). Muss eine Zahl sein. | P2: Nur angezeigt, wenn "Quadratmeterschnitte" im Dropdown ausgewählt | Q2: Umrechnung von kg/m² in dt/ha, Abzug von 10 % durch Randeffekte (Vorgewende etc.) | S2: Brutto-Einwaage. Muss eine Zahl sein. | T2: Brutto-Rückwaage. Muss eine Zahl sein. | U2: Die bei 70 °C verbleibenden 5% Wasser werden herausgerechnet | V2: Nur wenn "Quadratmeterschnitte" ausgewählt: Verrechnung von TM-Gehalt und FM-Ertrag zu TM-Ertrag. Bei fehlendem TM-Ertrag wird mit 18 % TM gerechnet. | W2: Auswahl des Kulturnamens aus der Kalibrierung aus Blatt D | X2: Muss eine Zahl sein. | Y2: Berechnung der Reggressionsgeraden aus der Kalibration für den ausgewählten Kulturnamen und Anwendung auf die eingetragene Bestandeshöhe | Z2: Heraussuchen der zugehörigen TM-Gehalte zur Berechnung des Frischmasse-Ertrags (für Ausbringmengen-Kalkulation). Wenn kein Wert vorhanden, 18% als Fallback | AB2: Muss eine Zahl sein | AC2: Dropdown-Menü bezieht sich auf C) Schätztabelle | AD2: Festlegen des TM-Ertrags, der für die weitere Berechnung verwendet werden soll. In der Reihenfolge: Sonstige Ertragsermittlung > Komprimierte Bestandeshöhe > Quadratmeterschnitte | AE2: Errechnen des Frischmasseertrags aus AD, unter Verwendung eines geeigneten TM-Gehalts: Analyse > eigene Messung aus Heißluftfritteuse > TM-Gehalt bei komprimierter Bestandeshöhe | AF2: Aus den stadiums- und mischungsabhängigen N-Gehalten und einem fixen Kohlenstoffanteil von 44 % TM (Glowacki, eigene Messungen) wird das C/N-Verhältnis geschätzt | AG2: Aus dem Leguminosenanteil, dem Grasanteil (1-LegAnteil), dem TM-Ertrag und dem N-Gehalt nach Stadium der Leguminose wird der N-Ertrag bestimmt | AI2: Muss eine Zahl zwischen 0 und 100 sein. | AJ2: Muss eine Zahl zwischen 0 und 100 sein. | AK2: Muss eine Zahl zwischen 0 und 100 sein. | AL2: C/N-Verhältnis wird, wenn C-Gehalt in AK fehlt, mit dem Standardwert (44 % TM) aus Tabellenblatt Hilfsrechnung berechnet | AM2: Berechnung des TM-Ertrags aus dem TM-Gehalt der Analyse
A4: A.1) Daten zu Fläche und Schnitt | I4: A.2) Sonstige Ertragsmessung | K4: A.3) Ermittlung Frischmasse-Ertrag mittels Quadratmeterschnitten | R4: A.4) Bestimmung Trockenmasse | W4: A.5) Ertragsmessung nach komprimierter Bestandeshöhe | AB4: A.6) Schätzung Stickstoff im Aufwuchs nach Schätztabelle | AI4: nachbereitend: A.7 Analyse Labor (genauer als Schätzung), Eingabe erst nach Erhalt der Laborergebnisse möglich
A5: Geber-ID | B5: Geberfläche [Name] | C5: Geberfläche [ha] | D5: Kultur Geberfläche | E5: Datum Probenahme | F5: Schnitt | G5: Auswahl verwendeter Ertragsermittlung | I5: FM-Ertrag [dt/ha] | J5: TM-Ertrag [dt/ha] | K5: einzelne Beprobungsfläche [m²] | L5: Ertrag Schnitt A [kg FM] | M5: Ertrag Schnitt B [kg FM] | N5: Ertrag Schnitt C [kg FM] | O5: Ertrag Schnitt D [kg FM] | P5: FM-Ertrag [kg/m²] | Q5: FM-Ertrag korrigiert [dt/ha] | R5: Behältnis [g] | S5: Einwaage mit Behältnis [g] | T5: Rückwaage mit Behältnis [g] | U5: TM -Gehalt [%] | V5: TM-Ertrag [dt/ha] | W5: Kulturname aus Kalibration | X5: gemessene Bestandeshöhe aus mehreren Messungen [cm] | Y5: geschätzter Trockenmasseertrag aus der Kalibration [dt/ha] | Z5: TM-Gehalt aus der Kalibration [%] | AB5: Anteil Leguminose [%] | AC5: Stadium Leguminose | AD5: zu verwendener TM Ertrag [dt/ha] | AE5: zu verwendender FM Ertrag [dt/ha] | AF5: geschätztes C/N-Verhältnis | AG5: N-Ertrag nach Schätzung [kg N/ha] | AI5: TM [%] | AJ5: Stickstoffgehalt [% in TM] | AK5: Kohlenstoffgehalt [% in TM] | AL5: C/N-Verhältnis | AM5: TM-Ertrag [dt/ha] | AN5: N-Ertrag nach Analyse [kg N/ha]
A6: 1 | B6: Arendsen 1 | C6: 2 | D6: Kleegras | E6: 45772 | F6: 1 | G6: A.3) Quadratmeterschnitte | J6: =IFERROR(IF(ISNUMBER(I6),I6*IF(ISNUMBER(U6),U6,18)/100,""),"") | K6: 1 | L6: 2 | M6: 2 | N6: 2 | O6: 2 | P6: =IF(AND(ISNUMBER(K6),ISNUMBER(L6),G6="A.3) Quadratmeterschnitte"),AVERAGE(L6:O6)*(1/K6),"") -> 2 | Q6: =IF(ISNUMBER(P6),P6*0.9*100,"") -> 180 | R6: 30 | S6: 285 | T6: 73 | U6: =IF(AND(ISNUMBER(R6),ISNUMBER(S6),ISNUMBER(T6)),((T6-R6)/(S6-R6))*100,"") -> 16.862745 | V6: =IF(AND(ISNUMBER(Q6), U6=""), Q6*(18/100), IF(AND(ISNUMBER(Q6), ISNUMBER(U6)), Q6*(U6/100), "")) -> 30.352941 | Y6: {=IF(AND(G6="A.5) kompr. Bestandeshöhe",W6<>"",X6>0),ROUND(X6*(INDEX(LINEST(_xlfn._xlws.FILTER('D) Ertrag kompr. Bestandeshöhe'!$V$5:$V$999,('D) Ertrag kompr. Bestandeshöhe'!$J$5:$J$999=W6)*('D) Ertrag kompr. Bestandeshöhe'!$K$5:$K$999<>"")*('D) Ertrag kompr. Bestandeshöhe'!$V$5:$V$999<>"")), _xlfn._xlws.FILTER('D) Ertrag kompr. Bestandeshöhe'!$K$5:$K$999,('D) Ertrag kompr. Bestandeshöhe'!$J$5:$J$999=W6)*('D) Ertrag kompr. Bestandeshöhe'!$K$5:$K$999<>"")*('D) Ertrag kompr. Bestandeshöhe'!$V$5:$V$999<>"")), TRUE, FALSE), 1))+(INDEX(LINEST(_xlfn._xlws.FILTER('D) Ertrag kompr. Bestandeshöhe'!$V$5:$V$999,('D) Ertrag kompr. Bestandeshöhe'!$J$5:$J$999=W6)*('D) Ertrag kompr. Bestandeshöhe'!$K$5:$K$999<>"")*('D) Ertrag kompr. Bestandeshöhe'!$V$5:$V$999<>"")), _xlfn._xlws.FILTER('D) Ertrag kompr. Bestandeshöhe'!$K$5:$K$999,('D) Ertrag kompr. Bestandeshöhe'!$J$5:$J$999=W6)*('D) Ertrag kompr. Bestandeshöhe'!$K$5:$K$999<>"")*('D) Ertrag kompr. Bestandeshöhe'!$V$5:$V$999<>"")), TRUE, FALSE), 2)),0),"")} | Z6: {=IFERROR(AVERAGE(_xlfn._xlws.FILTER('D) Ertrag kompr. Bestandeshöhe'!$O$5:$O$999,('D) Ertrag kompr. Bestandeshöhe'!$J$5:$J$999=$W6)*('D) Ertrag kompr. Bestandeshöhe'!$O$5:$O$999<>""))),18)} -> 18 | AB6: 70 | AC6: Knospen | AD6: =IFERROR(IF(AND(G6='F) Hilfsrechnung'!$I$4,J6>0),J6,IF(AND(G6='F) Hilfsrechnung'!$I$6,Y6>0),Y6,IF(AND(G6='F) Hilfsrechnung'!$I$5,V6>0),V6,""))),"") -> 30.352941 | AE6: =IFERROR(IF(ISNUMBER(AD6),AD6,"")/IF(ISNUMBER(AI6),AI6,IF(ISNUMBER(U6),U6,IF(ISNUMBER(Z6),Z6,18)))*100,"") -> 178.54671 | AF6: =IF(AG6<>"",'F) Hilfsrechnung'!$K$4/(AG6/AD6),"") -> 15.004774 | AG6: =IF(AND(ISNUMBER(AB6),AD6<>""),((INDEX('F) Hilfsrechnung'!$A$2:$B$5,MATCH(AC6,'F) Hilfsrechnung'!$A$2:$A$5,0),2)*AB6/100)+('F) Hilfsrechnung'!$B$7*(100-AB6)/100))*AD6,"") -> 89.006965 | AI6: 17 | AJ6: 3.25 | AL6: =IF(AND(ISNUMBER(AJ6),AK6=""),ROUND('F) Hilfsrechnung'!$K$4/AJ6,0),IF(AND(ISNUMBER(AJ6),ISNUMBER(AK6)),ROUND(AK6/AJ6,0),"")) -> 14 | AM6: =IF(AND(ISNUMBER(Q6),ISNUMBER(AI6)),Q6*AI6/100,IF(AD6>0,AD6,"")) -> 30.6 | AN6: =IF(AND(ISNUMBER(AJ6),ISNUMBER(AM6)),ROUND(AM6*(AJ6/100)*100,0),"") -> 99
A7: 2 | B7: Arendsen 2 | C7: 5 | D7: Kleegras | E7: 45772 | F7: 1 | G7: A.3) Quadratmeterschnitte | J7: =IFERROR(IF(ISNUMBER(I7),I7*IF(ISNUMBER(U7),U7,18)/100,""),"") | K7: 1 | L7: 2 | M7: 2 | N7: 2 | O7: 2 | P7: =IF(AND(ISNUMBER(K7),ISNUMBER(L7),G7="A.3) Quadratmeterschnitte"),AVERAGE(L7:O7)*(1/K7),"") -> 2 | Q7: =IF(ISNUMBER(P7),P7*0.9*100,"") -> 180 | R7: 30 | S7: 285 | T7: 73 | U7: =IF(AND(ISNUMBER(R7),ISNUMBER(S7),ISNUMBER(T7)),((T7-R7)/(S7-R7))*100,"") -> 16.862745 | V7: =IF(AND(ISNUMBER(Q7), U7=""), Q7*(18/100), IF(AND(ISNUMBER(Q7), ISNUMBER(U7)), Q7*(U7/100), "")) -> 30.352941 | Y7: {=IF(AND(G7="A.5) kompr. Bestandeshöhe",W7<>"",X7>0),ROUND(X7*(INDEX(LINEST(_xlfn._xlws.FILTER('D) Ertrag kompr. Bestandeshöhe'!$V$5:$V$999,('D) Ertrag kompr. Bestandeshöhe'!$J$5:$J$999=W7)*('D) Ertrag kompr. Bestandeshöhe'!$K$5:$K$999<>"")*('D) Ertrag kompr. Bestandeshöhe'!$V$5:$V$999<>"")), _xlfn._xlws.FILTER('D) Ertrag kompr. Bestandeshöhe'!$K$5:$K$999,('D) Ertrag kompr. Bestandeshöhe'!$J$5:$J$999=W7)*('D) Ertrag kompr. Bestandeshöhe'!$K$5:$K$999<>"")*('D) Ertrag kompr. Bestandeshöhe'!$V$5:$V$999<>"")), TRUE, FALSE), 1))+(INDEX(LINEST(_xlfn._xlws.FILTER('D) Ertrag kompr. Bestandeshöhe'!$V$5:$V$999,('D) Ertrag kompr. Bestandeshöhe'!$J$5:$J$999=W7)*('D) Ertrag kompr. Bestandeshöhe'!$K$5:$K$999<>"")*('D) Ertrag kompr. Bestandeshöhe'!$V$5:$V$999<>"")), _xlfn._xlws.FILTER('D) Ertrag kompr. Bestandeshöhe'!$K$5:$K$999,('D) Ertrag kompr. Bestandeshöhe'!$J$5:$J$999=W7)*('D) Ertrag kompr. Bestandeshöhe'!$K$5:$K$999<>"")*('D) Ertrag kompr. Bestandeshöhe'!$V$5:$V$999<>"")), TRUE, FALSE), 2)),0),"")} | Z7: {=IFERROR(AVERAGE(_xlfn._xlws.FILTER('D) Ertrag kompr. Bestandeshöhe'!$O$5:$O$999,('D) Ertrag kompr. Bestandeshöhe'!$J$5:$J$999=$W7)*('D) Ertrag kompr. Bestandeshöhe'!$O$5:$O$999<>""))),18)} -> 18 | AB7: 70 | AC7: Knospen | AD7: =IFERROR(IF(AND(G7='F) Hilfsrechnung'!$I$4,J7>0),J7,IF(AND(G7='F) Hilfsrechnung'!$I$6,Y7>0),Y7,IF(AND(G7='F) Hilfsrechnung'!$I$5,V7>0),V7,""))),"") -> 30.352941 | AE7: =IFERROR(IF(ISNUMBER(AD7),AD7,"")/IF(ISNUMBER(AI7),AI7,IF(ISNUMBER(U7),U7,IF(ISNUMBER(Z7),Z7,18)))*100,"") -> 178.54671 | AF7: =IF(AG7<>"",'F) Hilfsrechnung'!$K$4/(AG7/AD7),"") -> 15.004774 | AG7: =IF(AND(ISNUMBER(AB7),AD7<>""),((INDEX('F) Hilfsrechnung'!$A$2:$B$5,MATCH(AC7,'F) Hilfsrechnung'!$A$2:$A$5,0),2)*AB7/100)+('F) Hilfsrechnung'!$B$7*(100-AB7)/100))*AD7,"") -> 89.006965 | AI7: 17 | AJ7: 3.25 | AL7: =IF(AND(ISNUMBER(AJ7),AK7=""),ROUND('F) Hilfsrechnung'!$K$4/AJ7,0),IF(AND(ISNUMBER(AJ7),ISNUMBER(AK7)),ROUND(AK7/AJ7,0),"")) -> 14 | AM7: =IF(AND(ISNUMBER(Q7),ISNUMBER(AI7)),Q7*AI7/100,IF(AD7>0,AD7,"")) -> 30.6 | AN7: =IF(AND(ISNUMBER(AJ7),ISNUMBER(AM7)),ROUND(AM7*(AJ7/100)*100,0),"") -> 99
A8: 3 | J8: =IFERROR(IF(ISNUMBER(I8),I8*IF(ISNUMBER(U8),U8,18)/100,""),"") | P8: =IF(AND(ISNUMBER(K8),ISNUMBER(L8),G8="A.3) Quadratmeterschnitte"),AVERAGE(L8:O8)*(1/K8),"") | Q8: =IF(ISNUMBER(P8),P8*0.9*100,"") | U8: =IF(AND(ISNUMBER(R8),ISNUMBER(S8),ISNUMBER(T8)),((T8-R8)/(S8-R8))*100,"") | V8: =IF(AND(ISNUMBER(Q8), U8=""), Q8*(18/100), IF(AND(ISNUMBER(Q8), ISNUMBER(U8)), Q8*(U8/100), "")) | Y8: {=IF(AND(G8="A.5) kompr. Bestandeshöhe",W8<>"",X8>0),ROUND(X8*(INDEX(LINEST(_xlfn._xlws.FILTER('D) Ertrag kompr. Bestandeshöhe'!$V$5:$V$999,('D) Ertrag kompr. Bestandeshöhe'!$J$5:$J$999=W8)*('D) Ertrag kompr. Bestandeshöhe'!$K$5:$K$999<>"")*('D) Ertrag kompr. Bestandeshöhe'!$V$5:$V$999<>"")), _xlfn._xlws.FILTER('D) Ertrag kompr. Bestandeshöhe'!$K$5:$K$999,('D) Ertrag kompr. Bestandeshöhe'!$J$5:$J$999=W8)*('D) Ertrag kompr. Bestandeshöhe'!$K$5:$K$999<>"")*('D) Ertrag kompr. Bestandeshöhe'!$V$5:$V$999<>"")), TRUE, FALSE), 1))+(INDEX(LINEST(_xlfn._xlws.FILTER('D) Ertrag kompr. Bestandeshöhe'!$V$5:$V$999,('D) Ertrag kompr. Bestandeshöhe'!$J$5:$J$999=W8)*('D) Ertrag kompr. Bestandeshöhe'!$K$5:$K$999<>"")*('D) Ertrag kompr. Bestandeshöhe'!$V$5:$V$999<>"")), _xlfn._xlws.FILTER('D) Ertrag kompr. Bestandeshöhe'!$K$5:$K$999,('D) Ertrag kompr. Bestandeshöhe'!$J$5:$J$999=W8)*('D) Ertrag kompr. Bestandeshöhe'!$K$5:$K$999<>"")*('D) Ertrag kompr. Bestandeshöhe'!$V$5:$V$999<>"")), TRUE, FALSE), 2)),0),"")} | Z8: {=IFERROR(AVERAGE(_xlfn._xlws.FILTER('D) Ertrag kompr. Bestandeshöhe'!$O$5:$O$999,('D) Ertrag kompr. Bestandeshöhe'!$J$5:$J$999=$W8)*('D) Ertrag kompr. Bestandeshöhe'!$O$5:$O$999<>""))),18)} -> 18 | AD8: =IFERROR(IF(AND(G8='F) Hilfsrechnung'!$I$4,J8>0),J8,IF(AND(G8='F) Hilfsrechnung'!$I$6,Y8>0),Y8,IF(AND(G8='F) Hilfsrechnung'!$I$5,V8>0),V8,""))),"") | AE8: =IFERROR(IF(ISNUMBER(AD8),AD8,"")/IF(ISNUMBER(AI8),AI8,IF(ISNUMBER(U8),U8,IF(ISNUMBER(Z8),Z8,18)))*100,"") | AF8: =IF(AG8<>"",'F) Hilfsrechnung'!$K$4/(AG8/AD8),"") | AG8: =IF(AND(ISNUMBER(AB8),AD8<>""),((INDEX('F) Hilfsrechnung'!$A$2:$B$5,MATCH(AC8,'F) Hilfsrechnung'!$A$2:$A$5,0),2)*AB8/100)+('F) Hilfsrechnung'!$B$7*(100-AB8)/100))*AD8,"") | AL8: =IF(AND(ISNUMBER(AJ8),AK8=""),ROUND('F) Hilfsrechnung'!$K$4/AJ8,0),IF(AND(ISNUMBER(AJ8),ISNUMBER(AK8)),ROUND(AK8/AJ8,0),"")) | AM8: =IF(AND(ISNUMBER(Q8),ISNUMBER(AI8)),Q8*AI8/100,IF(AD8>0,AD8,"")) | AN8: =IF(AND(ISNUMBER(AJ8),ISNUMBER(AM8)),ROUND(AM8*(AJ8/100)*100,0),"")
A9: 4 | J9: =IFERROR(IF(ISNUMBER(I9),I9*IF(ISNUMBER(U9),U9,18)/100,""),"") | P9: =IF(AND(ISNUMBER(K9),ISNUMBER(L9),G9="A.3) Quadratmeterschnitte"),AVERAGE(L9:O9)*(1/K9),"") | Q9: =IF(ISNUMBER(P9),P9*0.9*100,"") | U9: =IF(AND(ISNUMBER(R9),ISNUMBER(S9),ISNUMBER(T9)),((T9-R9)/(S9-R9))*100,"") | V9: =IF(AND(ISNUMBER(Q9), U9=""), Q9*(18/100), IF(AND(ISNUMBER(Q9), ISNUMBER(U9)), Q9*(U9/100), "")) | Y9: {=IF(AND(G9="A.5) kompr. Bestandeshöhe",W9<>"",X9>0),ROUND(X9*(INDEX(LINEST(_xlfn._xlws.FILTER('D) Ertrag kompr. Bestandeshöhe'!$V$5:$V$999,('D) Ertrag kompr. Bestandeshöhe'!$J$5:$J$999=W9)*('D) Ertrag kompr. Bestandeshöhe'!$K$5:$K$999<>"")*('D) Ertrag kompr. Bestandeshöhe'!$V$5:$V$999<>"")), _xlfn._xlws.FILTER('D) Ertrag kompr. Bestandeshöhe'!$K$5:$K$999,('D) Ertrag kompr. Bestandeshöhe'!$J$5:$J$999=W9)*('D) Ertrag kompr. Bestandeshöhe'!$K$5:$K$999<>"")*('D) Ertrag kompr. Bestandeshöhe'!$V$5:$V$999<>"")), TRUE, FALSE), 1))+(INDEX(LINEST(_xlfn._xlws.FILTER('D) Ertrag kompr. Bestandeshöhe'!$V$5:$V$999,('D) Ertrag kompr. Bestandeshöhe'!$J$5:$J$999=W9)*('D) Ertrag kompr. Bestandeshöhe'!$K$5:$K$999<>"")*('D) Ertrag kompr. Bestandeshöhe'!$V$5:$V$999<>"")), _xlfn._xlws.FILTER('D) Ertrag kompr. Bestandeshöhe'!$K$5:$K$999,('D) Ertrag kompr. Bestandeshöhe'!$J$5:$J$999=W9)*('D) Ertrag kompr. Bestandeshöhe'!$K$5:$K$999<>"")*('D) Ertrag kompr. Bestandeshöhe'!$V$5:$V$999<>"")), TRUE, FALSE), 2)),0),"")} | Z9: {=IFERROR(AVERAGE(_xlfn._xlws.FILTER('D) Ertrag kompr. Bestandeshöhe'!$O$5:$O$999,('D) Ertrag kompr. Bestandeshöhe'!$J$5:$J$999=$W9)*('D) Ertrag kompr. Bestandeshöhe'!$O$5:$O$999<>""))),18)} -> 18 | AD9: =IFERROR(IF(AND(G9='F) Hilfsrechnung'!$I$4,J9>0),J9,IF(AND(G9='F) Hilfsrechnung'!$I$6,Y9>0),Y9,IF(AND(G9='F) Hilfsrechnung'!$I$5,V9>0),V9,""))),"") | AE9: =IFERROR(IF(ISNUMBER(AD9),AD9,"")/IF(ISNUMBER(AI9),AI9,IF(ISNUMBER(U9),U9,IF(ISNUMBER(Z9),Z9,18)))*100,"") | AF9: =IF(AG9<>"",'F) Hilfsrechnung'!$K$4/(AG9/AD9),"") | AG9: =IF(AND(ISNUMBER(AB9),AD9<>""),((INDEX('F) Hilfsrechnung'!$A$2:$B$5,MATCH(AC9,'F) Hilfsrechnung'!$A$2:$A$5,0),2)*AB9/100)+('F) Hilfsrechnung'!$B$7*(100-AB9)/100))*AD9,"") | AL9: =IF(AND(ISNUMBER(AJ9),AK9=""),ROUND('F) Hilfsrechnung'!$K$4/AJ9,0),IF(AND(ISNUMBER(AJ9),ISNUMBER(AK9)),ROUND(AK9/AJ9,0),"")) | AM9: =IF(AND(ISNUMBER(Q9),ISNUMBER(AI9)),Q9*AI9/100,IF(AD9>0,AD9,"")) | AN9: =IF(AND(ISNUMBER(AJ9),ISNUMBER(AM9)),ROUND(AM9*(AJ9/100)*100,0),"")
A10: 5 | J10: =IFERROR(IF(ISNUMBER(I10),I10*IF(ISNUMBER(U10),U10,18)/100,""),"") | P10: =IF(AND(ISNUMBER(K10),ISNUMBER(L10),G10="A.3) Quadratmeterschnitte"),AVERAGE(L10:O10)*(1/K10),"") | Q10: =IF(ISNUMBER(P10),P10*0.9*100,"") | U10: =IF(AND(ISNUMBER(R10),ISNUMBER(S10),ISNUMBER(T10)),((T10-R10)/(S10-R10))*100,"") | V10: =IF(AND(ISNUMBER(Q10), U10=""), Q10*(18/100), IF(AND(ISNUMBER(Q10), ISNUMBER(U10)), Q10*(U10/100), "")) | Y10: {=IF(AND(G10="A.5) kompr. Bestandeshöhe",W10<>"",X10>0),ROUND(X10*(INDEX(LINEST(_xlfn._xlws.FILTER('D) Ertrag kompr. Bestandeshöhe'!$V$5:$V$999,('D) Ertrag kompr. Bestandeshöhe'!$J$5:$J$999=W10)*('D) Ertrag kompr. Bestandeshöhe'!$K$5:$K$999<>"")*('D) Ertrag kompr. Bestandeshöhe'!$V$5:$V$999<>"")), _xlfn._xlws.FILTER('D) Ertrag kompr. Bestandeshöhe'!$K$5:$K$999,('D) Ertrag kompr. Bestandeshöhe'!$J$5:$J$999=W10)*('D) Ertrag kompr. Bestandeshöhe'!$K$5:$K$999<>"")*('D) Ertrag kompr. Bestandeshöhe'!$V$5:$V$999<>"")), TRUE, FALSE), 1))+(INDEX(LINEST(_xlfn._xlws.FILTER('D) Ertrag kompr. Bestandeshöhe'!$V$5:$V$999,('D) Ertrag kompr. Bestandeshöhe'!$J$5:$J$999=W10)*('D) Ertrag kompr. Bestandeshöhe'!$K$5:$K$999<>"")*('D) Ertrag kompr. Bestandeshöhe'!$V$5:$V$999<>"")), _xlfn._xlws.FILTER('D) Ertrag kompr. Bestandeshöhe'!$K$5:$K$999,('D) Ertrag kompr. Bestandeshöhe'!$J$5:$J$999=W10)*('D) Ertrag kompr. Bestandeshöhe'!$K$5:$K$999<>"")*('D) Ertrag kompr. Bestandeshöhe'!$V$5:$V$999<>"")), TRUE, FALSE), 2)),0),"")} | Z10: {=IFERROR(AVERAGE(_xlfn._xlws.FILTER('D) Ertrag kompr. Bestandeshöhe'!$O$5:$O$999,('D) Ertrag kompr. Bestandeshöhe'!$J$5:$J$999=$W10)*('D) Ertrag kompr. Bestandeshöhe'!$O$5:$O$999<>""))),18)} -> 18 | AD10: =IFERROR(IF(AND(G10='F) Hilfsrechnung'!$I$4,J10>0),J10,IF(AND(G10='F) Hilfsrechnung'!$I$6,Y10>0),Y10,IF(AND(G10='F) Hilfsrechnung'!$I$5,V10>0),V10,""))),"") | AE10: =IFERROR(IF(ISNUMBER(AD10),AD10,"")/IF(ISNUMBER(AI10),AI10,IF(ISNUMBER(U10),U10,IF(ISNUMBER(Z10),Z10,18)))*100,"") | AF10: =IF(AG10<>"",'F) Hilfsrechnung'!$K$4/(AG10/AD10),"") | AG10: =IF(AND(ISNUMBER(AB10),AD10<>""),((INDEX('F) Hilfsrechnung'!$A$2:$B$5,MATCH(AC10,'F) Hilfsrechnung'!$A$2:$A$5,0),2)*AB10/100)+('F) Hilfsrechnung'!$B$7*(100-AB10)/100))*AD10,"") | AL10: =IF(AND(ISNUMBER(AJ10),AK10=""),ROUND('F) Hilfsrechnung'!$K$4/AJ10,0),IF(AND(ISNUMBER(AJ10),ISNUMBER(AK10)),ROUND(AK10/AJ10,0),"")) | AM10: =IF(AND(ISNUMBER(Q10),ISNUMBER(AI10)),Q10*AI10/100,IF(AD10>0,AD10,"")) | AN10: =IF(AND(ISNUMBER(AJ10),ISNUMBER(AM10)),ROUND(AM10*(AJ10/100)*100,0),"")
A11: 6 | J11: =IFERROR(IF(ISNUMBER(I11),I11*IF(ISNUMBER(U11),U11,18)/100,""),"") | P11: =IF(AND(ISNUMBER(K11),ISNUMBER(L11),G11="A.3) Quadratmeterschnitte"),AVERAGE(L11:O11)*(1/K11),"") | Q11: =IF(ISNUMBER(P11),P11*0.9*100,"") | U11: =IF(AND(ISNUMBER(R11),ISNUMBER(S11),ISNUMBER(T11)),((T11-R11)/(S11-R11))*100,"") | V11: =IF(AND(ISNUMBER(Q11), U11=""), Q11*(18/100), IF(AND(ISNUMBER(Q11), ISNUMBER(U11)), Q11*(U11/100), "")) | Y11: {=IF(AND(G11="A.5) kompr. Bestandeshöhe",W11<>"",X11>0),ROUND(X11*(INDEX(LINEST(_xlfn._xlws.FILTER('D) Ertrag kompr. Bestandeshöhe'!$V$5:$V$999,('D) Ertrag kompr. Bestandeshöhe'!$J$5:$J$999=W11)*('D) Ertrag kompr. Bestandeshöhe'!$K$5:$K$999<>"")*('D) Ertrag kompr. Bestandeshöhe'!$V$5:$V$999<>"")), _xlfn._xlws.FILTER('D) Ertrag kompr. Bestandeshöhe'!$K$5:$K$999,('D) Ertrag kompr. Bestandeshöhe'!$J$5:$J$999=W11)*('D) Ertrag kompr. Bestandeshöhe'!$K$5:$K$999<>"")*('D) Ertrag kompr. Bestandeshöhe'!$V$5:$V$999<>"")), TRUE, FALSE), 1))+(INDEX(LINEST(_xlfn._xlws.FILTER('D) Ertrag kompr. Bestandeshöhe'!$V$5:$V$999,('D) Ertrag kompr. Bestandeshöhe'!$J$5:$J$999=W11)*('D) Ertrag kompr. Bestandeshöhe'!$K$5:$K$999<>"")*('D) Ertrag kompr. Bestandeshöhe'!$V$5:$V$999<>"")), _xlfn._xlws.FILTER('D) Ertrag kompr. Bestandeshöhe'!$K$5:$K$999,('D) Ertrag kompr. Bestandeshöhe'!$J$5:$J$999=W11)*('D) Ertrag kompr. Bestandeshöhe'!$K$5:$K$999<>"")*('D) Ertrag kompr. Bestandeshöhe'!$V$5:$V$999<>"")), TRUE, FALSE), 2)),0),"")} | Z11: {=IFERROR(AVERAGE(_xlfn._xlws.FILTER('D) Ertrag kompr. Bestandeshöhe'!$O$5:$O$999,('D) Ertrag kompr. Bestandeshöhe'!$J$5:$J$999=$W11)*('D) Ertrag kompr. Bestandeshöhe'!$O$5:$O$999<>""))),18)} -> 18 | AD11: =IFERROR(IF(AND(G11='F) Hilfsrechnung'!$I$4,J11>0),J11,IF(AND(G11='F) Hilfsrechnung'!$I$6,Y11>0),Y11,IF(AND(G11='F) Hilfsrechnung'!$I$5,V11>0),V11,""))),"") | AE11: =IFERROR(IF(ISNUMBER(AD11),AD11,"")/IF(ISNUMBER(AI11),AI11,IF(ISNUMBER(U11),U11,IF(ISNUMBER(Z11),Z11,18)))*100,"") | AF11: =IF(AG11<>"",'F) Hilfsrechnung'!$K$4/(AG11/AD11),"") | AG11: =IF(AND(ISNUMBER(AB11),AD11<>""),((INDEX('F) Hilfsrechnung'!$A$2:$B$5,MATCH(AC11,'F) Hilfsrechnung'!$A$2:$A$5,0),2)*AB11/100)+('F) Hilfsrechnung'!$B$7*(100-AB11)/100))*AD11,"") | AL11: =IF(AND(ISNUMBER(AJ11),AK11=""),ROUND('F) Hilfsrechnung'!$K$4/AJ11,0),IF(AND(ISNUMBER(AJ11),ISNUMBER(AK11)),ROUND(AK11/AJ11,0),"")) | AM11: =IF(AND(ISNUMBER(Q11),ISNUMBER(AI11)),Q11*AI11/100,IF(AD11>0,AD11,"")) | AN11: =IF(AND(ISNUMBER(AJ11),ISNUMBER(AM11)),ROUND(AM11*(AJ11/100)*100,0),"")
A12: 7 | J12: =IFERROR(IF(ISNUMBER(I12),I12*IF(ISNUMBER(U12),U12,18)/100,""),"") | P12: =IF(AND(ISNUMBER(K12),ISNUMBER(L12),G12="A.3) Quadratmeterschnitte"),AVERAGE(L12:O12)*(1/K12),"") | Q12: =IF(ISNUMBER(P12),P12*0.9*100,"") | U12: =IF(AND(ISNUMBER(R12),ISNUMBER(S12),ISNUMBER(T12)),((T12-R12)/(S12-R12))*100,"") | V12: =IF(AND(ISNUMBER(Q12), U12=""), Q12*(18/100), IF(AND(ISNUMBER(Q12), ISNUMBER(U12)), Q12*(U12/100), "")) | Y12: {=IF(AND(G12="A.5) kompr. Bestandeshöhe",W12<>"",X12>0),ROUND(X12*(INDEX(LINEST(_xlfn._xlws.FILTER('D) Ertrag kompr. Bestandeshöhe'!$V$5:$V$999,('D) Ertrag kompr. Bestandeshöhe'!$J$5:$J$999=W12)*('D) Ertrag kompr. Bestandeshöhe'!$K$5:$K$999<>"")*('D) Ertrag kompr. Bestandeshöhe'!$V$5:$V$999<>"")), _xlfn._xlws.FILTER('D) Ertrag kompr. Bestandeshöhe'!$K$5:$K$999,('D) Ertrag kompr. Bestandeshöhe'!$J$5:$J$999=W12)*('D) Ertrag kompr. Bestandeshöhe'!$K$5:$K$999<>"")*('D) Ertrag kompr. Bestandeshöhe'!$V$5:$V$999<>"")), TRUE, FALSE), 1))+(INDEX(LINEST(_xlfn._xlws.FILTER('D) Ertrag kompr. Bestandeshöhe'!$V$5:$V$999,('D) Ertrag kompr. Bestandeshöhe'!$J$5:$J$999=W12)*('D) Ertrag kompr. Bestandeshöhe'!$K$5:$K$999<>"")*('D) Ertrag kompr. Bestandeshöhe'!$V$5:$V$999<>"")), _xlfn._xlws.FILTER('D) Ertrag kompr. Bestandeshöhe'!$K$5:$K$999,('D) Ertrag kompr. Bestandeshöhe'!$J$5:$J$999=W12)*('D) Ertrag kompr. Bestandeshöhe'!$K$5:$K$999<>"")*('D) Ertrag kompr. Bestandeshöhe'!$V$5:$V$999<>"")), TRUE, FALSE), 2)),0),"")} | Z12: {=IFERROR(AVERAGE(_xlfn._xlws.FILTER('D) Ertrag kompr. Bestandeshöhe'!$O$5:$O$999,('D) Ertrag kompr. Bestandeshöhe'!$J$5:$J$999=$W12)*('D) Ertrag kompr. Bestandeshöhe'!$O$5:$O$999<>""))),18)} -> 18 | AD12: =IFERROR(IF(AND(G12='F) Hilfsrechnung'!$I$4,J12>0),J12,IF(AND(G12='F) Hilfsrechnung'!$I$6,Y12>0),Y12,IF(AND(G12='F) Hilfsrechnung'!$I$5,V12>0),V12,""))),"") | AE12: =IFERROR(IF(ISNUMBER(AD12),AD12,"")/IF(ISNUMBER(AI12),AI12,IF(ISNUMBER(U12),U12,IF(ISNUMBER(Z12),Z12,18)))*100,"") | AF12: =IF(AG12<>"",'F) Hilfsrechnung'!$K$4/(AG12/AD12),"") | AG12: =IF(AND(ISNUMBER(AB12),AD12<>""),((INDEX('F) Hilfsrechnung'!$A$2:$B$5,MATCH(AC12,'F) Hilfsrechnung'!$A$2:$A$5,0),2)*AB12/100)+('F) Hilfsrechnung'!$B$7*(100-AB12)/100))*AD12,"") | AL12: =IF(AND(ISNUMBER(AJ12),AK12=""),ROUND('F) Hilfsrechnung'!$K$4/AJ12,0),IF(AND(ISNUMBER(AJ12),ISNUMBER(AK12)),ROUND(AK12/AJ12,0),"")) | AM12: =IF(AND(ISNUMBER(Q12),ISNUMBER(AI12)),Q12*AI12/100,IF(AD12>0,AD12,"")) | AN12: =IF(AND(ISNUMBER(AJ12),ISNUMBER(AM12)),ROUND(AM12*(AJ12/100)*100,0),"")
A13: 8 | J13: =IFERROR(IF(ISNUMBER(I13),I13*IF(ISNUMBER(U13),U13,18)/100,""),"") | P13: =IF(AND(ISNUMBER(K13),ISNUMBER(L13),G13="A.3) Quadratmeterschnitte"),AVERAGE(L13:O13)*(1/K13),"") | Q13: =IF(ISNUMBER(P13),P13*0.9*100,"") | U13: =IF(AND(ISNUMBER(R13),ISNUMBER(S13),ISNUMBER(T13)),((T13-R13)/(S13-R13))*100,"") | V13: =IF(AND(ISNUMBER(Q13), U13=""), Q13*(18/100), IF(AND(ISNUMBER(Q13), ISNUMBER(U13)), Q13*(U13/100), "")) | Y13: {=IF(AND(G13="A.5) kompr. Bestandeshöhe",W13<>"",X13>0),ROUND(X13*(INDEX(LINEST(_xlfn._xlws.FILTER('D) Ertrag kompr. Bestandeshöhe'!$V$5:$V$999,('D) Ertrag kompr. Bestandeshöhe'!$J$5:$J$999=W13)*('D) Ertrag kompr. Bestandeshöhe'!$K$5:$K$999<>"")*('D) Ertrag kompr. Bestandeshöhe'!$V$5:$V$999<>"")), _xlfn._xlws.FILTER('D) Ertrag kompr. Bestandeshöhe'!$K$5:$K$999,('D) Ertrag kompr. Bestandeshöhe'!$J$5:$J$999=W13)*('D) Ertrag kompr. Bestandeshöhe'!$K$5:$K$999<>"")*('D) Ertrag kompr. Bestandeshöhe'!$V$5:$V$999<>"")), TRUE, FALSE), 1))+(INDEX(LINEST(_xlfn._xlws.FILTER('D) Ertrag kompr. Bestandeshöhe'!$V$5:$V$999,('D) Ertrag kompr. Bestandeshöhe'!$J$5:$J$999=W13)*('D) Ertrag kompr. Bestandeshöhe'!$K$5:$K$999<>"")*('D) Ertrag kompr. Bestandeshöhe'!$V$5:$V$999<>"")), _xlfn._xlws.FILTER('D) Ertrag kompr. Bestandeshöhe'!$K$5:$K$999,('D) Ertrag kompr. Bestandeshöhe'!$J$5:$J$999=W13)*('D) Ertrag kompr. Bestandeshöhe'!$K$5:$K$999<>"")*('D) Ertrag kompr. Bestandeshöhe'!$V$5:$V$999<>"")), TRUE, FALSE), 2)),0),"")} | Z13: {=IFERROR(AVERAGE(_xlfn._xlws.FILTER('D) Ertrag kompr. Bestandeshöhe'!$O$5:$O$999,('D) Ertrag kompr. Bestandeshöhe'!$J$5:$J$999=$W13)*('D) Ertrag kompr. Bestandeshöhe'!$O$5:$O$999<>""))),18)} -> 18 | AD13: =IFERROR(IF(AND(G13='F) Hilfsrechnung'!$I$4,J13>0),J13,IF(AND(G13='F) Hilfsrechnung'!$I$6,Y13>0),Y13,IF(AND(G13='F) Hilfsrechnung'!$I$5,V13>0),V13,""))),"") | AE13: =IFERROR(IF(ISNUMBER(AD13),AD13,"")/IF(ISNUMBER(AI13),AI13,IF(ISNUMBER(U13),U13,IF(ISNUMBER(Z13),Z13,18)))*100,"") | AF13: =IF(AG13<>"",'F) Hilfsrechnung'!$K$4/(AG13/AD13),"") | AG13: =IF(AND(ISNUMBER(AB13),AD13<>""),((INDEX('F) Hilfsrechnung'!$A$2:$B$5,MATCH(AC13,'F) Hilfsrechnung'!$A$2:$A$5,0),2)*AB13/100)+('F) Hilfsrechnung'!$B$7*(100-AB13)/100))*AD13,"") | AL13: =IF(AND(ISNUMBER(AJ13),AK13=""),ROUND('F) Hilfsrechnung'!$K$4/AJ13,0),IF(AND(ISNUMBER(AJ13),ISNUMBER(AK13)),ROUND(AK13/AJ13,0),"")) | AM13: =IF(AND(ISNUMBER(Q13),ISNUMBER(AI13)),Q13*AI13/100,IF(AD13>0,AD13,"")) | AN13: =IF(AND(ISNUMBER(AJ13),ISNUMBER(AM13)),ROUND(AM13*(AJ13/100)*100,0),"")
A14: 9 | J14: =IFERROR(IF(ISNUMBER(I14),I14*IF(ISNUMBER(U14),U14,18)/100,""),"") | P14: =IF(AND(ISNUMBER(K14),ISNUMBER(L14),G14="A.3) Quadratmeterschnitte"),AVERAGE(L14:O14)*(1/K14),"") | Q14: =IF(ISNUMBER(P14),P14*0.9*100,"") | U14: =IF(AND(ISNUMBER(R14),ISNUMBER(S14),ISNUMBER(T14)),((T14-R14)/(S14-R14))*100,"") | V14: =IF(AND(ISNUMBER(Q14), U14=""), Q14*(18/100), IF(AND(ISNUMBER(Q14), ISNUMBER(U14)), Q14*(U14/100), "")) | Y14: {=IF(AND(G14="A.5) kompr. Bestandeshöhe",W14<>"",X14>0),ROUND(X14*(INDEX(LINEST(_xlfn._xlws.FILTER('D) Ertrag kompr. Bestandeshöhe'!$V$5:$V$999,('D) Ertrag kompr. Bestandeshöhe'!$J$5:$J$999=W14)*('D) Ertrag kompr. Bestandeshöhe'!$K$5:$K$999<>"")*('D) Ertrag kompr. Bestandeshöhe'!$V$5:$V$999<>"")), _xlfn._xlws.FILTER('D) Ertrag kompr. Bestandeshöhe'!$K$5:$K$999,('D) Ertrag kompr. Bestandeshöhe'!$J$5:$J$999=W14)*('D) Ertrag kompr. Bestandeshöhe'!$K$5:$K$999<>"")*('D) Ertrag kompr. Bestandeshöhe'!$V$5:$V$999<>"")), TRUE, FALSE), 1))+(INDEX(LINEST(_xlfn._xlws.FILTER('D) Ertrag kompr. Bestandeshöhe'!$V$5:$V$999,('D) Ertrag kompr. Bestandeshöhe'!$J$5:$J$999=W14)*('D) Ertrag kompr. Bestandeshöhe'!$K$5:$K$999<>"")*('D) Ertrag kompr. Bestandeshöhe'!$V$5:$V$999<>"")), _xlfn._xlws.FILTER('D) Ertrag kompr. Bestandeshöhe'!$K$5:$K$999,('D) Ertrag kompr. Bestandeshöhe'!$J$5:$J$999=W14)*('D) Ertrag kompr. Bestandeshöhe'!$K$5:$K$999<>"")*('D) Ertrag kompr. Bestandeshöhe'!$V$5:$V$999<>"")), TRUE, FALSE), 2)),0),"")} | Z14: {=IFERROR(AVERAGE(_xlfn._xlws.FILTER('D) Ertrag kompr. Bestandeshöhe'!$O$5:$O$999,('D) Ertrag kompr. Bestandeshöhe'!$J$5:$J$999=$W14)*('D) Ertrag kompr. Bestandeshöhe'!$O$5:$O$999<>""))),18)} -> 18 | AD14: =IFERROR(IF(AND(G14='F) Hilfsrechnung'!$I$4,J14>0),J14,IF(AND(G14='F) Hilfsrechnung'!$I$6,Y14>0),Y14,IF(AND(G14='F) Hilfsrechnung'!$I$5,V14>0),V14,""))),"") | AE14: =IFERROR(IF(ISNUMBER(AD14),AD14,"")/IF(ISNUMBER(AI14),AI14,IF(ISNUMBER(U14),U14,IF(ISNUMBER(Z14),Z14,18)))*100,"") | AF14: =IF(AG14<>"",'F) Hilfsrechnung'!$K$4/(AG14/AD14),"") | AG14: =IF(AND(ISNUMBER(AB14),AD14<>""),((INDEX('F) Hilfsrechnung'!$A$2:$B$5,MATCH(AC14,'F) Hilfsrechnung'!$A$2:$A$5,0),2)*AB14/100)+('F) Hilfsrechnung'!$B$7*(100-AB14)/100))*AD14,"") | AL14: =IF(AND(ISNUMBER(AJ14),AK14=""),ROUND('F) Hilfsrechnung'!$K$4/AJ14,0),IF(AND(ISNUMBER(AJ14),ISNUMBER(AK14)),ROUND(AK14/AJ14,0),"")) | AM14: =IF(AND(ISNUMBER(Q14),ISNUMBER(AI14)),Q14*AI14/100,IF(AD14>0,AD14,"")) | AN14: =IF(AND(ISNUMBER(AJ14),ISNUMBER(AM14)),ROUND(AM14*(AJ14/100)*100,0),"")
A15: 10 | J15: =IFERROR(IF(ISNUMBER(I15),I15*IF(ISNUMBER(U15),U15,18)/100,""),"") | P15: =IF(AND(ISNUMBER(K15),ISNUMBER(L15),G15="A.3) Quadratmeterschnitte"),AVERAGE(L15:O15)*(1/K15),"") | Q15: =IF(ISNUMBER(P15),P15*0.9*100,"") | U15: =IF(AND(ISNUMBER(R15),ISNUMBER(S15),ISNUMBER(T15)),((T15-R15)/(S15-R15))*100,"") | V15: =IF(AND(ISNUMBER(Q15), U15=""), Q15*(18/100), IF(AND(ISNUMBER(Q15), ISNUMBER(U15)), Q15*(U15/100), "")) | Y15: {=IF(AND(G15="A.5) kompr. Bestandeshöhe",W15<>"",X15>0),ROUND(X15*(INDEX(LINEST(_xlfn._xlws.FILTER('D) Ertrag kompr. Bestandeshöhe'!$V$5:$V$999,('D) Ertrag kompr. Bestandeshöhe'!$J$5:$J$999=W15)*('D) Ertrag kompr. Bestandeshöhe'!$K$5:$K$999<>"")*('D) Ertrag kompr. Bestandeshöhe'!$V$5:$V$999<>"")), _xlfn._xlws.FILTER('D) Ertrag kompr. Bestandeshöhe'!$K$5:$K$999,('D) Ertrag kompr. Bestandeshöhe'!$J$5:$J$999=W15)*('D) Ertrag kompr. Bestandeshöhe'!$K$5:$K$999<>"")*('D) Ertrag kompr. Bestandeshöhe'!$V$5:$V$999<>"")), TRUE, FALSE), 1))+(INDEX(LINEST(_xlfn._xlws.FILTER('D) Ertrag kompr. Bestandeshöhe'!$V$5:$V$999,('D) Ertrag kompr. Bestandeshöhe'!$J$5:$J$999=W15)*('D) Ertrag kompr. Bestandeshöhe'!$K$5:$K$999<>"")*('D) Ertrag kompr. Bestandeshöhe'!$V$5:$V$999<>"")), _xlfn._xlws.FILTER('D) Ertrag kompr. Bestandeshöhe'!$K$5:$K$999,('D) Ertrag kompr. Bestandeshöhe'!$J$5:$J$999=W15)*('D) Ertrag kompr. Bestandeshöhe'!$K$5:$K$999<>"")*('D) Ertrag kompr. Bestandeshöhe'!$V$5:$V$999<>"")), TRUE, FALSE), 2)),0),"")} | Z15: {=IFERROR(AVERAGE(_xlfn._xlws.FILTER('D) Ertrag kompr. Bestandeshöhe'!$O$5:$O$999,('D) Ertrag kompr. Bestandeshöhe'!$J$5:$J$999=$W15)*('D) Ertrag kompr. Bestandeshöhe'!$O$5:$O$999<>""))),18)} -> 18 | AD15: =IFERROR(IF(AND(G15='F) Hilfsrechnung'!$I$4,J15>0),J15,IF(AND(G15='F) Hilfsrechnung'!$I$6,Y15>0),Y15,IF(AND(G15='F) Hilfsrechnung'!$I$5,V15>0),V15,""))),"") | AE15: =IFERROR(IF(ISNUMBER(AD15),AD15,"")/IF(ISNUMBER(AI15),AI15,IF(ISNUMBER(U15),U15,IF(ISNUMBER(Z15),Z15,18)))*100,"") | AF15: =IF(AG15<>"",'F) Hilfsrechnung'!$K$4/(AG15/AD15),"") | AG15: =IF(AND(ISNUMBER(AB15),AD15<>""),((INDEX('F) Hilfsrechnung'!$A$2:$B$5,MATCH(AC15,'F) Hilfsrechnung'!$A$2:$A$5,0),2)*AB15/100)+('F) Hilfsrechnung'!$B$7*(100-AB15)/100))*AD15,"") | AL15: =IF(AND(ISNUMBER(AJ15),AK15=""),ROUND('F) Hilfsrechnung'!$K$4/AJ15,0),IF(AND(ISNUMBER(AJ15),ISNUMBER(AK15)),ROUND(AK15/AJ15,0),"")) | AM15: =IF(AND(ISNUMBER(Q15),ISNUMBER(AI15)),Q15*AI15/100,IF(AD15>0,AD15,"")) | AN15: =IF(AND(ISNUMBER(AJ15),ISNUMBER(AM15)),ROUND(AM15*(AJ15/100)*100,0),"")
A16: 11 | J16: =IFERROR(IF(ISNUMBER(I16),I16*IF(ISNUMBER(U16),U16,18)/100,""),"") | P16: =IF(AND(ISNUMBER(K16),ISNUMBER(L16),G16="A.3) Quadratmeterschnitte"),AVERAGE(L16:O16)*(1/K16),"") | Q16: =IF(ISNUMBER(P16),P16*0.9*100,"") | U16: =IF(AND(ISNUMBER(R16),ISNUMBER(S16),ISNUMBER(T16)),((T16-R16)/(S16-R16))*100,"") | V16: =IF(AND(ISNUMBER(Q16), U16=""), Q16*(18/100), IF(AND(ISNUMBER(Q16), ISNUMBER(U16)), Q16*(U16/100), "")) | Y16: {=IF(AND(G16="A.5) kompr. Bestandeshöhe",W16<>"",X16>0),ROUND(X16*(INDEX(LINEST(_xlfn._xlws.FILTER('D) Ertrag kompr. Bestandeshöhe'!$V$5:$V$999,('D) Ertrag kompr. Bestandeshöhe'!$J$5:$J$999=W16)*('D) Ertrag kompr. Bestandeshöhe'!$K$5:$K$999<>"")*('D) Ertrag kompr. Bestandeshöhe'!$V$5:$V$999<>"")), _xlfn._xlws.FILTER('D) Ertrag kompr. Bestandeshöhe'!$K$5:$K$999,('D) Ertrag kompr. Bestandeshöhe'!$J$5:$J$999=W16)*('D) Ertrag kompr. Bestandeshöhe'!$K$5:$K$999<>"")*('D) Ertrag kompr. Bestandeshöhe'!$V$5:$V$999<>"")), TRUE, FALSE), 1))+(INDEX(LINEST(_xlfn._xlws.FILTER('D) Ertrag kompr. Bestandeshöhe'!$V$5:$V$999,('D) Ertrag kompr. Bestandeshöhe'!$J$5:$J$999=W16)*('D) Ertrag kompr. Bestandeshöhe'!$K$5:$K$999<>"")*('D) Ertrag kompr. Bestandeshöhe'!$V$5:$V$999<>"")), _xlfn._xlws.FILTER('D) Ertrag kompr. Bestandeshöhe'!$K$5:$K$999,('D) Ertrag kompr. Bestandeshöhe'!$J$5:$J$999=W16)*('D) Ertrag kompr. Bestandeshöhe'!$K$5:$K$999<>"")*('D) Ertrag kompr. Bestandeshöhe'!$V$5:$V$999<>"")), TRUE, FALSE), 2)),0),"")} | Z16: {=IFERROR(AVERAGE(_xlfn._xlws.FILTER('D) Ertrag kompr. Bestandeshöhe'!$O$5:$O$999,('D) Ertrag kompr. Bestandeshöhe'!$J$5:$J$999=$W16)*('D) Ertrag kompr. Bestandeshöhe'!$O$5:$O$999<>""))),18)} -> 18 | AD16: =IFERROR(IF(AND(G16='F) Hilfsrechnung'!$I$4,J16>0),J16,IF(AND(G16='F) Hilfsrechnung'!$I$6,Y16>0),Y16,IF(AND(G16='F) Hilfsrechnung'!$I$5,V16>0),V16,""))),"") | AE16: =IFERROR(IF(ISNUMBER(AD16),AD16,"")/IF(ISNUMBER(AI16),AI16,IF(ISNUMBER(U16),U16,IF(ISNUMBER(Z16),Z16,18)))*100,"") | AF16: =IF(AG16<>"",'F) Hilfsrechnung'!$K$4/(AG16/AD16),"") | AG16: =IF(AND(ISNUMBER(AB16),AD16<>""),((INDEX('F) Hilfsrechnung'!$A$2:$B$5,MATCH(AC16,'F) Hilfsrechnung'!$A$2:$A$5,0),2)*AB16/100)+('F) Hilfsrechnung'!$B$7*(100-AB16)/100))*AD16,"") | AL16: =IF(AND(ISNUMBER(AJ16),AK16=""),ROUND('F) Hilfsrechnung'!$K$4/AJ16,0),IF(AND(ISNUMBER(AJ16),ISNUMBER(AK16)),ROUND(AK16/AJ16,0),"")) | AM16: =IF(AND(ISNUMBER(Q16),ISNUMBER(AI16)),Q16*AI16/100,IF(AD16>0,AD16,"")) | AN16: =IF(AND(ISNUMBER(AJ16),ISNUMBER(AM16)),ROUND(AM16*(AJ16/100)*100,0),"")
A17: 12 | J17: =IFERROR(IF(ISNUMBER(I17),I17*IF(ISNUMBER(U17),U17,18)/100,""),"") | P17: =IF(AND(ISNUMBER(K17),ISNUMBER(L17),G17="A.3) Quadratmeterschnitte"),AVERAGE(L17:O17)*(1/K17),"") | Q17: =IF(ISNUMBER(P17),P17*0.9*100,"") | U17: =IF(AND(ISNUMBER(R17),ISNUMBER(S17),ISNUMBER(T17)),((T17-R17)/(S17-R17))*100,"") | V17: =IF(AND(ISNUMBER(Q17), U17=""), Q17*(18/100), IF(AND(ISNUMBER(Q17), ISNUMBER(U17)), Q17*(U17/100), "")) | Y17: {=IF(AND(G17="A.5) kompr. Bestandeshöhe",W17<>"",X17>0),ROUND(X17*(INDEX(LINEST(_xlfn._xlws.FILTER('D) Ertrag kompr. Bestandeshöhe'!$V$5:$V$999,('D) Ertrag kompr. Bestandeshöhe'!$J$5:$J$999=W17)*('D) Ertrag kompr. Bestandeshöhe'!$K$5:$K$999<>"")*('D) Ertrag kompr. Bestandeshöhe'!$V$5:$V$999<>"")), _xlfn._xlws.FILTER('D) Ertrag kompr. Bestandeshöhe'!$K$5:$K$999,('D) Ertrag kompr. Bestandeshöhe'!$J$5:$J$999=W17)*('D) Ertrag kompr. Bestandeshöhe'!$K$5:$K$999<>"")*('D) Ertrag kompr. Bestandeshöhe'!$V$5:$V$999<>"")), TRUE, FALSE), 1))+(INDEX(LINEST(_xlfn._xlws.FILTER('D) Ertrag kompr. Bestandeshöhe'!$V$5:$V$999,('D) Ertrag kompr. Bestandeshöhe'!$J$5:$J$999=W17)*('D) Ertrag kompr. Bestandeshöhe'!$K$5:$K$999<>"")*('D) Ertrag kompr. Bestandeshöhe'!$V$5:$V$999<>"")), _xlfn._xlws.FILTER('D) Ertrag kompr. Bestandeshöhe'!$K$5:$K$999,('D) Ertrag kompr. Bestandeshöhe'!$J$5:$J$999=W17)*('D) Ertrag kompr. Bestandeshöhe'!$K$5:$K$999<>"")*('D) Ertrag kompr. Bestandeshöhe'!$V$5:$V$999<>"")), TRUE, FALSE), 2)),0),"")} | Z17: {=IFERROR(AVERAGE(_xlfn._xlws.FILTER('D) Ertrag kompr. Bestandeshöhe'!$O$5:$O$999,('D) Ertrag kompr. Bestandeshöhe'!$J$5:$J$999=$W17)*('D) Ertrag kompr. Bestandeshöhe'!$O$5:$O$999<>""))),18)} -> 18 | AD17: =IFERROR(IF(AND(G17='F) Hilfsrechnung'!$I$4,J17>0),J17,IF(AND(G17='F) Hilfsrechnung'!$I$6,Y17>0),Y17,IF(AND(G17='F) Hilfsrechnung'!$I$5,V17>0),V17,""))),"") | AE17: =IFERROR(IF(ISNUMBER(AD17),AD17,"")/IF(ISNUMBER(AI17),AI17,IF(ISNUMBER(U17),U17,IF(ISNUMBER(Z17),Z17,18)))*100,"") | AF17: =IF(AG17<>"",'F) Hilfsrechnung'!$K$4/(AG17/AD17),"") | AG17: =IF(AND(ISNUMBER(AB17),AD17<>""),((INDEX('F) Hilfsrechnung'!$A$2:$B$5,MATCH(AC17,'F) Hilfsrechnung'!$A$2:$A$5,0),2)*AB17/100)+('F) Hilfsrechnung'!$B$7*(100-AB17)/100))*AD17,"") | AL17: =IF(AND(ISNUMBER(AJ17),AK17=""),ROUND('F) Hilfsrechnung'!$K$4/AJ17,0),IF(AND(ISNUMBER(AJ17),ISNUMBER(AK17)),ROUND(AK17/AJ17,0),"")) | AM17: =IF(AND(ISNUMBER(Q17),ISNUMBER(AI17)),Q17*AI17/100,IF(AD17>0,AD17,"")) | AN17: =IF(AND(ISNUMBER(AJ17),ISNUMBER(AM17)),ROUND(AM17*(AJ17/100)*100,0),"")
A18: 13 | J18: =IFERROR(IF(ISNUMBER(I18),I18*IF(ISNUMBER(U18),U18,18)/100,""),"") | P18: =IF(AND(ISNUMBER(K18),ISNUMBER(L18),G18="A.3) Quadratmeterschnitte"),AVERAGE(L18:O18)*(1/K18),"") | Q18: =IF(ISNUMBER(P18),P18*0.9*100,"") | U18: =IF(AND(ISNUMBER(R18),ISNUMBER(S18),ISNUMBER(T18)),((T18-R18)/(S18-R18))*100,"") | V18: =IF(AND(ISNUMBER(Q18), U18=""), Q18*(18/100), IF(AND(ISNUMBER(Q18), ISNUMBER(U18)), Q18*(U18/100), "")) | Y18: {=IF(AND(G18="A.5) kompr. Bestandeshöhe",W18<>"",X18>0),ROUND(X18*(INDEX(LINEST(_xlfn._xlws.FILTER('D) Ertrag kompr. Bestandeshöhe'!$V$5:$V$999,('D) Ertrag kompr. Bestandeshöhe'!$J$5:$J$999=W18)*('D) Ertrag kompr. Bestandeshöhe'!$K$5:$K$999<>"")*('D) Ertrag kompr. Bestandeshöhe'!$V$5:$V$999<>"")), _xlfn._xlws.FILTER('D) Ertrag kompr. Bestandeshöhe'!$K$5:$K$999,('D) Ertrag kompr. Bestandeshöhe'!$J$5:$J$999=W18)*('D) Ertrag kompr. Bestandeshöhe'!$K$5:$K$999<>"")*('D) Ertrag kompr. Bestandeshöhe'!$V$5:$V$999<>"")), TRUE, FALSE), 1))+(INDEX(LINEST(_xlfn._xlws.FILTER('D) Ertrag kompr. Bestandeshöhe'!$V$5:$V$999,('D) Ertrag kompr. Bestandeshöhe'!$J$5:$J$999=W18)*('D) Ertrag kompr. Bestandeshöhe'!$K$5:$K$999<>"")*('D) Ertrag kompr. Bestandeshöhe'!$V$5:$V$999<>"")), _xlfn._xlws.FILTER('D) Ertrag kompr. Bestandeshöhe'!$K$5:$K$999,('D) Ertrag kompr. Bestandeshöhe'!$J$5:$J$999=W18)*('D) Ertrag kompr. Bestandeshöhe'!$K$5:$K$999<>"")*('D) Ertrag kompr. Bestandeshöhe'!$V$5:$V$999<>"")), TRUE, FALSE), 2)),0),"")} | Z18: {=IFERROR(AVERAGE(_xlfn._xlws.FILTER('D) Ertrag kompr. Bestandeshöhe'!$O$5:$O$999,('D) Ertrag kompr. Bestandeshöhe'!$J$5:$J$999=$W18)*('D) Ertrag kompr. Bestandeshöhe'!$O$5:$O$999<>""))),18)} -> 18 | AD18: =IFERROR(IF(AND(G18='F) Hilfsrechnung'!$I$4,J18>0),J18,IF(AND(G18='F) Hilfsrechnung'!$I$6,Y18>0),Y18,IF(AND(G18='F) Hilfsrechnung'!$I$5,V18>0),V18,""))),"") | AE18: =IFERROR(IF(ISNUMBER(AD18),AD18,"")/IF(ISNUMBER(AI18),AI18,IF(ISNUMBER(U18),U18,IF(ISNUMBER(Z18),Z18,18)))*100,"") | AF18: =IF(AG18<>"",'F) Hilfsrechnung'!$K$4/(AG18/AD18),"") | AG18: =IF(AND(ISNUMBER(AB18),AD18<>""),((INDEX('F) Hilfsrechnung'!$A$2:$B$5,MATCH(AC18,'F) Hilfsrechnung'!$A$2:$A$5,0),2)*AB18/100)+('F) Hilfsrechnung'!$B$7*(100-AB18)/100))*AD18,"") | AL18: =IF(AND(ISNUMBER(AJ18),AK18=""),ROUND('F) Hilfsrechnung'!$K$4/AJ18,0),IF(AND(ISNUMBER(AJ18),ISNUMBER(AK18)),ROUND(AK18/AJ18,0),"")) | AM18: =IF(AND(ISNUMBER(Q18),ISNUMBER(AI18)),Q18*AI18/100,IF(AD18>0,AD18,"")) | AN18: =IF(AND(ISNUMBER(AJ18),ISNUMBER(AM18)),ROUND(AM18*(AJ18/100)*100,0),"")
A19: 14 | J19: =IFERROR(IF(ISNUMBER(I19),I19*IF(ISNUMBER(U19),U19,18)/100,""),"") | P19: =IF(AND(ISNUMBER(K19),ISNUMBER(L19),G19="A.3) Quadratmeterschnitte"),AVERAGE(L19:O19)*(1/K19),"") | Q19: =IF(ISNUMBER(P19),P19*0.9*100,"") | U19: =IF(AND(ISNUMBER(R19),ISNUMBER(S19),ISNUMBER(T19)),((T19-R19)/(S19-R19))*100,"") | V19: =IF(AND(ISNUMBER(Q19), U19=""), Q19*(18/100), IF(AND(ISNUMBER(Q19), ISNUMBER(U19)), Q19*(U19/100), "")) | Y19: {=IF(AND(G19="A.5) kompr. Bestandeshöhe",W19<>"",X19>0),ROUND(X19*(INDEX(LINEST(_xlfn._xlws.FILTER('D) Ertrag kompr. Bestandeshöhe'!$V$5:$V$999,('D) Ertrag kompr. Bestandeshöhe'!$J$5:$J$999=W19)*('D) Ertrag kompr. Bestandeshöhe'!$K$5:$K$999<>"")*('D) Ertrag kompr. Bestandeshöhe'!$V$5:$V$999<>"")), _xlfn._xlws.FILTER('D) Ertrag kompr. Bestandeshöhe'!$K$5:$K$999,('D) Ertrag kompr. Bestandeshöhe'!$J$5:$J$999=W19)*('D) Ertrag kompr. Bestandeshöhe'!$K$5:$K$999<>"")*('D) Ertrag kompr. Bestandeshöhe'!$V$5:$V$999<>"")), TRUE, FALSE), 1))+(INDEX(LINEST(_xlfn._xlws.FILTER('D) Ertrag kompr. Bestandeshöhe'!$V$5:$V$999,('D) Ertrag kompr. Bestandeshöhe'!$J$5:$J$999=W19)*('D) Ertrag kompr. Bestandeshöhe'!$K$5:$K$999<>"")*('D) Ertrag kompr. Bestandeshöhe'!$V$5:$V$999<>"")), _xlfn._xlws.FILTER('D) Ertrag kompr. Bestandeshöhe'!$K$5:$K$999,('D) Ertrag kompr. Bestandeshöhe'!$J$5:$J$999=W19)*('D) Ertrag kompr. Bestandeshöhe'!$K$5:$K$999<>"")*('D) Ertrag kompr. Bestandeshöhe'!$V$5:$V$999<>"")), TRUE, FALSE), 2)),0),"")} | Z19: {=IFERROR(AVERAGE(_xlfn._xlws.FILTER('D) Ertrag kompr. Bestandeshöhe'!$O$5:$O$999,('D) Ertrag kompr. Bestandeshöhe'!$J$5:$J$999=$W19)*('D) Ertrag kompr. Bestandeshöhe'!$O$5:$O$999<>""))),18)} -> 18 | AD19: =IFERROR(IF(AND(G19='F) Hilfsrechnung'!$I$4,J19>0),J19,IF(AND(G19='F) Hilfsrechnung'!$I$6,Y19>0),Y19,IF(AND(G19='F) Hilfsrechnung'!$I$5,V19>0),V19,""))),"") | AE19: =IFERROR(IF(ISNUMBER(AD19),AD19,"")/IF(ISNUMBER(AI19),AI19,IF(ISNUMBER(U19),U19,IF(ISNUMBER(Z19),Z19,18)))*100,"") | AF19: =IF(AG19<>"",'F) Hilfsrechnung'!$K$4/(AG19/AD19),"") | AG19: =IF(AND(ISNUMBER(AB19),AD19<>""),((INDEX('F) Hilfsrechnung'!$A$2:$B$5,MATCH(AC19,'F) Hilfsrechnung'!$A$2:$A$5,0),2)*AB19/100)+('F) Hilfsrechnung'!$B$7*(100-AB19)/100))*AD19,"") | AL19: =IF(AND(ISNUMBER(AJ19),AK19=""),ROUND('F) Hilfsrechnung'!$K$4/AJ19,0),IF(AND(ISNUMBER(AJ19),ISNUMBER(AK19)),ROUND(AK19/AJ19,0),"")) | AM19: =IF(AND(ISNUMBER(Q19),ISNUMBER(AI19)),Q19*AI19/100,IF(AD19>0,AD19,"")) | AN19: =IF(AND(ISNUMBER(AJ19),ISNUMBER(AM19)),ROUND(AM19*(AJ19/100)*100,0),"")
... A105: 100 | J105: =IFERROR(IF(ISNUMBER(I105),I105*IF(ISNUMBER(U105),U105,18)/100,""),"") | P105: =IF(AND(ISNUMBER(K105),ISNUMBER(L105),G105="A.3) Quadratmeterschnitte"),AVERAGE(L105:O105)*(1/K105),"") | Q105: =IF(ISNUMBER(P105),P105*0.9*100,"") | U105: =IF(AND(ISNUMBER(R105),ISNUMBER(S105),ISNUMBER(T105)),((T105-R105)/(S105-R105))*100,"") | V105: =IF(AND(ISNUMBER(Q105), U105=""), Q105*(18/100), IF(AND(ISNUMBER(Q105), ISNUMBER(U105)), Q105*(U105/100), "")) | Y105: {=IF(AND(G105="A.5) kompr. Bestandeshöhe",W105<>"",X105>0),ROUND(X105*(INDEX(LINEST(_xlfn._xlws.FILTER('D) Ertrag kompr. Bestandeshöhe'!$V$5:$V$999,('D) Ertrag kompr. Bestandeshöhe'!$J$5:$J$999=W105)*('D) Ertrag kompr. Bestandeshöhe'!$K$5:$K$999<>"")*('D) Ertrag kompr. Bestandeshöhe'!$V$5:$V$999<>"")), _xlfn._xlws.FILTER('D) Ertrag kompr. Bestandeshöhe'!$K$5:$K$999,('D) Ertrag kompr. Bestandeshöhe'!$J$5:$J$999=W105)*('D) Ertrag kompr. Bestandeshöhe'!$K$5:$K$999<>"")*('D) Ertrag kompr. Bestandeshöhe'!$V$5:$V$999<>"")), TRUE, FALSE), 1))+(INDEX(LINEST(_xlfn._xlws.FILTER('D) Ertrag kompr. Bestandeshöhe'!$V$5:$V$999,('D) Ertrag kompr. Bestandeshöhe'!$J$5:$J$999=W105)*('D) Ertrag kompr. Bestandeshöhe'!$K$5:$K$999<>"")*('D) Ertrag kompr. Bestandeshöhe'!$V$5:$V$999<>"")), _xlfn._xlws.FILTER('D) Ertrag kompr. Bestandeshöhe'!$K$5:$K$999,('D) Ertrag kompr. Bestandeshöhe'!$J$5:$J$999=W105)*('D) Ertrag kompr. Bestandeshöhe'!$K$5:$K$999<>"")*('D) Ertrag kompr. Bestandeshöhe'!$V$5:$V$999<>"")), TRUE, FALSE), 2)),0),"")} | Z105: {=IFERROR(AVERAGE(_xlfn._xlws.FILTER('D) Ertrag kompr. Bestandeshöhe'!$O$5:$O$999,('D) Ertrag kompr. Bestandeshöhe'!$J$5:$J$999=$W105)*('D) Ertrag kompr. Bestandeshöhe'!$O$5:$O$999<>""))),18)} -> 18 | AD105: =IFERROR(IF(AND(G105='F) Hilfsrechnung'!$I$4,J105>0),J105,IF(AND(G105='F) Hilfsrechnung'!$I$6,Y105>0),Y105,IF(AND(G105='F) Hilfsrechnung'!$I$5,V105>0),V105,""))),"") | AE105: =IFERROR(IF(ISNUMBER(AD105),AD105,"")/IF(ISNUMBER(AI105),AI105,IF(ISNUMBER(U105),U105,IF(ISNUMBER(Z105),Z105,18)))*100,"") | AF105: =IF(AG105<>"",'F) Hilfsrechnung'!$K$4/(AG105/AD105),"") | AG105: =IF(AND(ISNUMBER(AB105),AD105<>""),((INDEX('F) Hilfsrechnung'!$A$2:$B$5,MATCH(AC105,'F) Hilfsrechnung'!$A$2:$A$5,0),2)*AB105/100)+('F) Hilfsrechnung'!$B$7*(100-AB105)/100))*AD105,"") | AL105: =IF(AND(ISNUMBER(AJ105),AK105=""),ROUND('F) Hilfsrechnung'!$K$4/AJ105,0),IF(AND(ISNUMBER(AJ105),ISNUMBER(AK105)),ROUND(AK105/AJ105,0),"")) | AM105: =IF(AND(ISNUMBER(Q105),ISNUMBER(AI105)),Q105*AI105/100,IF(AD105>0,AD105,"")) | AN105: =IF(AND(ISNUMBER(AJ105),ISNUMBER(AM105)),ROUND(AM105*(AJ105/100)*100,0),"")

Sheet B) Nehmerfläche
A1: B) | B1: Bedarf der Kultur im Nehmerfeld bestimmen und mit dem Geberfeld abgleichen | N1: AUSBLENDEN | O1: AUSBLENDEN | R1: AUSBLENDEN | U1: AUSBLENDEN | W1: AUSBLENDEN | X1: AUSBLENDEN | Y1: AUSBLENDEN | Z1: AUSBLENDEN
A2: Name der Nehmerfläche, muss Text enthalten | B2: Größe der Nehmerfläche, muss eine positive Zahl sein | C2: Keine Verwendung, zur Identifikatio der Nehmerfläche | D2: Keine Verwendung, zur Identifikatio der Nehmerfläche | E2: Düngebedarf wird nicht im Programm gerechnet, damit es flexibler bleibt. Eingabe muss eine positive Zahl sein. | F2: Kein Anteil des Düngebedarfs in %, sondern die "echte N-Menge". Muss mindestens 0 und darf maximal dem Düngebedarf entsprechen. | H2: Dropdown-Feld, bezieht sich auf Spalte "Geber-ID" aus Blatt A) | I2: aus A) | J2: aus A) | K2: aus A) | L2: aus A) | M2: N-Ertrag, der zum Zeitpunkt der Ausbringung vorhanden ist. Da davon ausgegangen wird, dass der Schätzwert zeitlich näher am Schnitt ist, wird dieser bevorzugt. Wird also geschätzt, verändert sich dieser Wert durch nachträgliche Analyse nicht. | N2: aus A) | O2: aus A) | P2: Wenn nicht die gesamte Geberfläche genutzt wurde, wird wie in Spalte AB beschrieben die Restfläche zur nächsten Nehmerfläche zugeteilt. Darf maximal der Größe der Geberfläche entsprechen. | R2: In dieser Spalte wird entschieden, mit welcher Geber-Grundfläche weitergerechnet wird: der Teilfläche (Spalte Q), wenn eingegeben, sonst mit der gesamten (Spalte K) | T2: Bei der Anrechenbarkeit werden 80 % vorgeschlagen, die aber überschrieben werden können. Wird die Zahl entfernt, werden 100% Anrechenbarkeit angenommen | U2: Entscheidungs-Zelle zur Spalte links | W2: Das Verhältnis von Geber- zu Nehmerfläche: Wenn vorhanden, wird als Ausgangspunkt der Düngebedarf herangezogen, der durch C&C gedeckt werden soll, alternativ der gesamte Düngebedarf. Dieser wird ins Verhältnis zum vorläufigen N-Ertrag bei Ausbringung gesetzt, der um die Anrechenbarkeit korrigiert wurde. | X2: Die vorhergegangenen Düngungen werden berücksichtigt, indem die rechte Spalte aufsummiert und vom Düngebedarf (Gesamtmenge, nicht pro ha) abgezogen wird. Liegt ein C&C-Düngebedarf nicht vor, wird mit dem Gesamtdüngebedarf gerechnet. | Y2: N über diese C&C-Düngung gedüngt [kg N, nicht pro ha], um Anrechenbarkeit korrigiert | Z2: N über diese C&C-Düngung gedüngt [kg N/ha], bereits zuvor um Anrechenbarkeit korrigiert | AA2: Für die visuelle Darstellung rückwärts gerechnet, keine Formel-Nachfolger | AB2: Errechnet über die Rest-Menge N: Übersteigt die C&C-Gabe den Düngebedarf, wird die Differenz positiv. Multipliziert mit der Nehmerfeldfläche ergibt das die Menge Rest-N, die dann durch die (anrechenbare) N-Menge im Aufwuchs des Geberfeldes geteilt wird. Es ergibt sich die Rest-Fläche des Geberfelds, die über die MAX-Funktion nicht negativ werden kann | AC2: Übersteigt der Düngebedarf die gegebene C&C-Menge, wird die Spalte positiv. Kann durch MAX-Funktion nie negativ werden | AD2: Ausbringmenge, basierend auf dem FM-Ertrag (Blatt A), AE) und Geberflächen-Verhältnis (N-Anrechenbarkeit berücksichtigt, Schätzung vor Analyse -> keine Nachkorrektur durch Analyse) | AE2: Ergänzungsdüngung aus anderen Quellen [kg N/ha]. Ist noch C&C-Düngebedarf offen und wird keine neue Geberfläche zugewiesen, ist die Ergänzungsdüngung um die noch fehlende C&C-Düngermenge höher | AH2: Abgleich Schätzung zu Analyse. Es wird davon ausgegangen, dass zuerst geschätzt und danach analysiert wird. Durch den Abgleich können zukünftige Schätzfehler besser beurteilt werden.
A4: B.1) Daten zur Nehmerfläche, geplante Kultur mit Düngebedarf | H4: B.2) Kenndaten der ausgewählten Geberfläche (Geber-ID) werden aus Tabellenblatt "A) Geberfläche" übernommen. | T4: B.3) Angenommene Anrechenbarkeit | AA4: B.4) Abgleich Geberfläche zu Nehmerfläche | AG4: B.5) Informative Kennzahlen nach Erhalt der Analyseergebnisse
A5: Nehmerfläche [Name] | B5: Nehmerfläche [ha] | C5: Kultur Nehmerfläche | D5: Pflanzdatum | E5: Düngebedarf (DüV) (nach Nmin, Vorfrucht etc.) [kg Nanrechenbar/ha] | F5: Menge des Düngebedarfs, die über C&C gedüngt werden soll [kg Nanrechenbar/ha] | H5: Geber-ID | I5: Geberfläche [Name] | J5: Geberfläche [ha] | K5: Kultur Geberfläche | L5: Schnitt | M5: Vorläufiger N-Ertrag bei Ausbringung [kg N/ha] | N5: N-Ertrag nach Schätzung [kg N/ha] | O5: N-Ertrag nach Analyse [kg N/ha] | P5: Zugeteilte Geber-Teilfläche [ha], wenn zutreffend (s. Kommentar in Spalte AB) | R5: In dieser Düngemaßnahme zu verwendende Geberfeld-Fläche | T5: Anrechenbarkeit der Sprossmasse im ersten Jahr nach Ausbringung[%] | U5: Anrechenbarkeit [%] zum Weiterrechnen | W5: Geber:Nehmer [ : 1 ] | X5: Verbleibender Düngebedarf [kg N/ha] vor Düngung | Y5: N-Menge C&C-Gabe [kg Nanrechenbar] | Z5: N-Menge C&C-Gabe pro ha bei voller Zuteilung [kg Nanrechenbar/ha] | AA5: N-Menge C&C-Gabe pro ha [kg Nanrechenbar/ha] | AB5: ENTWEDER: Geberfläche übrig [ha] - Wenn positiv: siehe Kommentar! | AC5: ODER: Verbleibender C&C-Düngebedarf [kg N/ha] Wenn positiv: siehe Kommentar! | AD5: Ausbringmenge [t FM/ha] | AE5: Erforderliche Kombi-Düngung nach C&C-Ausbringung [kg N/ha] | AG5: N-Ertrag aus Analyse [kg/ha] | AH5: Zu wenig (-)/ zu viel (+) mit C&C gedüngt, nach Abgleich von Schätzung mit Analyse [%] | AI5: Zu wenig (-)/ zu viel (+) mit C&C gedüngt, nach Abgleich von Schätzung mit Analyse [kg Nanrechenbar/ha] | AJ5: Aktualisierte Kombi-Düngung nach C&C-Ausbringung [kg N/ha]
A6: Arendsen N | B6: 6 | C6: Kürbis | D6: 45818 | E6: 110 | F6: 55 | H6: 1 | I6: =IF(H6="","",_xlfn.XLOOKUP($H6,'A) Geberfläche'!$A$6:$A$28,'A) Geberfläche'!$B$6:$B$28,"kein Wert",0)) -> Arendsen 1 | J6: =IF(H6="","",_xlfn.XLOOKUP($H6,'A) Geberfläche'!$A$6:$A$28,'A) Geberfläche'!$C$6:$C$28,"kein Wert",0)) -> 2 | K6: =IF(H6="","",_xlfn.XLOOKUP($H6,'A) Geberfläche'!$A$6:$A$28,'A) Geberfläche'!$D$6:$D$28,"kein Wert",0)) -> Kleegras | L6: =IF(H6="","",_xlfn.XLOOKUP($H6,'A) Geberfläche'!$A$6:$A$28,'A) Geberfläche'!$F$6:$F$28,"kein Wert",0)) -> 1 | M6: =IF(H6="","",IF(ISNUMBER(N6),N6,O6)) -> 89.006965 | N6: =IF(H6="","",_xlfn.XLOOKUP($H6,'A) Geberfläche'!$A$6:$A$28,'A) Geberfläche'!$AG$6:$AG$28,"kein Wert",0)) -> 89.006965 | O6: =IF(H6="","",_xlfn.XLOOKUP($H6,'A) Geberfläche'!$A$6:$A$28,'A) Geberfläche'!$AN$6:$AN$28,"kein Wert",0)) -> 99 | R6: =IFERROR(IF(ISNUMBER(P6),IF(H6=H7,P6-P7,P6),J6),"") -> 2 | T6: 80 | U6: =IF(T6="",100,T6) -> 80 | W6: =IF(AND(ISNUMBER(F6),ISNUMBER(M6)),F6/(M6*(U6/100)),IF(ISNUMBER(M6),E6/(M6*(U6/100)),"")) -> 0.77241146 | X6: =IF(AND(ISNUMBER(F6),ISNUMBER(B6),ISTEXT(A6)),(F6*B6-IFERROR(SUMIF($A$4:A5,A6,$Y$4:Y5),0))/B6,IF(AND(ISNUMBER(E6),ISNUMBER(B6),ISTEXT(A6)),(E6*B6-IFERROR(SUMIF($A$4:A5,A6,$Y$4:Y5),0))/B6,"")) -> 55 | Y6: =IF(AND(ISNUMBER(M6), ISNUMBER(R6)),R6*M6*U6/100,"") -> 142.41114 | Z6: =IF(AND(ISNUMBER(Y6),ISNUMBER(B6)),Y6/B6,"") -> 23.735191 | AA6: =IFERROR(F6-AC6,"") -> 23.735191 | AB6: =IF(AND(ISNUMBER(B6),ISNUMBER(M6)),MAX(0,((Z6-X6)*B6/(U6/100))/M6),"") -> 0 | AC6: =IF(AND(ISNUMBER(X6),ISNUMBER(Z6)),MAX(0,X6-Z6),"") -> 31.264809 | AD6: =IFERROR(_xlfn.XLOOKUP(H6,'A) Geberfläche'!$A$6:$A$105,'A) Geberfläche'!$AE$6:$AE$105)*W6/10,"") -> 13.791153 | AE6: =IF(AND(ISNUMBER(E6),ISNUMBER(F6),ISNUMBER(AC6),COUNTIF(A6:$A$105,A6)=1),E6-F6+AC6,"") | AG6: =O6 -> 99 | AH6: =IF(AND(ISNUMBER(N6),ISNUMBER(O6)),((N6-O6)/O6*(-1)),"") -> 0.10093975 | AI6: =IFERROR(AA6*AH6,"") -> 2.3958242 | AJ6: =IFERROR(AE6-SUMIF($A$6:$A$105,A6,$AI$6:$AI$105),"")
A7: Arendsen N | B7: 6 | C7: Kürbis | D7: 45818 | E7: 110 | F7: 55 | H7: 2 | I7: =IF(H7="","",_xlfn.XLOOKUP($H7,'A) Geberfläche'!$A$6:$A$28,'A) Geberfläche'!$B$6:$B$28,"kein Wert",0)) -> Arendsen 2 | J7: =IF(H7="","",_xlfn.XLOOKUP($H7,'A) Geberfläche'!$A$6:$A$28,'A) Geberfläche'!$C$6:$C$28,"kein Wert",0)) -> 5 | K7: =IF(H7="","",_xlfn.XLOOKUP($H7,'A) Geberfläche'!$A$6:$A$28,'A) Geberfläche'!$D$6:$D$28,"kein Wert",0)) -> Kleegras | L7: =IF(H7="","",_xlfn.XLOOKUP($H7,'A) Geberfläche'!$A$6:$A$28,'A) Geberfläche'!$F$6:$F$28,"kein Wert",0)) -> 1 | M7: =IF(H7="","",IF(ISNUMBER(N7),N7,O7)) -> 89.006965 | N7: =IF(H7="","",_xlfn.XLOOKUP($H7,'A) Geberfläche'!$A$6:$A$28,'A) Geberfläche'!$AG$6:$AG$28,"kein Wert",0)) -> 89.006965 | O7: =IF(H7="","",_xlfn.XLOOKUP($H7,'A) Geberfläche'!$A$6:$A$28,'A) Geberfläche'!$AN$6:$AN$28,"kein Wert",0)) -> 99 | R7: =IFERROR(IF(ISNUMBER(P7),IF(H7=H8,P7-P8,P7),J7),"") -> 5 | T7: 80 | U7: =IF(T7="",100,T7) -> 80 | W7: =IF(AND(ISNUMBER(F7),ISNUMBER(M7)),F7/(M7*(U7/100)),IF(ISNUMBER(M7),E7/(M7*(U7/100)),"")) -> 0.77241146 | X7: =IF(AND(ISNUMBER(F7),ISNUMBER(B7),ISTEXT(A7)),(F7*B7-IFERROR(SUMIF($A$4:A6,A7,$Y$4:Y6),0))/B7,IF(AND(ISNUMBER(E7),ISNUMBER(B7),ISTEXT(A7)),(E7*B7-IFERROR(SUMIF($A$4:A6,A7,$Y$4:Y6),0))/B7,"")) -> 31.264809 | Y7: =IF(AND(ISNUMBER(M7), ISNUMBER(R7)),R7*M7*U7/100,"") -> 356.02786 | Z7: =IF(AND(ISNUMBER(Y7),ISNUMBER(B7)),Y7/B7,"") -> 59.337976 | AA7: =IFERROR(F7-AC7,"") -> 55 | AB7: =IF(AND(ISNUMBER(B7),ISNUMBER(M7)),MAX(0,((Z7-X7)*B7/(U7/100))/M7),"") -> 2.3655312 | AC7: =IF(AND(ISNUMBER(X7),ISNUMBER(Z7)),MAX(0,X7-Z7),"") -> 0 | AD7: =IFERROR(_xlfn.XLOOKUP(H7,'A) Geberfläche'!$A$6:$A$105,'A) Geberfläche'!$AE$6:$AE$105)*W7/10,"") -> 13.791153 | AE7: =IF(AND(ISNUMBER(E7),ISNUMBER(F7),ISNUMBER(AC7),COUNTIF(A7:$A$105,A7)=1),E7-F7+AC7,"") -> 55 | AG7: =O7 -> 99 | AH7: =IF(AND(ISNUMBER(N7),ISNUMBER(O7)),((N7-O7)/O7*(-1)),"") -> 0.10093975 | AI7: =IFERROR(AA7*AH7,"") -> 5.5516863 | AJ7: =IFERROR(AE7-SUMIF($A$6:$A$105,A7,$AI$6:$AI$105),"") -> 47.05249
I8: =IF(H8="","",_xlfn.XLOOKUP($H8,'A) Geberfläche'!$A$6:$A$28,'A) Geberfläche'!$B$6:$B$28,"kein Wert",0)) | J8: =IF(H8="","",_xlfn.XLOOKUP($H8,'A) Geberfläche'!$A$6:$A$28,'A) Geberfläche'!$C$6:$C$28,"kein Wert",0)) | K8: =IF(H8="","",_xlfn.XLOOKUP($H8,'A) Geberfläche'!$A$6:$A$28,'A) Geberfläche'!$D$6:$D$28,"kein Wert",0)) | L8: =IF(H8="","",_xlfn.XLOOKUP($H8,'A) Geberfläche'!$A$6:$A$28,'A) Geberfläche'!$F$6:$F$28,"kein Wert",0)) | M8: =IF(H8="","",IF(ISNUMBER(N8),N8,O8)) | N8: =IF(H8="","",_xlfn.XLOOKUP($H8,'A) Geberfläche'!$A$6:$A$28,'A) Geberfläche'!$AG$6:$AG$28,"kein Wert",0)) | O8: =IF(H8="","",_xlfn.XLOOKUP($H8,'A) Geberfläche'!$A$6:$A$28,'A) Geberfläche'!$AN$6:$AN$28,"kein Wert",0)) | R8: =IFERROR(IF(ISNUMBER(P8),IF(H8=H9,P8-P9,P8),J8),"") | T8: 80 | U8: =IF(T8="",100,T8) -> 80 | W8: =IF(AND(ISNUMBER(F8),ISNUMBER(M8)),F8/(M8*(U8/100)),IF(ISNUMBER(M8),E8/(M8*(U8/100)),"")) | X8: =IF(AND(ISNUMBER(F8),ISNUMBER(B8),ISTEXT(A8)),(F8*B8-IFERROR(SUMIF($A$4:A7,A8,$Y$4:Y7),0))/B8,IF(AND(ISNUMBER(E8),ISNUMBER(B8),ISTEXT(A8)),(E8*B8-IFERROR(SUMIF($A$4:A7,A8,$Y$4:Y7),0))/B8,"")) | Y8: =IF(AND(ISNUMBER(M8), ISNUMBER(R8)),R8*M8*U8/100,"") | Z8: =IF(AND(ISNUMBER(Y8),ISNUMBER(B8)),Y8/B8,"") | AA8: =IFERROR(F8-AC8,"") | AB8: =IF(AND(ISNUMBER(B8),ISNUMBER(M8)),MAX(0,((Z8-X8)*B8/(U8/100))/M8),"") | AC8: =IF(AND(ISNUMBER(X8),ISNUMBER(Z8)),MAX(0,X8-Z8),"") | AD8: =IFERROR(_xlfn.XLOOKUP(H8,'A) Geberfläche'!$A$6:$A$105,'A) Geberfläche'!$AE$6:$AE$105)*W8/10,"") | AE8: =IF(AND(ISNUMBER(E8),ISNUMBER(F8),ISNUMBER(AC8),COUNTIF(A8:$A$105,A8)=1),E8-F8+AC8,"") | AG8: =O8 | AH8: =IF(AND(ISNUMBER(N8),ISNUMBER(O8)),((N8-O8)/O8*(-1)),"") | AI8: =IFERROR(AA8*AH8,"") | AJ8: =IFERROR(AE8-SUMIF($A$6:$A$105,A8,$AI$6:$AI$105),"")
I9: =IF(H9="","",_xlfn.XLOOKUP($H9,'A) Geberfläche'!$A$6:$A$28,'A) Geberfläche'!$B$6:$B$28,"kein Wert",0)) | J9: =IF(H9="","",_xlfn.XLOOKUP($H9,'A) Geberfläche'!$A$6:$A$28,'A) Geberfläche'!$C$6:$C$28,"kein Wert",0)) | K9: =IF(H9="","",_xlfn.XLOOKUP($H9,'A) Geberfläche'!$A$6:$A$28,'A) Geberfläche'!$D$6:$D$28,"kein Wert",0)) | L9: =IF(H9="","",_xlfn.XLOOKUP($H9,'A) Geberfläche'!$A$6:$A$28,'A) Geberfläche'!$F$6:$F$28,"kein Wert",0)) | M9: =IF(H9="","",IF(ISNUMBER(N9),N9,O9)) | N9: =IF(H9="","",_xlfn.XLOOKUP($H9,'A) Geberfläche'!$A$6:$A$28,'A) Geberfläche'!$AG$6:$AG$28,"kein Wert",0)) | O9: =IF(H9="","",_xlfn.XLOOKUP($H9,'A) Geberfläche'!$A$6:$A$28,'A) Geberfläche'!$AN$6:$AN$28,"kein Wert",0)) | R9: =IFERROR(IF(ISNUMBER(P9),IF(H9=H10,P9-P10,P9),J9),"") | T9: 80 | U9: =IF(T9="",100,T9) -> 80 | W9: =IF(AND(ISNUMBER(F9),ISNUMBER(M9)),F9/(M9*(U9/100)),IF(ISNUMBER(M9),E9/(M9*(U9/100)),"")) | X9: =IF(AND(ISNUMBER(F9),ISNUMBER(B9),ISTEXT(A9)),(F9*B9-IFERROR(SUMIF($A$4:A8,A9,$Y$4:Y8),0))/B9,IF(AND(ISNUMBER(E9),ISNUMBER(B9),ISTEXT(A9)),(E9*B9-IFERROR(SUMIF($A$4:A8,A9,$Y$4:Y8),0))/B9,"")) | Y9: =IF(AND(ISNUMBER(M9), ISNUMBER(R9)),R9*M9*U9/100,"") | Z9: =IF(AND(ISNUMBER(Y9),ISNUMBER(B9)),Y9/B9,"") | AA9: =IFERROR(F9-AC9,"") | AB9: =IF(AND(ISNUMBER(B9),ISNUMBER(M9)),MAX(0,((Z9-X9)*B9/(U9/100))/M9),"") | AC9: =IF(AND(ISNUMBER(X9),ISNUMBER(Z9)),MAX(0,X9-Z9),"") | AD9: =IFERROR(_xlfn.XLOOKUP(H9,'A) Geberfläche'!$A$6:$A$105,'A) Geberfläche'!$AE$6:$AE$105)*W9/10,"") | AE9: =IF(AND(ISNUMBER(E9),ISNUMBER(F9),ISNUMBER(AC9),COUNTIF(A9:$A$105,A9)=1),E9-F9+AC9,"") | AG9: =O9 | AH9: =IF(AND(ISNUMBER(N9),ISNUMBER(O9)),((N9-O9)/O9*(-1)),"") | AI9: =IFERROR(AA9*AH9,"") | AJ9: =IFERROR(AE9-SUMIF($A$6:$A$105,A9,$AI$6:$AI$105),"")
I10: =IF(H10="","",_xlfn.XLOOKUP($H10,'A) Geberfläche'!$A$6:$A$28,'A) Geberfläche'!$B$6:$B$28,"kein Wert",0)) | J10: =IF(H10="","",_xlfn.XLOOKUP($H10,'A) Geberfläche'!$A$6:$A$28,'A) Geberfläche'!$C$6:$C$28,"kein Wert",0)) | K10: =IF(H10="","",_xlfn.XLOOKUP($H10,'A) Geberfläche'!$A$6:$A$28,'A) Geberfläche'!$D$6:$D$28,"kein Wert",0)) | L10: =IF(H10="","",_xlfn.XLOOKUP($H10,'A) Geberfläche'!$A$6:$A$28,'A) Geberfläche'!$F$6:$F$28,"kein Wert",0)) | M10: =IF(H10="","",IF(ISNUMBER(N10),N10,O10)) | N10: =IF(H10="","",_xlfn.XLOOKUP($H10,'A) Geberfläche'!$A$6:$A$28,'A) Geberfläche'!$AG$6:$AG$28,"kein Wert",0)) | O10: =IF(H10="","",_xlfn.XLOOKUP($H10,'A) Geberfläche'!$A$6:$A$28,'A) Geberfläche'!$AN$6:$AN$28,"kein Wert",0)) | R10: =IFERROR(IF(ISNUMBER(P10),IF(H10=H11,P10-P11,P10),J10),"") | T10: 80 | U10: =IF(T10="",100,T10) -> 80 | W10: =IF(AND(ISNUMBER(F10),ISNUMBER(M10)),F10/(M10*(U10/100)),IF(ISNUMBER(M10),E10/(M10*(U10/100)),"")) | X10: =IF(AND(ISNUMBER(F10),ISNUMBER(B10),ISTEXT(A10)),(F10*B10-IFERROR(SUMIF($A$4:A9,A10,$Y$4:Y9),0))/B10,IF(AND(ISNUMBER(E10),ISNUMBER(B10),ISTEXT(A10)),(E10*B10-IFERROR(SUMIF($A$4:A9,A10,$Y$4:Y9),0))/B10,"")) | Y10: =IF(AND(ISNUMBER(M10), ISNUMBER(R10)),R10*M10*U10/100,"") | Z10: =IF(AND(ISNUMBER(Y10),ISNUMBER(B10)),Y10/B10,"") | AA10: =IFERROR(F10-AC10,"") | AB10: =IF(AND(ISNUMBER(B10),ISNUMBER(M10)),MAX(0,((Z10-X10)*B10/(U10/100))/M10),"") | AC10: =IF(AND(ISNUMBER(X10),ISNUMBER(Z10)),MAX(0,X10-Z10),"") | AD10: =IFERROR(_xlfn.XLOOKUP(H10,'A) Geberfläche'!$A$6:$A$105,'A) Geberfläche'!$AE$6:$AE$105)*W10/10,"") | AE10: =IF(AND(ISNUMBER(E10),ISNUMBER(F10),ISNUMBER(AC10),COUNTIF(A10:$A$105,A10)=1),E10-F10+AC10,"") | AG10: =O10 | AH10: =IF(AND(ISNUMBER(N10),ISNUMBER(O10)),((N10-O10)/O10*(-1)),"") | AI10: =IFERROR(AA10*AH10,"") | AJ10: =IFERROR(AE10-SUMIF($A$6:$A$105,A10,$AI$6:$AI$105),"")
I11: =IF(H11="","",_xlfn.XLOOKUP($H11,'A) Geberfläche'!$A$6:$A$28,'A) Geberfläche'!$B$6:$B$28,"kein Wert",0)) | J11: =IF(H11="","",_xlfn.XLOOKUP($H11,'A) Geberfläche'!$A$6:$A$28,'A) Geberfläche'!$C$6:$C$28,"kein Wert",0)) | K11: =IF(H11="","",_xlfn.XLOOKUP($H11,'A) Geberfläche'!$A$6:$A$28,'A) Geberfläche'!$D$6:$D$28,"kein Wert",0)) | L11: =IF(H11="","",_xlfn.XLOOKUP($H11,'A) Geberfläche'!$A$6:$A$28,'A) Geberfläche'!$F$6:$F$28,"kein Wert",0)) | M11: =IF(H11="","",IF(ISNUMBER(N11),N11,O11)) | N11: =IF(H11="","",_xlfn.XLOOKUP($H11,'A) Geberfläche'!$A$6:$A$28,'A) Geberfläche'!$AG$6:$AG$28,"kein Wert",0)) | O11: =IF(H11="","",_xlfn.XLOOKUP($H11,'A) Geberfläche'!$A$6:$A$28,'A) Geberfläche'!$AN$6:$AN$28,"kein Wert",0)) | R11: =IFERROR(IF(ISNUMBER(P11),IF(H11=H12,P11-P12,P11),J11),"") | T11: 80 | U11: =IF(T11="",100,T11) -> 80 | W11: =IF(AND(ISNUMBER(F11),ISNUMBER(M11)),F11/(M11*(U11/100)),IF(ISNUMBER(M11),E11/(M11*(U11/100)),"")) | X11: =IF(AND(ISNUMBER(F11),ISNUMBER(B11),ISTEXT(A11)),(F11*B11-IFERROR(SUMIF($A$4:A10,A11,$Y$4:Y10),0))/B11,IF(AND(ISNUMBER(E11),ISNUMBER(B11),ISTEXT(A11)),(E11*B11-IFERROR(SUMIF($A$4:A10,A11,$Y$4:Y10),0))/B11,"")) | Y11: =IF(AND(ISNUMBER(M11), ISNUMBER(R11)),R11*M11*U11/100,"") | Z11: =IF(AND(ISNUMBER(Y11),ISNUMBER(B11)),Y11/B11,"") | AA11: =IFERROR(F11-AC11,"") | AB11: =IF(AND(ISNUMBER(B11),ISNUMBER(M11)),MAX(0,((Z11-X11)*B11/(U11/100))/M11),"") | AC11: =IF(AND(ISNUMBER(X11),ISNUMBER(Z11)),MAX(0,X11-Z11),"") | AD11: =IFERROR(_xlfn.XLOOKUP(H11,'A) Geberfläche'!$A$6:$A$105,'A) Geberfläche'!$AE$6:$AE$105)*W11/10,"") | AE11: =IF(AND(ISNUMBER(E11),ISNUMBER(F11),ISNUMBER(AC11),COUNTIF(A11:$A$105,A11)=1),E11-F11+AC11,"") | AG11: =O11 | AH11: =IF(AND(ISNUMBER(N11),ISNUMBER(O11)),((N11-O11)/O11*(-1)),"") | AI11: =IFERROR(AA11*AH11,"") | AJ11: =IFERROR(AE11-SUMIF($A$6:$A$105,A11,$AI$6:$AI$105),"")
I12: =IF(H12="","",_xlfn.XLOOKUP($H12,'A) Geberfläche'!$A$6:$A$28,'A) Geberfläche'!$B$6:$B$28,"kein Wert",0)) | J12: =IF(H12="","",_xlfn.XLOOKUP($H12,'A) Geberfläche'!$A$6:$A$28,'A) Geberfläche'!$C$6:$C$28,"kein Wert",0)) | K12: =IF(H12="","",_xlfn.XLOOKUP($H12,'A) Geberfläche'!$A$6:$A$28,'A) Geberfläche'!$D$6:$D$28,"kein Wert",0)) | L12: =IF(H12="","",_xlfn.XLOOKUP($H12,'A) Geberfläche'!$A$6:$A$28,'A) Geberfläche'!$F$6:$F$28,"kein Wert",0)) | M12: =IF(H12="","",IF(ISNUMBER(N12),N12,O12)) | N12: =IF(H12="","",_xlfn.XLOOKUP($H12,'A) Geberfläche'!$A$6:$A$28,'A) Geberfläche'!$AG$6:$AG$28,"kein Wert",0)) | O12: =IF(H12="","",_xlfn.XLOOKUP($H12,'A) Geberfläche'!$A$6:$A$28,'A) Geberfläche'!$AN$6:$AN$28,"kein Wert",0)) | R12: =IFERROR(IF(ISNUMBER(P12),IF(H12=H13,P12-P13,P12),J12),"") | T12: 80 | U12: =IF(T12="",100,T12) -> 80 | W12: =IF(AND(ISNUMBER(F12),ISNUMBER(M12)),F12/(M12*(U12/100)),IF(ISNUMBER(M12),E12/(M12*(U12/100)),"")) | X12: =IF(AND(ISNUMBER(F12),ISNUMBER(B12),ISTEXT(A12)),(F12*B12-IFERROR(SUMIF($A$4:A11,A12,$Y$4:Y11),0))/B12,IF(AND(ISNUMBER(E12),ISNUMBER(B12),ISTEXT(A12)),(E12*B12-IFERROR(SUMIF($A$4:A11,A12,$Y$4:Y11),0))/B12,"")) | Y12: =IF(AND(ISNUMBER(M12), ISNUMBER(R12)),R12*M12*U12/100,"") | Z12: =IF(AND(ISNUMBER(Y12),ISNUMBER(B12)),Y12/B12,"") | AA12: =IFERROR(F12-AC12,"") | AB12: =IF(AND(ISNUMBER(B12),ISNUMBER(M12)),MAX(0,((Z12-X12)*B12/(U12/100))/M12),"") | AC12: =IF(AND(ISNUMBER(X12),ISNUMBER(Z12)),MAX(0,X12-Z12),"") | AD12: =IFERROR(_xlfn.XLOOKUP(H12,'A) Geberfläche'!$A$6:$A$105,'A) Geberfläche'!$AE$6:$AE$105)*W12/10,"") | AE12: =IF(AND(ISNUMBER(E12),ISNUMBER(F12),ISNUMBER(AC12),COUNTIF(A12:$A$105,A12)=1),E12-F12+AC12,"") | AG12: =O12 | AH12: =IF(AND(ISNUMBER(N12),ISNUMBER(O12)),((N12-O12)/O12*(-1)),"") | AI12: =IFERROR(AA12*AH12,"") | AJ12: =IFERROR(AE12-SUMIF($A$6:$A$105,A12,$AI$6:$AI$105),"")
I13: =IF(H13="","",_xlfn.XLOOKUP($H13,'A) Geberfläche'!$A$6:$A$28,'A) Geberfläche'!$B$6:$B$28,"kein Wert",0)) | J13: =IF(H13="","",_xlfn.XLOOKUP($H13,'A) Geberfläche'!$A$6:$A$28,'A) Geberfläche'!$C$6:$C$28,"kein Wert",0)) | K13: =IF(H13="","",_xlfn.XLOOKUP($H13,'A) Geberfläche'!$A$6:$A$28,'A) Geberfläche'!$D$6:$D$28,"kein Wert",0)) | L13: =IF(H13="","",_xlfn.XLOOKUP($H13,'A) Geberfläche'!$A$6:$A$28,'A) Geberfläche'!$F$6:$F$28,"kein Wert",0)) | M13: =IF(H13="","",IF(ISNUMBER(N13),N13,O13)) | N13: =IF(H13="","",_xlfn.XLOOKUP($H13,'A) Geberfläche'!$A$6:$A$28,'A) Geberfläche'!$AG$6:$AG$28,"kein Wert",0)) | O13: =IF(H13="","",_xlfn.XLOOKUP($H13,'A) Geberfläche'!$A$6:$A$28,'A) Geberfläche'!$AN$6:$AN$28,"kein Wert",0)) | R13: =IFERROR(IF(ISNUMBER(P13),IF(H13=H14,P13-P14,P13),J13),"") | T13: 80 | U13: =IF(T13="",100,T13) -> 80 | W13: =IF(AND(ISNUMBER(F13),ISNUMBER(M13)),F13/(M13*(U13/100)),IF(ISNUMBER(M13),E13/(M13*(U13/100)),"")) | X13: =IF(AND(ISNUMBER(F13),ISNUMBER(B13),ISTEXT(A13)),(F13*B13-IFERROR(SUMIF($A$4:A12,A13,$Y$4:Y12),0))/B13,IF(AND(ISNUMBER(E13),ISNUMBER(B13),ISTEXT(A13)),(E13*B13-IFERROR(SUMIF($A$4:A12,A13,$Y$4:Y12),0))/B13,"")) | Y13: =IF(AND(ISNUMBER(M13), ISNUMBER(R13)),R13*M13*U13/100,"") | Z13: =IF(AND(ISNUMBER(Y13),ISNUMBER(B13)),Y13/B13,"") | AA13: =IFERROR(F13-AC13,"") | AB13: =IF(AND(ISNUMBER(B13),ISNUMBER(M13)),MAX(0,((Z13-X13)*B13/(U13/100))/M13),"") | AC13: =IF(AND(ISNUMBER(X13),ISNUMBER(Z13)),MAX(0,X13-Z13),"") | AD13: =IFERROR(_xlfn.XLOOKUP(H13,'A) Geberfläche'!$A$6:$A$105,'A) Geberfläche'!$AE$6:$AE$105)*W13/10,"") | AE13: =IF(AND(ISNUMBER(E13),ISNUMBER(F13),ISNUMBER(AC13),COUNTIF(A13:$A$105,A13)=1),E13-F13+AC13,"") | AG13: =O13 | AH13: =IF(AND(ISNUMBER(N13),ISNUMBER(O13)),((N13-O13)/O13*(-1)),"") | AI13: =IFERROR(AA13*AH13,"") | AJ13: =IFERROR(AE13-SUMIF($A$6:$A$105,A13,$AI$6:$AI$105),"")
I14: =IF(H14="","",_xlfn.XLOOKUP($H14,'A) Geberfläche'!$A$6:$A$28,'A) Geberfläche'!$B$6:$B$28,"kein Wert",0)) | J14: =IF(H14="","",_xlfn.XLOOKUP($H14,'A) Geberfläche'!$A$6:$A$28,'A) Geberfläche'!$C$6:$C$28,"kein Wert",0)) | K14: =IF(H14="","",_xlfn.XLOOKUP($H14,'A) Geberfläche'!$A$6:$A$28,'A) Geberfläche'!$D$6:$D$28,"kein Wert",0)) | L14: =IF(H14="","",_xlfn.XLOOKUP($H14,'A) Geberfläche'!$A$6:$A$28,'A) Geberfläche'!$F$6:$F$28,"kein Wert",0)) | M14: =IF(H14="","",IF(ISNUMBER(N14),N14,O14)) | N14: =IF(H14="","",_xlfn.XLOOKUP($H14,'A) Geberfläche'!$A$6:$A$28,'A) Geberfläche'!$AG$6:$AG$28,"kein Wert",0)) | O14: =IF(H14="","",_xlfn.XLOOKUP($H14,'A) Geberfläche'!$A$6:$A$28,'A) Geberfläche'!$AN$6:$AN$28,"kein Wert",0)) | R14: =IFERROR(IF(ISNUMBER(P14),IF(H14=H15,P14-P15,P14),J14),"") | T14: 80 | U14: =IF(T14="",100,T14) -> 80 | W14: =IF(AND(ISNUMBER(F14),ISNUMBER(M14)),F14/(M14*(U14/100)),IF(ISNUMBER(M14),E14/(M14*(U14/100)),"")) | X14: =IF(AND(ISNUMBER(F14),ISNUMBER(B14),ISTEXT(A14)),(F14*B14-IFERROR(SUMIF($A$4:A13,A14,$Y$4:Y13),0))/B14,IF(AND(ISNUMBER(E14),ISNUMBER(B14),ISTEXT(A14)),(E14*B14-IFERROR(SUMIF($A$4:A13,A14,$Y$4:Y13),0))/B14,"")) | Y14: =IF(AND(ISNUMBER(M14), ISNUMBER(R14)),R14*M14*U14/100,"") | Z14: =IF(AND(ISNUMBER(Y14),ISNUMBER(B14)),Y14/B14,"") | AA14: =IFERROR(F14-AC14,"") | AB14: =IF(AND(ISNUMBER(B14),ISNUMBER(M14)),MAX(0,((Z14-X14)*B14/(U14/100))/M14),"") | AC14: =IF(AND(ISNUMBER(X14),ISNUMBER(Z14)),MAX(0,X14-Z14),"") | AD14: =IFERROR(_xlfn.XLOOKUP(H14,'A) Geberfläche'!$A$6:$A$105,'A) Geberfläche'!$AE$6:$AE$105)*W14/10,"") | AE14: =IF(AND(ISNUMBER(E14),ISNUMBER(F14),ISNUMBER(AC14),COUNTIF(A14:$A$105,A14)=1),E14-F14+AC14,"") | AG14: =O14 | AH14: =IF(AND(ISNUMBER(N14),ISNUMBER(O14)),((N14-O14)/O14*(-1)),"") | AI14: =IFERROR(AA14*AH14,"") | AJ14: =IFERROR(AE14-SUMIF($A$6:$A$105,A14,$AI$6:$AI$105),"")
I15: =IF(H15="","",_xlfn.XLOOKUP($H15,'A) Geberfläche'!$A$6:$A$28,'A) Geberfläche'!$B$6:$B$28,"kein Wert",0)) | J15: =IF(H15="","",_xlfn.XLOOKUP($H15,'A) Geberfläche'!$A$6:$A$28,'A) Geberfläche'!$C$6:$C$28,"kein Wert",0)) | K15: =IF(H15="","",_xlfn.XLOOKUP($H15,'A) Geberfläche'!$A$6:$A$28,'A) Geberfläche'!$D$6:$D$28,"kein Wert",0)) | L15: =IF(H15="","",_xlfn.XLOOKUP($H15,'A) Geberfläche'!$A$6:$A$28,'A) Geberfläche'!$F$6:$F$28,"kein Wert",0)) | M15: =IF(H15="","",IF(ISNUMBER(N15),N15,O15)) | N15: =IF(H15="","",_xlfn.XLOOKUP($H15,'A) Geberfläche'!$A$6:$A$28,'A) Geberfläche'!$AG$6:$AG$28,"kein Wert",0)) | O15: =IF(H15="","",_xlfn.XLOOKUP($H15,'A) Geberfläche'!$A$6:$A$28,'A) Geberfläche'!$AN$6:$AN$28,"kein Wert",0)) | R15: =IFERROR(IF(ISNUMBER(P15),IF(H15=H16,P15-P16,P15),J15),"") | T15: 80 | U15: =IF(T15="",100,T15) -> 80 | W15: =IF(AND(ISNUMBER(F15),ISNUMBER(M15)),F15/(M15*(U15/100)),IF(ISNUMBER(M15),E15/(M15*(U15/100)),"")) | X15: =IF(AND(ISNUMBER(F15),ISNUMBER(B15),ISTEXT(A15)),(F15*B15-IFERROR(SUMIF($A$4:A14,A15,$Y$4:Y14),0))/B15,IF(AND(ISNUMBER(E15),ISNUMBER(B15),ISTEXT(A15)),(E15*B15-IFERROR(SUMIF($A$4:A14,A15,$Y$4:Y14),0))/B15,"")) | Y15: =IF(AND(ISNUMBER(M15), ISNUMBER(R15)),R15*M15*U15/100,"") | Z15: =IF(AND(ISNUMBER(Y15),ISNUMBER(B15)),Y15/B15,"") | AA15: =IFERROR(F15-AC15,"") | AB15: =IF(AND(ISNUMBER(B15),ISNUMBER(M15)),MAX(0,((Z15-X15)*B15/(U15/100))/M15),"") | AC15: =IF(AND(ISNUMBER(X15),ISNUMBER(Z15)),MAX(0,X15-Z15),"") | AD15: =IFERROR(_xlfn.XLOOKUP(H15,'A) Geberfläche'!$A$6:$A$105,'A) Geberfläche'!$AE$6:$AE$105)*W15/10,"") | AE15: =IF(AND(ISNUMBER(E15),ISNUMBER(F15),ISNUMBER(AC15),COUNTIF(A15:$A$105,A15)=1),E15-F15+AC15,"") | AG15: =O15 | AH15: =IF(AND(ISNUMBER(N15),ISNUMBER(O15)),((N15-O15)/O15*(-1)),"") | AI15: =IFERROR(AA15*AH15,"") | AJ15: =IFERROR(AE15-SUMIF($A$6:$A$105,A15,$AI$6:$AI$105),"")
I16: =IF(H16="","",_xlfn.XLOOKUP($H16,'A) Geberfläche'!$A$6:$A$28,'A) Geberfläche'!$B$6:$B$28,"kein Wert",0)) | J16: =IF(H16="","",_xlfn.XLOOKUP($H16,'A) Geberfläche'!$A$6:$A$28,'A) Geberfläche'!$C$6:$C$28,"kein Wert",0)) | K16: =IF(H16="","",_xlfn.XLOOKUP($H16,'A) Geberfläche'!$A$6:$A$28,'A) Geberfläche'!$D$6:$D$28,"kein Wert",0)) | L16: =IF(H16="","",_xlfn.XLOOKUP($H16,'A) Geberfläche'!$A$6:$A$28,'A) Geberfläche'!$F$6:$F$28,"kein Wert",0)) | M16: =IF(H16="","",IF(ISNUMBER(N16),N16,O16)) | N16: =IF(H16="","",_xlfn.XLOOKUP($H16,'A) Geberfläche'!$A$6:$A$28,'A) Geberfläche'!$AG$6:$AG$28,"kein Wert",0)) | O16: =IF(H16="","",_xlfn.XLOOKUP($H16,'A) Geberfläche'!$A$6:$A$28,'A) Geberfläche'!$AN$6:$AN$28,"kein Wert",0)) | R16: =IFERROR(IF(ISNUMBER(P16),IF(H16=H17,P16-P17,P16),J16),"") | T16: 80 | U16: =IF(T16="",100,T16) -> 80 | W16: =IF(AND(ISNUMBER(F16),ISNUMBER(M16)),F16/(M16*(U16/100)),IF(ISNUMBER(M16),E16/(M16*(U16/100)),"")) | X16: =IF(AND(ISNUMBER(F16),ISNUMBER(B16),ISTEXT(A16)),(F16*B16-IFERROR(SUMIF($A$4:A15,A16,$Y$4:Y15),0))/B16,IF(AND(ISNUMBER(E16),ISNUMBER(B16),ISTEXT(A16)),(E16*B16-IFERROR(SUMIF($A$4:A15,A16,$Y$4:Y15),0))/B16,"")) | Y16: =IF(AND(ISNUMBER(M16), ISNUMBER(R16)),R16*M16*U16/100,"") | Z16: =IF(AND(ISNUMBER(Y16),ISNUMBER(B16)),Y16/B16,"") | AA16: =IFERROR(F16-AC16,"") | AB16: =IF(AND(ISNUMBER(B16),ISNUMBER(M16)),MAX(0,((Z16-X16)*B16/(U16/100))/M16),"") | AC16: =IF(AND(ISNUMBER(X16),ISNUMBER(Z16)),MAX(0,X16-Z16),"") | AD16: =IFERROR(_xlfn.XLOOKUP(H16,'A) Geberfläche'!$A$6:$A$105,'A) Geberfläche'!$AE$6:$AE$105)*W16/10,"") | AE16: =IF(AND(ISNUMBER(E16),ISNUMBER(F16),ISNUMBER(AC16),COUNTIF(A16:$A$105,A16)=1),E16-F16+AC16,"") | AG16: =O16 | AH16: =IF(AND(ISNUMBER(N16),ISNUMBER(O16)),((N16-O16)/O16*(-1)),"") | AI16: =IFERROR(AA16*AH16,"") | AJ16: =IFERROR(AE16-SUMIF($A$6:$A$105,A16,$AI$6:$AI$105),"")
I17: =IF(H17="","",_xlfn.XLOOKUP($H17,'A) Geberfläche'!$A$6:$A$28,'A) Geberfläche'!$B$6:$B$28,"kein Wert",0)) | J17: =IF(H17="","",_xlfn.XLOOKUP($H17,'A) Geberfläche'!$A$6:$A$28,'A) Geberfläche'!$C$6:$C$28,"kein Wert",0)) | K17: =IF(H17="","",_xlfn.XLOOKUP($H17,'A) Geberfläche'!$A$6:$A$28,'A) Geberfläche'!$D$6:$D$28,"kein Wert",0)) | L17: =IF(H17="","",_xlfn.XLOOKUP($H17,'A) Geberfläche'!$A$6:$A$28,'A) Geberfläche'!$F$6:$F$28,"kein Wert",0)) | M17: =IF(H17="","",IF(ISNUMBER(N17),N17,O17)) | N17: =IF(H17="","",_xlfn.XLOOKUP($H17,'A) Geberfläche'!$A$6:$A$28,'A) Geberfläche'!$AG$6:$AG$28,"kein Wert",0)) | O17: =IF(H17="","",_xlfn.XLOOKUP($H17,'A) Geberfläche'!$A$6:$A$28,'A) Geberfläche'!$AN$6:$AN$28,"kein Wert",0)) | R17: =IFERROR(IF(ISNUMBER(P17),IF(H17=H18,P17-P18,P17),J17),"") | T17: 80 | U17: =IF(T17="",100,T17) -> 80 | W17: =IF(AND(ISNUMBER(F17),ISNUMBER(M17)),F17/(M17*(U17/100)),IF(ISNUMBER(M17),E17/(M17*(U17/100)),"")) | X17: =IF(AND(ISNUMBER(F17),ISNUMBER(B17),ISTEXT(A17)),(F17*B17-IFERROR(SUMIF($A$4:A16,A17,$Y$4:Y16),0))/B17,IF(AND(ISNUMBER(E17),ISNUMBER(B17),ISTEXT(A17)),(E17*B17-IFERROR(SUMIF($A$4:A16,A17,$Y$4:Y16),0))/B17,"")) | Y17: =IF(AND(ISNUMBER(M17), ISNUMBER(R17)),R17*M17*U17/100,"") | Z17: =IF(AND(ISNUMBER(Y17),ISNUMBER(B17)),Y17/B17,"") | AA17: =IFERROR(F17-AC17,"") | AB17: =IF(AND(ISNUMBER(B17),ISNUMBER(M17)),MAX(0,((Z17-X17)*B17/(U17/100))/M17),"") | AC17: =IF(AND(ISNUMBER(X17),ISNUMBER(Z17)),MAX(0,X17-Z17),"") | AD17: =IFERROR(_xlfn.XLOOKUP(H17,'A) Geberfläche'!$A$6:$A$105,'A) Geberfläche'!$AE$6:$AE$105)*W17/10,"") | AE17: =IF(AND(ISNUMBER(E17),ISNUMBER(F17),ISNUMBER(AC17),COUNTIF(A17:$A$105,A17)=1),E17-F17+AC17,"") | AG17: =O17 | AH17: =IF(AND(ISNUMBER(N17),ISNUMBER(O17)),((N17-O17)/O17*(-1)),"") | AI17: =IFERROR(AA17*AH17,"") | AJ17: =IFERROR(AE17-SUMIF($A$6:$A$105,A17,$AI$6:$AI$105),"")
I18: =IF(H18="","",_xlfn.XLOOKUP($H18,'A) Geberfläche'!$A$6:$A$28,'A) Geberfläche'!$B$6:$B$28,"kein Wert",0)) | J18: =IF(H18="","",_xlfn.XLOOKUP($H18,'A) Geberfläche'!$A$6:$A$28,'A) Geberfläche'!$C$6:$C$28,"kein Wert",0)) | K18: =IF(H18="","",_xlfn.XLOOKUP($H18,'A) Geberfläche'!$A$6:$A$28,'A) Geberfläche'!$D$6:$D$28,"kein Wert",0)) | L18: =IF(H18="","",_xlfn.XLOOKUP($H18,'A) Geberfläche'!$A$6:$A$28,'A) Geberfläche'!$F$6:$F$28,"kein Wert",0)) | M18: =IF(H18="","",IF(ISNUMBER(N18),N18,O18)) | N18: =IF(H18="","",_xlfn.XLOOKUP($H18,'A) Geberfläche'!$A$6:$A$28,'A) Geberfläche'!$AG$6:$AG$28,"kein Wert",0)) | O18: =IF(H18="","",_xlfn.XLOOKUP($H18,'A) Geberfläche'!$A$6:$A$28,'A) Geberfläche'!$AN$6:$AN$28,"kein Wert",0)) | R18: =IFERROR(IF(ISNUMBER(P18),IF(H18=H19,P18-P19,P18),J18),"") | T18: 80 | U18: =IF(T18="",100,T18) -> 80 | W18: =IF(AND(ISNUMBER(F18),ISNUMBER(M18)),F18/(M18*(U18/100)),IF(ISNUMBER(M18),E18/(M18*(U18/100)),"")) | X18: =IF(AND(ISNUMBER(F18),ISNUMBER(B18),ISTEXT(A18)),(F18*B18-IFERROR(SUMIF($A$4:A17,A18,$Y$4:Y17),0))/B18,IF(AND(ISNUMBER(E18),ISNUMBER(B18),ISTEXT(A18)),(E18*B18-IFERROR(SUMIF($A$4:A17,A18,$Y$4:Y17),0))/B18,"")) | Y18: =IF(AND(ISNUMBER(M18), ISNUMBER(R18)),R18*M18*U18/100,"") | Z18: =IF(AND(ISNUMBER(Y18),ISNUMBER(B18)),Y18/B18,"") | AA18: =IFERROR(F18-AC18,"") | AB18: =IF(AND(ISNUMBER(B18),ISNUMBER(M18)),MAX(0,((Z18-X18)*B18/(U18/100))/M18),"") | AC18: =IF(AND(ISNUMBER(X18),ISNUMBER(Z18)),MAX(0,X18-Z18),"") | AD18: =IFERROR(_xlfn.XLOOKUP(H18,'A) Geberfläche'!$A$6:$A$105,'A) Geberfläche'!$AE$6:$AE$105)*W18/10,"") | AE18: =IF(AND(ISNUMBER(E18),ISNUMBER(F18),ISNUMBER(AC18),COUNTIF(A18:$A$105,A18)=1),E18-F18+AC18,"") | AG18: =O18 | AH18: =IF(AND(ISNUMBER(N18),ISNUMBER(O18)),((N18-O18)/O18*(-1)),"") | AI18: =IFERROR(AA18*AH18,"") | AJ18: =IFERROR(AE18-SUMIF($A$6:$A$105,A18,$AI$6:$AI$105),"")
I19: =IF(H19="","",_xlfn.XLOOKUP($H19,'A) Geberfläche'!$A$6:$A$28,'A) Geberfläche'!$B$6:$B$28,"kein Wert",0)) | J19: =IF(H19="","",_xlfn.XLOOKUP($H19,'A) Geberfläche'!$A$6:$A$28,'A) Geberfläche'!$C$6:$C$28,"kein Wert",0)) | K19: =IF(H19="","",_xlfn.XLOOKUP($H19,'A) Geberfläche'!$A$6:$A$28,'A) Geberfläche'!$D$6:$D$28,"kein Wert",0)) | L19: =IF(H19="","",_xlfn.XLOOKUP($H19,'A) Geberfläche'!$A$6:$A$28,'A) Geberfläche'!$F$6:$F$28,"kein Wert",0)) | M19: =IF(H19="","",IF(ISNUMBER(N19),N19,O19)) | N19: =IF(H19="","",_xlfn.XLOOKUP($H19,'A) Geberfläche'!$A$6:$A$28,'A) Geberfläche'!$AG$6:$AG$28,"kein Wert",0)) | O19: =IF(H19="","",_xlfn.XLOOKUP($H19,'A) Geberfläche'!$A$6:$A$28,'A) Geberfläche'!$AN$6:$AN$28,"kein Wert",0)) | R19: =IFERROR(IF(ISNUMBER(P19),IF(H19=H20,P19-P20,P19),J19),"") | T19: 80 | U19: =IF(T19="",100,T19) -> 80 | W19: =IF(AND(ISNUMBER(F19),ISNUMBER(M19)),F19/(M19*(U19/100)),IF(ISNUMBER(M19),E19/(M19*(U19/100)),"")) | X19: =IF(AND(ISNUMBER(F19),ISNUMBER(B19),ISTEXT(A19)),(F19*B19-IFERROR(SUMIF($A$4:A18,A19,$Y$4:Y18),0))/B19,IF(AND(ISNUMBER(E19),ISNUMBER(B19),ISTEXT(A19)),(E19*B19-IFERROR(SUMIF($A$4:A18,A19,$Y$4:Y18),0))/B19,"")) | Y19: =IF(AND(ISNUMBER(M19), ISNUMBER(R19)),R19*M19*U19/100,"") | Z19: =IF(AND(ISNUMBER(Y19),ISNUMBER(B19)),Y19/B19,"") | AA19: =IFERROR(F19-AC19,"") | AB19: =IF(AND(ISNUMBER(B19),ISNUMBER(M19)),MAX(0,((Z19-X19)*B19/(U19/100))/M19),"") | AC19: =IF(AND(ISNUMBER(X19),ISNUMBER(Z19)),MAX(0,X19-Z19),"") | AD19: =IFERROR(_xlfn.XLOOKUP(H19,'A) Geberfläche'!$A$6:$A$105,'A) Geberfläche'!$AE$6:$AE$105)*W19/10,"") | AE19: =IF(AND(ISNUMBER(E19),ISNUMBER(F19),ISNUMBER(AC19),COUNTIF(A19:$A$105,A19)=1),E19-F19+AC19,"") | AG19: =O19 | AH19: =IF(AND(ISNUMBER(N19),ISNUMBER(O19)),((N19-O19)/O19*(-1)),"") | AI19: =IFERROR(AA19*AH19,"") | AJ19: =IFERROR(AE19-SUMIF($A$6:$A$105,A19,$AI$6:$AI$105),"")
... I27: =IF(H27="","",_xlfn.XLOOKUP($H27,'A) Geberfläche'!$A$6:$A$28,'A) Geberfläche'!$B$6:$B$28,"kein Wert",0)) | J27: =IF(H27="","",_xlfn.XLOOKUP($H27,'A) Geberfläche'!$A$6:$A$28,'A) Geberfläche'!$C$6:$C$28,"kein Wert",0)) | K27: =IF(H27="","",_xlfn.XLOOKUP($H27,'A) Geberfläche'!$A$6:$A$28,'A) Geberfläche'!$D$6:$D$28,"kein Wert",0)) | L27: =IF(H27="","",_xlfn.XLOOKUP($H27,'A) Geberfläche'!$A$6:$A$28,'A) Geberfläche'!$F$6:$F$28,"kein Wert",0)) | M27: =IF(H27="","",IF(ISNUMBER(N27),N27,O27)) | N27: =IF(H27="","",_xlfn.XLOOKUP($H27,'A) Geberfläche'!$A$6:$A$28,'A) Geberfläche'!$AG$6:$AG$28,"kein Wert",0)) | O27: =IF(H27="","",_xlfn.XLOOKUP($H27,'A) Geberfläche'!$A$6:$A$28,'A) Geberfläche'!$AN$6:$AN$28,"kein Wert",0)) | R27: =IFERROR(IF(ISNUMBER(P27),IF(H27=H28,P27-P28,P27),J27),"") | T27: 80 | U27: =IF(T27="",100,T27) -> 80 | W27: =IF(AND(ISNUMBER(F27),ISNUMBER(M27)),F27/(M27*(U27/100)),IF(ISNUMBER(M27),E27/(M27*(U27/100)),"")) | X27: =IF(AND(ISNUMBER(F27),ISNUMBER(B27),ISTEXT(A27)),(F27*B27-IFERROR(SUMIF($A$4:A26,A27,$Y$4:Y26),0))/B27,IF(AND(ISNUMBER(E27),ISNUMBER(B27),ISTEXT(A27)),(E27*B27-IFERROR(SUMIF($A$4:A26,A27,$Y$4:Y26),0))/B27,"")) | Y27: =IF(AND(ISNUMBER(M27), ISNUMBER(R27)),R27*M27*U27/100,"") | Z27: =IF(AND(ISNUMBER(Y27),ISNUMBER(B27)),Y27/B27,"") | AA27: =IFERROR(F27-AC27,"") | AB27: =IF(AND(ISNUMBER(B27),ISNUMBER(M27)),MAX(0,((Z27-X27)*B27/(U27/100))/M27),"") | AC27: =IF(AND(ISNUMBER(X27),ISNUMBER(Z27)),MAX(0,X27-Z27),"") | AD27: =IFERROR(_xlfn.XLOOKUP(H27,'A) Geberfläche'!$A$6:$A$105,'A) Geberfläche'!$AE$6:$AE$105)*W27/10,"") | AE27: =IF(AND(ISNUMBER(E27),ISNUMBER(F27),ISNUMBER(AC27),COUNTIF(A27:$A$105,A27)=1),E27-F27+AC27,"") | AG27: =O27 | AH27: =IF(AND(ISNUMBER(N27),ISNUMBER(O27)),((N27-O27)/O27*(-1)),"") | AI27: =IFERROR(AA27*AH27,"") | AJ27: =IFERROR(AE27-SUMIF($A$6:$A$105,A27,$AI$6:$AI$105),"")
I28: =IF(H28="","",_xlfn.XLOOKUP($H28,'A) Geberfläche'!$A$6:$A$28,'A) Geberfläche'!$B$6:$B$28,"kein Wert",0)) | J28: =IF(H28="","",_xlfn.XLOOKUP($H28,'A) Geberfläche'!$A$6:$A$28,'A) Geberfläche'!$C$6:$C$28,"kein Wert",0)) | K28: =IF(H28="","",_xlfn.XLOOKUP($H28,'A) Geberfläche'!$A$6:$A$28,'A) Geberfläche'!$D$6:$D$28,"kein Wert",0)) | L28: =IF(H28="","",_xlfn.XLOOKUP($H28,'A) Geberfläche'!$A$6:$A$28,'A) Geberfläche'!$F$6:$F$28,"kein Wert",0)) | M28: =IF(H28="","",IF(ISNUMBER(N28),N28,O28)) | N28: =IF(H28="","",_xlfn.XLOOKUP($H28,'A) Geberfläche'!$A$6:$A$28,'A) Geberfläche'!$AG$6:$AG$28,"kein Wert",0)) | O28: =IF(H28="","",_xlfn.XLOOKUP($H28,'A) Geberfläche'!$A$6:$A$28,'A) Geberfläche'!$AN$6:$AN$28,"kein Wert",0)) | R28: =IFERROR(IF(ISNUMBER(P28),IF(H28=H29,P28-P29,P28),J28),"") | T28: 80 | U28: =IF(T28="",100,T28) -> 80 | W28: =IF(AND(ISNUMBER(F28),ISNUMBER(M28)),F28/(M28*(U28/100)),IF(ISNUMBER(M28),E28/(M28*(U28/100)),"")) | X28: =IF(AND(ISNUMBER(F28),ISNUMBER(B28),ISTEXT(A28)),(F28*B28-IFERROR(SUMIF($A$4:A27,A28,$Y$4:Y27),0))/B28,IF(AND(ISNUMBER(E28),ISNUMBER(B28),ISTEXT(A28)),(E28*B28-IFERROR(SUMIF($A$4:A27,A28,$Y$4:Y27),0))/B28,"")) | Y28: =IF(AND(ISNUMBER(M28), ISNUMBER(R28)),R28*M28*U28/100,"") | Z28: =IF(AND(ISNUMBER(Y28),ISNUMBER(B28)),Y28/B28,"") | AA28: =IFERROR(F28-AC28,"") | AB28: =IF(AND(ISNUMBER(B28),ISNUMBER(M28)),MAX(0,((Z28-X28)*B28/(U28/100))/M28),"") | AC28: =IF(AND(ISNUMBER(X28),ISNUMBER(Z28)),MAX(0,X28-Z28),"") | AD28: =IFERROR(_xlfn.XLOOKUP(H28,'A) Geberfläche'!$A$6:$A$105,'A) Geberfläche'!$AE$6:$AE$105)*W28/10,"") | AE28: =IF(AND(ISNUMBER(E28),ISNUMBER(F28),ISNUMBER(AC28),COUNTIF(A28:$A$105,A28)=1),E28-F28+AC28,"") | AG28: =O28 | AH28: =IF(AND(ISNUMBER(N28),ISNUMBER(O28)),((N28-O28)/O28*(-1)),"") | AJ28: =IFERROR(AE28-SUMIF($A$6:$A$105,A28,$AI$6:$AI$105),"")
I29: =IF(H29="","",_xlfn.XLOOKUP($H29,'A) Geberfläche'!$A$6:$A$28,'A) Geberfläche'!$B$6:$B$28,"kein Wert",0)) | J29: =IF(H29="","",_xlfn.XLOOKUP($H29,'A) Geberfläche'!$A$6:$A$28,'A) Geberfläche'!$C$6:$C$28,"kein Wert",0)) | K29: =IF(H29="","",_xlfn.XLOOKUP($H29,'A) Geberfläche'!$A$6:$A$28,'A) Geberfläche'!$D$6:$D$28,"kein Wert",0)) | L29: =IF(H29="","",_xlfn.XLOOKUP($H29,'A) Geberfläche'!$A$6:$A$28,'A) Geberfläche'!$F$6:$F$28,"kein Wert",0)) | M29: =IF(H29="","",IF(ISNUMBER(N29),N29,O29)) | N29: =IF(H29="","",_xlfn.XLOOKUP($H29,'A) Geberfläche'!$A$6:$A$28,'A) Geberfläche'!$AG$6:$AG$28,"kein Wert",0)) | O29: =IF(H29="","",_xlfn.XLOOKUP($H29,'A) Geberfläche'!$A$6:$A$28,'A) Geberfläche'!$AN$6:$AN$28,"kein Wert",0)) | R29: =IFERROR(IF(ISNUMBER(P29),IF(H29=H30,P29-P30,P29),J29),"") | T29: 80 | U29: =IF(T29="",100,T29) -> 80 | W29: =IF(AND(ISNUMBER(F29),ISNUMBER(M29)),F29/(M29*(U29/100)),IF(ISNUMBER(M29),E29/(M29*(U29/100)),"")) | X29: =IF(AND(ISNUMBER(F29),ISNUMBER(B29),ISTEXT(A29)),(F29*B29-IFERROR(SUMIF($A$4:A28,A29,$Y$4:Y28),0))/B29,IF(AND(ISNUMBER(E29),ISNUMBER(B29),ISTEXT(A29)),(E29*B29-IFERROR(SUMIF($A$4:A28,A29,$Y$4:Y28),0))/B29,"")) | Y29: =IF(AND(ISNUMBER(M29), ISNUMBER(R29)),R29*M29*U29/100,"") | Z29: =IF(AND(ISNUMBER(Y29),ISNUMBER(B29)),Y29/B29,"") | AA29: =IFERROR(F29-AC29,"") | AB29: =IF(AND(ISNUMBER(B29),ISNUMBER(M29)),MAX(0,((Z29-X29)*B29/(U29/100))/M29),"") | AC29: =IF(AND(ISNUMBER(X29),ISNUMBER(Z29)),MAX(0,X29-Z29),"") | AD29: =IFERROR(_xlfn.XLOOKUP(H29,'A) Geberfläche'!$A$6:$A$105,'A) Geberfläche'!$AE$6:$AE$105)*W29/10,"") | AE29: =IF(AND(ISNUMBER(E29),ISNUMBER(F29),ISNUMBER(AC29),COUNTIF(A29:$A$105,A29)=1),E29-F29+AC29,"") | AG29: =O29 | AH29: =IF(AND(ISNUMBER(N29),ISNUMBER(O29)),((N29-O29)/O29*(-1)),"") | AJ29: =IFERROR(AE29-SUMIF($A$6:$A$105,A29,$AI$6:$AI$105),"")
I30: =IF(H30="","",_xlfn.XLOOKUP($H30,'A) Geberfläche'!$A$6:$A$28,'A) Geberfläche'!$B$6:$B$28,"kein Wert",0)) | J30: =IF(H30="","",_xlfn.XLOOKUP($H30,'A) Geberfläche'!$A$6:$A$28,'A) Geberfläche'!$C$6:$C$28,"kein Wert",0)) | K30: =IF(H30="","",_xlfn.XLOOKUP($H30,'A) Geberfläche'!$A$6:$A$28,'A) Geberfläche'!$D$6:$D$28,"kein Wert",0)) | L30: =IF(H30="","",_xlfn.XLOOKUP($H30,'A) Geberfläche'!$A$6:$A$28,'A) Geberfläche'!$F$6:$F$28,"kein Wert",0)) | M30: =IF(H30="","",IF(ISNUMBER(N30),N30,O30)) | N30: =IF(H30="","",_xlfn.XLOOKUP($H30,'A) Geberfläche'!$A$6:$A$28,'A) Geberfläche'!$AG$6:$AG$28,"kein Wert",0)) | O30: =IF(H30="","",_xlfn.XLOOKUP($H30,'A) Geberfläche'!$A$6:$A$28,'A) Geberfläche'!$AN$6:$AN$28,"kein Wert",0)) | R30: =IFERROR(IF(ISNUMBER(P30),IF(H30=H31,P30-P31,P30),J30),"") | T30: 80 | U30: =IF(T30="",100,T30) -> 80 | W30: =IF(AND(ISNUMBER(F30),ISNUMBER(M30)),F30/(M30*(U30/100)),IF(ISNUMBER(M30),E30/(M30*(U30/100)),"")) | X30: =IF(AND(ISNUMBER(F30),ISNUMBER(B30),ISTEXT(A30)),(F30*B30-IFERROR(SUMIF($A$4:A29,A30,$Y$4:Y29),0))/B30,IF(AND(ISNUMBER(E30),ISNUMBER(B30),ISTEXT(A30)),(E30*B30-IFERROR(SUMIF($A$4:A29,A30,$Y$4:Y29),0))/B30,"")) | Y30: =IF(AND(ISNUMBER(M30), ISNUMBER(R30)),R30*M30*U30/100,"") | Z30: =IF(AND(ISNUMBER(Y30),ISNUMBER(B30)),Y30/B30,"") | AA30: =IFERROR(F30-AC30,"") | AB30: =IF(AND(ISNUMBER(B30),ISNUMBER(M30)),MAX(0,((Z30-X30)*B30/(U30/100))/M30),"") | AC30: =IF(AND(ISNUMBER(X30),ISNUMBER(Z30)),MAX(0,X30-Z30),"") | AD30: =IFERROR(_xlfn.XLOOKUP(H30,'A) Geberfläche'!$A$6:$A$105,'A) Geberfläche'!$AE$6:$AE$105)*W30/10,"") | AE30: =IF(AND(ISNUMBER(E30),ISNUMBER(F30),ISNUMBER(AC30),COUNTIF(A30:$A$105,A30)=1),E30-F30+AC30,"") | AG30: =O30 | AH30: =IF(AND(ISNUMBER(N30),ISNUMBER(O30)),((N30-O30)/O30*(-1)),"") | AJ30: =IFERROR(AE30-SUMIF($A$6:$A$105,A30,$AI$6:$AI$105),"")
I31: =IF(H31="","",_xlfn.XLOOKUP($H31,'A) Geberfläche'!$A$6:$A$28,'A) Geberfläche'!$B$6:$B$28,"kein Wert",0)) | J31: =IF(H31="","",_xlfn.XLOOKUP($H31,'A) Geberfläche'!$A$6:$A$28,'A) Geberfläche'!$C$6:$C$28,"kein Wert",0)) | K31: =IF(H31="","",_xlfn.XLOOKUP($H31,'A) Geberfläche'!$A$6:$A$28,'A) Geberfläche'!$D$6:$D$28,"kein Wert",0)) | L31: =IF(H31="","",_xlfn.XLOOKUP($H31,'A) Geberfläche'!$A$6:$A$28,'A) Geberfläche'!$F$6:$F$28,"kein Wert",0)) | M31: =IF(H31="","",IF(ISNUMBER(N31),N31,O31)) | N31: =IF(H31="","",_xlfn.XLOOKUP($H31,'A) Geberfläche'!$A$6:$A$28,'A) Geberfläche'!$AG$6:$AG$28,"kein Wert",0)) | O31: =IF(H31="","",_xlfn.XLOOKUP($H31,'A) Geberfläche'!$A$6:$A$28,'A) Geberfläche'!$AN$6:$AN$28,"kein Wert",0)) | R31: =IFERROR(IF(ISNUMBER(P31),IF(H31=H32,P31-P32,P31),J31),"") | T31: 80 | U31: =IF(T31="",100,T31) -> 80 | W31: =IF(AND(ISNUMBER(F31),ISNUMBER(M31)),F31/(M31*(U31/100)),IF(ISNUMBER(M31),E31/(M31*(U31/100)),"")) | X31: =IF(AND(ISNUMBER(F31),ISNUMBER(B31),ISTEXT(A31)),(F31*B31-IFERROR(SUMIF($A$4:A30,A31,$Y$4:Y30),0))/B31,IF(AND(ISNUMBER(E31),ISNUMBER(B31),ISTEXT(A31)),(E31*B31-IFERROR(SUMIF($A$4:A30,A31,$Y$4:Y30),0))/B31,"")) | Y31: =IF(AND(ISNUMBER(M31), ISNUMBER(R31)),R31*M31*U31/100,"") | Z31: =IF(AND(ISNUMBER(Y31),ISNUMBER(B31)),Y31/B31,"") | AA31: =IFERROR(F31-AC31,"") | AB31: =IF(AND(ISNUMBER(B31),ISNUMBER(M31)),MAX(0,((Z31-X31)*B31/(U31/100))/M31),"") | AC31: =IF(AND(ISNUMBER(X31),ISNUMBER(Z31)),MAX(0,X31-Z31),"") | AD31: =IFERROR(_xlfn.XLOOKUP(H31,'A) Geberfläche'!$A$6:$A$105,'A) Geberfläche'!$AE$6:$AE$105)*W31/10,"") | AE31: =IF(AND(ISNUMBER(E31),ISNUMBER(F31),ISNUMBER(AC31),COUNTIF(A31:$A$105,A31)=1),E31-F31+AC31,"") | AG31: =O31 | AH31: =IF(AND(ISNUMBER(N31),ISNUMBER(O31)),((N31-O31)/O31*(-1)),"") | AJ31: =IFERROR(AE31-SUMIF($A$6:$A$105,A31,$AI$6:$AI$105),"")
I32: =IF(H32="","",_xlfn.XLOOKUP($H32,'A) Geberfläche'!$A$6:$A$28,'A) Geberfläche'!$B$6:$B$28,"kein Wert",0)) | J32: =IF(H32="","",_xlfn.XLOOKUP($H32,'A) Geberfläche'!$A$6:$A$28,'A) Geberfläche'!$C$6:$C$28,"kein Wert",0)) | K32: =IF(H32="","",_xlfn.XLOOKUP($H32,'A) Geberfläche'!$A$6:$A$28,'A) Geberfläche'!$D$6:$D$28,"kein Wert",0)) | L32: =IF(H32="","",_xlfn.XLOOKUP($H32,'A) Geberfläche'!$A$6:$A$28,'A) Geberfläche'!$F$6:$F$28,"kein Wert",0)) | M32: =IF(H32="","",IF(ISNUMBER(N32),N32,O32)) | N32: =IF(H32="","",_xlfn.XLOOKUP($H32,'A) Geberfläche'!$A$6:$A$28,'A) Geberfläche'!$AG$6:$AG$28,"kein Wert",0)) | O32: =IF(H32="","",_xlfn.XLOOKUP($H32,'A) Geberfläche'!$A$6:$A$28,'A) Geberfläche'!$AN$6:$AN$28,"kein Wert",0)) | R32: =IFERROR(IF(ISNUMBER(P32),IF(H32=H33,P32-P33,P32),J32),"") | T32: 80 | U32: =IF(T32="",100,T32) -> 80 | W32: =IF(AND(ISNUMBER(F32),ISNUMBER(M32)),F32/(M32*(U32/100)),IF(ISNUMBER(M32),E32/(M32*(U32/100)),"")) | X32: =IF(AND(ISNUMBER(F32),ISNUMBER(B32),ISTEXT(A32)),(F32*B32-IFERROR(SUMIF($A$4:A31,A32,$Y$4:Y31),0))/B32,IF(AND(ISNUMBER(E32),ISNUMBER(B32),ISTEXT(A32)),(E32*B32-IFERROR(SUMIF($A$4:A31,A32,$Y$4:Y31),0))/B32,"")) | Y32: =IF(AND(ISNUMBER(M32), ISNUMBER(R32)),R32*M32*U32/100,"") | Z32: =IF(AND(ISNUMBER(Y32),ISNUMBER(B32)),Y32/B32,"") | AA32: =IFERROR(F32-AC32,"") | AB32: =IF(AND(ISNUMBER(B32),ISNUMBER(M32)),MAX(0,((Z32-X32)*B32/(U32/100))/M32),"") | AC32: =IF(AND(ISNUMBER(X32),ISNUMBER(Z32)),MAX(0,X32-Z32),"") | AD32: =IFERROR(_xlfn.XLOOKUP(H32,'A) Geberfläche'!$A$6:$A$105,'A) Geberfläche'!$AE$6:$AE$105)*W32/10,"") | AE32: =IF(AND(ISNUMBER(E32),ISNUMBER(F32),ISNUMBER(AC32),COUNTIF(A32:$A$105,A32)=1),E32-F32+AC32,"") | AG32: =O32 | AH32: =IF(AND(ISNUMBER(N32),ISNUMBER(O32)),((N32-O32)/O32*(-1)),"") | AJ32: =IFERROR(AE32-SUMIF($A$6:$A$105,A32,$AI$6:$AI$105),"")
I33: =IF(H33="","",_xlfn.XLOOKUP($H33,'A) Geberfläche'!$A$6:$A$28,'A) Geberfläche'!$B$6:$B$28,"kein Wert",0)) | J33: =IF(H33="","",_xlfn.XLOOKUP($H33,'A) Geberfläche'!$A$6:$A$28,'A) Geberfläche'!$C$6:$C$28,"kein Wert",0)) | K33: =IF(H33="","",_xlfn.XLOOKUP($H33,'A) Geberfläche'!$A$6:$A$28,'A) Geberfläche'!$D$6:$D$28,"kein Wert",0)) | L33: =IF(H33="","",_xlfn.XLOOKUP($H33,'A) Geberfläche'!$A$6:$A$28,'A) Geberfläche'!$F$6:$F$28,"kein Wert",0)) | M33: =IF(H33="","",IF(ISNUMBER(N33),N33,O33)) | N33: =IF(H33="","",_xlfn.XLOOKUP($H33,'A) Geberfläche'!$A$6:$A$28,'A) Geberfläche'!$AG$6:$AG$28,"kein Wert",0)) | O33: =IF(H33="","",_xlfn.XLOOKUP($H33,'A) Geberfläche'!$A$6:$A$28,'A) Geberfläche'!$AN$6:$AN$28,"kein Wert",0)) | R33: =IFERROR(IF(ISNUMBER(P33),IF(H33=H34,P33-P34,P33),J33),"") | T33: 80 | U33: =IF(T33="",100,T33) -> 80 | W33: =IF(AND(ISNUMBER(F33),ISNUMBER(M33)),F33/(M33*(U33/100)),IF(ISNUMBER(M33),E33/(M33*(U33/100)),"")) | X33: =IF(AND(ISNUMBER(F33),ISNUMBER(B33),ISTEXT(A33)),(F33*B33-IFERROR(SUMIF($A$4:A32,A33,$Y$4:Y32),0))/B33,IF(AND(ISNUMBER(E33),ISNUMBER(B33),ISTEXT(A33)),(E33*B33-IFERROR(SUMIF($A$4:A32,A33,$Y$4:Y32),0))/B33,"")) | Y33: =IF(AND(ISNUMBER(M33), ISNUMBER(R33)),R33*M33*U33/100,"") | Z33: =IF(AND(ISNUMBER(Y33),ISNUMBER(B33)),Y33/B33,"") | AA33: =IFERROR(F33-AC33,"") | AB33: =IF(AND(ISNUMBER(B33),ISNUMBER(M33)),MAX(0,((Z33-X33)*B33/(U33/100))/M33),"") | AC33: =IF(AND(ISNUMBER(X33),ISNUMBER(Z33)),MAX(0,X33-Z33),"") | AD33: =IFERROR(_xlfn.XLOOKUP(H33,'A) Geberfläche'!$A$6:$A$105,'A) Geberfläche'!$AE$6:$AE$105)*W33/10,"") | AE33: =IF(AND(ISNUMBER(E33),ISNUMBER(F33),ISNUMBER(AC33),COUNTIF(A33:$A$105,A33)=1),E33-F33+AC33,"") | AG33: =O33 | AH33: =IF(AND(ISNUMBER(N33),ISNUMBER(O33)),((N33-O33)/O33*(-1)),"") | AJ33: =IFERROR(AE33-SUMIF($A$6:$A$105,A33,$AI$6:$AI$105),"")
I34: =IF(H34="","",_xlfn.XLOOKUP($H34,'A) Geberfläche'!$A$6:$A$28,'A) Geberfläche'!$B$6:$B$28,"kein Wert",0)) | J34: =IF(H34="","",_xlfn.XLOOKUP($H34,'A) Geberfläche'!$A$6:$A$28,'A) Geberfläche'!$C$6:$C$28,"kein Wert",0)) | K34: =IF(H34="","",_xlfn.XLOOKUP($H34,'A) Geberfläche'!$A$6:$A$28,'A) Geberfläche'!$D$6:$D$28,"kein Wert",0)) | L34: =IF(H34="","",_xlfn.XLOOKUP($H34,'A) Geberfläche'!$A$6:$A$28,'A) Geberfläche'!$F$6:$F$28,"kein Wert",0)) | M34: =IF(H34="","",IF(ISNUMBER(N34),N34,O34)) | N34: =IF(H34="","",_xlfn.XLOOKUP($H34,'A) Geberfläche'!$A$6:$A$28,'A) Geberfläche'!$AG$6:$AG$28,"kein Wert",0)) | O34: =IF(H34="","",_xlfn.XLOOKUP($H34,'A) Geberfläche'!$A$6:$A$28,'A) Geberfläche'!$AN$6:$AN$28,"kein Wert",0)) | R34: =IFERROR(IF(ISNUMBER(P34),IF(H34=H35,P34-P35,P34),J34),"") | T34: 80 | U34: =IF(T34="",100,T34) -> 80 | W34: =IF(AND(ISNUMBER(F34),ISNUMBER(M34)),F34/(M34*(U34/100)),IF(ISNUMBER(M34),E34/(M34*(U34/100)),"")) | X34: =IF(AND(ISNUMBER(F34),ISNUMBER(B34),ISTEXT(A34)),(F34*B34-IFERROR(SUMIF($A$4:A33,A34,$Y$4:Y33),0))/B34,IF(AND(ISNUMBER(E34),ISNUMBER(B34),ISTEXT(A34)),(E34*B34-IFERROR(SUMIF($A$4:A33,A34,$Y$4:Y33),0))/B34,"")) | Y34: =IF(AND(ISNUMBER(M34), ISNUMBER(R34)),R34*M34*U34/100,"") | Z34: =IF(AND(ISNUMBER(Y34),ISNUMBER(B34)),Y34/B34,"") | AA34: =IFERROR(F34-AC34,"") | AB34: =IF(AND(ISNUMBER(B34),ISNUMBER(M34)),MAX(0,((Z34-X34)*B34/(U34/100))/M34),"") | AC34: =IF(AND(ISNUMBER(X34),ISNUMBER(Z34)),MAX(0,X34-Z34),"") | AD34: =IFERROR(_xlfn.XLOOKUP(H34,'A) Geberfläche'!$A$6:$A$105,'A) Geberfläche'!$AE$6:$AE$105)*W34/10,"") | AE34: =IF(AND(ISNUMBER(E34),ISNUMBER(F34),ISNUMBER(AC34),COUNTIF(A34:$A$105,A34)=1),E34-F34+AC34,"") | AG34: =O34 | AH34: =IF(AND(ISNUMBER(N34),ISNUMBER(O34)),((N34-O34)/O34*(-1)),"") | AJ34: =IFERROR(AE34-SUMIF($A$6:$A$105,A34,$AI$6:$AI$105),"")
I35: =IF(H35="","",_xlfn.XLOOKUP($H35,'A) Geberfläche'!$A$6:$A$28,'A) Geberfläche'!$B$6:$B$28,"kein Wert",0)) | J35: =IF(H35="","",_xlfn.XLOOKUP($H35,'A) Geberfläche'!$A$6:$A$28,'A) Geberfläche'!$C$6:$C$28,"kein Wert",0)) | K35: =IF(H35="","",_xlfn.XLOOKUP($H35,'A) Geberfläche'!$A$6:$A$28,'A) Geberfläche'!$D$6:$D$28,"kein Wert",0)) | L35: =IF(H35="","",_xlfn.XLOOKUP($H35,'A) Geberfläche'!$A$6:$A$28,'A) Geberfläche'!$F$6:$F$28,"kein Wert",0)) | M35: =IF(H35="","",IF(ISNUMBER(N35),N35,O35)) | N35: =IF(H35="","",_xlfn.XLOOKUP($H35,'A) Geberfläche'!$A$6:$A$28,'A) Geberfläche'!$AG$6:$AG$28,"kein Wert",0)) | O35: =IF(H35="","",_xlfn.XLOOKUP($H35,'A) Geberfläche'!$A$6:$A$28,'A) Geberfläche'!$AN$6:$AN$28,"kein Wert",0)) | R35: =IFERROR(IF(ISNUMBER(P35),IF(H35=H36,P35-P36,P35),J35),"") | T35: 80 | U35: =IF(T35="",100,T35) -> 80 | W35: =IF(AND(ISNUMBER(F35),ISNUMBER(M35)),F35/(M35*(U35/100)),IF(ISNUMBER(M35),E35/(M35*(U35/100)),"")) | X35: =IF(AND(ISNUMBER(F35),ISNUMBER(B35),ISTEXT(A35)),(F35*B35-IFERROR(SUMIF($A$4:A34,A35,$Y$4:Y34),0))/B35,IF(AND(ISNUMBER(E35),ISNUMBER(B35),ISTEXT(A35)),(E35*B35-IFERROR(SUMIF($A$4:A34,A35,$Y$4:Y34),0))/B35,"")) | Y35: =IF(AND(ISNUMBER(M35), ISNUMBER(R35)),R35*M35*U35/100,"") | Z35: =IF(AND(ISNUMBER(Y35),ISNUMBER(B35)),Y35/B35,"") | AA35: =IFERROR(F35-AC35,"") | AB35: =IF(AND(ISNUMBER(B35),ISNUMBER(M35)),MAX(0,((Z35-X35)*B35/(U35/100))/M35),"") | AC35: =IF(AND(ISNUMBER(X35),ISNUMBER(Z35)),MAX(0,X35-Z35),"") | AD35: =IFERROR(_xlfn.XLOOKUP(H35,'A) Geberfläche'!$A$6:$A$105,'A) Geberfläche'!$AE$6:$AE$105)*W35/10,"") | AE35: =IF(AND(ISNUMBER(E35),ISNUMBER(F35),ISNUMBER(AC35),COUNTIF(A35:$A$105,A35)=1),E35-F35+AC35,"") | AG35: =O35 | AH35: =IF(AND(ISNUMBER(N35),ISNUMBER(O35)),((N35-O35)/O35*(-1)),"") | AJ35: =IFERROR(AE35-SUMIF($A$6:$A$105,A35,$AI$6:$AI$105),"")
I36: =IF(H36="","",_xlfn.XLOOKUP($H36,'A) Geberfläche'!$A$6:$A$28,'A) Geberfläche'!$B$6:$B$28,"kein Wert",0)) | J36: =IF(H36="","",_xlfn.XLOOKUP($H36,'A) Geberfläche'!$A$6:$A$28,'A) Geberfläche'!$C$6:$C$28,"kein Wert",0)) | K36: =IF(H36="","",_xlfn.XLOOKUP($H36,'A) Geberfläche'!$A$6:$A$28,'A) Geberfläche'!$D$6:$D$28,"kein Wert",0)) | L36: =IF(H36="","",_xlfn.XLOOKUP($H36,'A) Geberfläche'!$A$6:$A$28,'A) Geberfläche'!$F$6:$F$28,"kein Wert",0)) | M36: =IF(H36="","",IF(ISNUMBER(N36),N36,O36)) | N36: =IF(H36="","",_xlfn.XLOOKUP($H36,'A) Geberfläche'!$A$6:$A$28,'A) Geberfläche'!$AG$6:$AG$28,"kein Wert",0)) | O36: =IF(H36="","",_xlfn.XLOOKUP($H36,'A) Geberfläche'!$A$6:$A$28,'A) Geberfläche'!$AN$6:$AN$28,"kein Wert",0)) | R36: =IFERROR(IF(ISNUMBER(P36),IF(H36=H37,P36-P37,P36),J36),"") | T36: 80 | U36: =IF(T36="",100,T36) -> 80 | W36: =IF(AND(ISNUMBER(F36),ISNUMBER(M36)),F36/(M36*(U36/100)),IF(ISNUMBER(M36),E36/(M36*(U36/100)),"")) | X36: =IF(AND(ISNUMBER(F36),ISNUMBER(B36),ISTEXT(A36)),(F36*B36-IFERROR(SUMIF($A$4:A35,A36,$Y$4:Y35),0))/B36,IF(AND(ISNUMBER(E36),ISNUMBER(B36),ISTEXT(A36)),(E36*B36-IFERROR(SUMIF($A$4:A35,A36,$Y$4:Y35),0))/B36,"")) | Y36: =IF(AND(ISNUMBER(M36), ISNUMBER(R36)),R36*M36*U36/100,"") | Z36: =IF(AND(ISNUMBER(Y36),ISNUMBER(B36)),Y36/B36,"") | AA36: =IFERROR(F36-AC36,"") | AB36: =IF(AND(ISNUMBER(B36),ISNUMBER(M36)),MAX(0,((Z36-X36)*B36/(U36/100))/M36),"") | AC36: =IF(AND(ISNUMBER(X36),ISNUMBER(Z36)),MAX(0,X36-Z36),"") | AD36: =IFERROR(_xlfn.XLOOKUP(H36,'A) Geberfläche'!$A$6:$A$105,'A) Geberfläche'!$AE$6:$AE$105)*W36/10,"") | AE36: =IF(AND(ISNUMBER(E36),ISNUMBER(F36),ISNUMBER(AC36),COUNTIF(A36:$A$105,A36)=1),E36-F36+AC36,"") | AG36: =O36 | AH36: =IF(AND(ISNUMBER(N36),ISNUMBER(O36)),((N36-O36)/O36*(-1)),"") | AJ36: =IFERROR(AE36-SUMIF($A$6:$A$105,A36,$AI$6:$AI$105),"")
I37: =IF(H37="","",_xlfn.XLOOKUP($H37,'A) Geberfläche'!$A$6:$A$28,'A) Geberfläche'!$B$6:$B$28,"kein Wert",0)) | J37: =IF(H37="","",_xlfn.XLOOKUP($H37,'A) Geberfläche'!$A$6:$A$28,'A) Geberfläche'!$C$6:$C$28,"kein Wert",0)) | K37: =IF(H37="","",_xlfn.XLOOKUP($H37,'A) Geberfläche'!$A$6:$A$28,'A) Geberfläche'!$D$6:$D$28,"kein Wert",0)) | L37: =IF(H37="","",_xlfn.XLOOKUP($H37,'A) Geberfläche'!$A$6:$A$28,'A) Geberfläche'!$F$6:$F$28,"kein Wert",0)) | M37: =IF(H37="","",IF(ISNUMBER(N37),N37,O37)) | N37: =IF(H37="","",_xlfn.XLOOKUP($H37,'A) Geberfläche'!$A$6:$A$28,'A) Geberfläche'!$AG$6:$AG$28,"kein Wert",0)) | O37: =IF(H37="","",_xlfn.XLOOKUP($H37,'A) Geberfläche'!$A$6:$A$28,'A) Geberfläche'!$AN$6:$AN$28,"kein Wert",0)) | R37: =IFERROR(IF(ISNUMBER(P37),IF(H37=H38,P37-P38,P37),J37),"") | T37: 80 | U37: =IF(T37="",100,T37) -> 80 | W37: =IF(AND(ISNUMBER(F37),ISNUMBER(M37)),F37/(M37*(U37/100)),IF(ISNUMBER(M37),E37/(M37*(U37/100)),"")) | X37: =IF(AND(ISNUMBER(F37),ISNUMBER(B37),ISTEXT(A37)),(F37*B37-IFERROR(SUMIF($A$4:A36,A37,$Y$4:Y36),0))/B37,IF(AND(ISNUMBER(E37),ISNUMBER(B37),ISTEXT(A37)),(E37*B37-IFERROR(SUMIF($A$4:A36,A37,$Y$4:Y36),0))/B37,"")) | Y37: =IF(AND(ISNUMBER(M37), ISNUMBER(R37)),R37*M37*U37/100,"") | Z37: =IF(AND(ISNUMBER(Y37),ISNUMBER(B37)),Y37/B37,"") | AA37: =IFERROR(F37-AC37,"") | AB37: =IF(AND(ISNUMBER(B37),ISNUMBER(M37)),MAX(0,((Z37-X37)*B37/(U37/100))/M37),"") | AC37: =IF(AND(ISNUMBER(X37),ISNUMBER(Z37)),MAX(0,X37-Z37),"") | AD37: =IFERROR(_xlfn.XLOOKUP(H37,'A) Geberfläche'!$A$6:$A$105,'A) Geberfläche'!$AE$6:$AE$105)*W37/10,"") | AE37: =IF(AND(ISNUMBER(E37),ISNUMBER(F37),ISNUMBER(AC37),COUNTIF(A37:$A$105,A37)=1),E37-F37+AC37,"") | AG37: =O37 | AH37: =IF(AND(ISNUMBER(N37),ISNUMBER(O37)),((N37-O37)/O37*(-1)),"") | AJ37: =IFERROR(AE37-SUMIF($A$6:$A$105,A37,$AI$6:$AI$105),"")
I38: =IF(H38="","",_xlfn.XLOOKUP($H38,'A) Geberfläche'!$A$6:$A$28,'A) Geberfläche'!$B$6:$B$28,"kein Wert",0)) | J38: =IF(H38="","",_xlfn.XLOOKUP($H38,'A) Geberfläche'!$A$6:$A$28,'A) Geberfläche'!$C$6:$C$28,"kein Wert",0)) | K38: =IF(H38="","",_xlfn.XLOOKUP($H38,'A) Geberfläche'!$A$6:$A$28,'A) Geberfläche'!$D$6:$D$28,"kein Wert",0)) | L38: =IF(H38="","",_xlfn.XLOOKUP($H38,'A) Geberfläche'!$A$6:$A$28,'A) Geberfläche'!$F$6:$F$28,"kein Wert",0)) | M38: =IF(H38="","",IF(ISNUMBER(N38),N38,O38)) | N38: =IF(H38="","",_xlfn.XLOOKUP($H38,'A) Geberfläche'!$A$6:$A$28,'A) Geberfläche'!$AG$6:$AG$28,"kein Wert",0)) | O38: =IF(H38="","",_xlfn.XLOOKUP($H38,'A) Geberfläche'!$A$6:$A$28,'A) Geberfläche'!$AN$6:$AN$28,"kein Wert",0)) | R38: =IFERROR(IF(ISNUMBER(P38),IF(H38=H39,P38-P39,P38),J38),"") | T38: 80 | U38: =IF(T38="",100,T38) -> 80 | W38: =IF(AND(ISNUMBER(F38),ISNUMBER(M38)),F38/(M38*(U38/100)),IF(ISNUMBER(M38),E38/(M38*(U38/100)),"")) | X38: =IF(AND(ISNUMBER(F38),ISNUMBER(B38),ISTEXT(A38)),(F38*B38-IFERROR(SUMIF($A$4:A37,A38,$Y$4:Y37),0))/B38,IF(AND(ISNUMBER(E38),ISNUMBER(B38),ISTEXT(A38)),(E38*B38-IFERROR(SUMIF($A$4:A37,A38,$Y$4:Y37),0))/B38,"")) | Y38: =IF(AND(ISNUMBER(M38), ISNUMBER(R38)),R38*M38*U38/100,"") | Z38: =IF(AND(ISNUMBER(Y38),ISNUMBER(B38)),Y38/B38,"") | AA38: =IFERROR(F38-AC38,"") | AB38: =IF(AND(ISNUMBER(B38),ISNUMBER(M38)),MAX(0,((Z38-X38)*B38/(U38/100))/M38),"") | AC38: =IF(AND(ISNUMBER(X38),ISNUMBER(Z38)),MAX(0,X38-Z38),"") | AD38: =IFERROR(_xlfn.XLOOKUP(H38,'A) Geberfläche'!$A$6:$A$105,'A) Geberfläche'!$AE$6:$AE$105)*W38/10,"") | AE38: =IF(AND(ISNUMBER(E38),ISNUMBER(F38),ISNUMBER(AC38),COUNTIF(A38:$A$105,A38)=1),E38-F38+AC38,"") | AG38: =O38 | AH38: =IF(AND(ISNUMBER(N38),ISNUMBER(O38)),((N38-O38)/O38*(-1)),"") | AJ38: =IFERROR(AE38-SUMIF($A$6:$A$105,A38,$AI$6:$AI$105),"")
I39: =IF(H39="","",_xlfn.XLOOKUP($H39,'A) Geberfläche'!$A$6:$A$28,'A) Geberfläche'!$B$6:$B$28,"kein Wert",0)) | J39: =IF(H39="","",_xlfn.XLOOKUP($H39,'A) Geberfläche'!$A$6:$A$28,'A) Geberfläche'!$C$6:$C$28,"kein Wert",0)) | K39: =IF(H39="","",_xlfn.XLOOKUP($H39,'A) Geberfläche'!$A$6:$A$28,'A) Geberfläche'!$D$6:$D$28,"kein Wert",0)) | L39: =IF(H39="","",_xlfn.XLOOKUP($H39,'A) Geberfläche'!$A$6:$A$28,'A) Geberfläche'!$F$6:$F$28,"kein Wert",0)) | M39: =IF(H39="","",IF(ISNUMBER(N39),N39,O39)) | N39: =IF(H39="","",_xlfn.XLOOKUP($H39,'A) Geberfläche'!$A$6:$A$28,'A) Geberfläche'!$AG$6:$AG$28,"kein Wert",0)) | O39: =IF(H39="","",_xlfn.XLOOKUP($H39,'A) Geberfläche'!$A$6:$A$28,'A) Geberfläche'!$AN$6:$AN$28,"kein Wert",0)) | R39: =IFERROR(IF(ISNUMBER(P39),IF(H39=H40,P39-P40,P39),J39),"") | T39: 80 | U39: =IF(T39="",100,T39) -> 80 | W39: =IF(AND(ISNUMBER(F39),ISNUMBER(M39)),F39/(M39*(U39/100)),IF(ISNUMBER(M39),E39/(M39*(U39/100)),"")) | X39: =IF(AND(ISNUMBER(F39),ISNUMBER(B39),ISTEXT(A39)),(F39*B39-IFERROR(SUMIF($A$4:A38,A39,$Y$4:Y38),0))/B39,IF(AND(ISNUMBER(E39),ISNUMBER(B39),ISTEXT(A39)),(E39*B39-IFERROR(SUMIF($A$4:A38,A39,$Y$4:Y38),0))/B39,"")) | Y39: =IF(AND(ISNUMBER(M39), ISNUMBER(R39)),R39*M39*U39/100,"") | Z39: =IF(AND(ISNUMBER(Y39),ISNUMBER(B39)),Y39/B39,"") | AA39: =IFERROR(F39-AC39,"") | AB39: =IF(AND(ISNUMBER(B39),ISNUMBER(M39)),MAX(0,((Z39-X39)*B39/(U39/100))/M39),"") | AC39: =IF(AND(ISNUMBER(X39),ISNUMBER(Z39)),MAX(0,X39-Z39),"") | AD39: =IFERROR(_xlfn.XLOOKUP(H39,'A) Geberfläche'!$A$6:$A$105,'A) Geberfläche'!$AE$6:$AE$105)*W39/10,"") | AE39: =IF(AND(ISNUMBER(E39),ISNUMBER(F39),ISNUMBER(AC39),COUNTIF(A39:$A$105,A39)=1),E39-F39+AC39,"") | AG39: =O39 | AH39: =IF(AND(ISNUMBER(N39),ISNUMBER(O39)),((N39-O39)/O39*(-1)),"") | AJ39: =IFERROR(AE39-SUMIF($A$6:$A$105,A39,$AI$6:$AI$105),"")
... I105: =IF(H105="","",_xlfn.XLOOKUP($H105,'A) Geberfläche'!$A$6:$A$28,'A) Geberfläche'!$B$6:$B$28,"kein Wert",0)) | J105: =IF(H105="","",_xlfn.XLOOKUP($H105,'A) Geberfläche'!$A$6:$A$28,'A) Geberfläche'!$C$6:$C$28,"kein Wert",0)) | K105: =IF(H105="","",_xlfn.XLOOKUP($H105,'A) Geberfläche'!$A$6:$A$28,'A) Geberfläche'!$D$6:$D$28,"kein Wert",0)) | L105: =IF(H105="","",_xlfn.XLOOKUP($H105,'A) Geberfläche'!$A$6:$A$28,'A) Geberfläche'!$F$6:$F$28,"kein Wert",0)) | M105: =IF(H105="","",IF(ISNUMBER(N105),N105,O105)) | N105: =IF(H105="","",_xlfn.XLOOKUP($H105,'A) Geberfläche'!$A$6:$A$28,'A) Geberfläche'!$AG$6:$AG$28,"kein Wert",0)) | O105: =IF(H105="","",_xlfn.XLOOKUP($H105,'A) Geberfläche'!$A$6:$A$28,'A) Geberfläche'!$AN$6:$AN$28,"kein Wert",0)) | R105: =IFERROR(IF(ISNUMBER(P105),IF(H105=H106,P105-P106,P105),J105),"") | T105: 80 | U105: =IF(T105="",100,T105) -> 80 | W105: =IF(AND(ISNUMBER(F105),ISNUMBER(M105)),F105/(M105*(U105/100)),IF(ISNUMBER(M105),E105/(M105*(U105/100)),"")) | X105: =IF(AND(ISNUMBER(F105),ISNUMBER(B105),ISTEXT(A105)),(F105*B105-IFERROR(SUMIF($A$4:A104,A105,$Y$4:Y104),0))/B105,IF(AND(ISNUMBER(E105),ISNUMBER(B105),ISTEXT(A105)),(E105*B105-IFERROR(SUMIF($A$4:A104,A105,$Y$4:Y104),0))/B105,"")) | Y105: =IF(AND(ISNUMBER(M105), ISNUMBER(R105)),R105*M105*U105/100,"") | Z105: =IF(AND(ISNUMBER(Y105),ISNUMBER(B105)),Y105/B105,"") | AA105: =IFERROR(F105-AC105,"") | AB105: =IF(AND(ISNUMBER(B105),ISNUMBER(M105)),MAX(0,((Z105-X105)*B105/(U105/100))/M105),"") | AC105: =IF(AND(ISNUMBER(X105),ISNUMBER(Z105)),MAX(0,X105-Z105),"") | AD105: =IFERROR(_xlfn.XLOOKUP(H105,'A) Geberfläche'!$A$6:$A$105,'A) Geberfläche'!$AE$6:$AE$105)*W105/10,"") | AE105: =IF(AND(ISNUMBER(E105),ISNUMBER(F105),ISNUMBER(AC105),COUNTIF(A105:$A$105,A105)=1),E105-F105+AC105,"") | AG105: =O105 | AH105: =IF(AND(ISNUMBER(N105),ISNUMBER(O105)),((N105-O105)/O105*(-1)),"") | AJ105: =IFERROR(AE105-SUMIF($A$6:$A$105,A105,$AI$6:$AI$105),"")

Sheet C) Schätztabelle
A1: C) Tabelle zur Abschätzung des Stickstoffgehalts im Aufwuchs auf dem Geberfeld
A3: 1 | B3: Geber-ID | E3: ① | I3: Vorgehen: ① Geben Sie die Geber-ID aus Tabellenblatt A ein, um die Schätztabelle genauer zu machen. Wird nichts eingegeben, wird mit einem generellen Trockenmassegehalt von 18 % gerechnet. ② Suchen Sie den N-Gehalt zum passenden Entwicklungsstadium Ihres Bestandes und der richtigen Bestandeszusammensetzung heraus. Eine Analyse des Aufwuchses steigert die Genauigkeit! ③ Gehen Sie in der den N-Gehalt am besten treffenden Zeile der Schätztabelle so weit nach rechts, bis der Ertrag (in dt/ha oder kg/m²) im Kopf der Tabelle Ihrer Schätzung/Messung entspricht. Die ermittelte Zahl entspricht der N-Menge im Aufwuchs dieses Schnittes.
A4: =IF(LEN(_xlfn.XLOOKUP($A$3,'A) Geberfläche'!$A$6:$A$105,'A) Geberfläche'!$U$6:$U$105))=0,_xlfn.XLOOKUP($A$3,'A) Geberfläche'!$A$6:$A$105,'A) Geberfläche'!$Z$6:$Z$105,"kein Wert",0),_xlfn.XLOOKUP($A$3,'A) Geberfläche'!$A$6:$A$105,'A) Geberfläche'!$U$6:$U$105,"kein Wert",0)) -> 16.862745 | B4: % Trockenmasse | U4: =A4 -> 16.862745 | V4: % Trockenmasse
A5: =_xlfn.XLOOKUP($A$3,'A) Geberfläche'!$A$6:$A$105,'A) Geberfläche'!$AE$6:$AE$105,"kein Wert",0) -> 178.54671 | B5: Frischmasseertrag [dt/ha] | U5: =A5 -> 178.54671 | V5: Frischmasse [kg/m²]
A7: ② | B7: N-Gehalt (% Trockenmasse) zur Orientierung
A8: Entwicklungs-stadium Leguminosen | B8: 100 % Leguminose (Rotklee, Luzerne) | C8: 100 % Gras | D8: 70 % Leg., 30 % Gras | E8: 50 % Leg., 50 % Gras | F8: 30 % Leg., 70 % Gras
A9: Volle Blüte | B9: =INDEX('F) Hilfsrechnung'!$A$2:$B$5,MATCH('C) Schätztabelle'!A9,'F) Hilfsrechnung'!$A$2:$A$5,0),2) -> 2.748 | C9: 1.8 | D9: =0.3*C9+0.7*B9 -> 2.4636 | E9: =0.5*C9+0.5*B9 -> 2.274 | F9: =0.7*C9+0.3*B9 -> 2.0844
A10: Beginn Blüte | B10: =INDEX('F) Hilfsrechnung'!$A$2:$B$5,MATCH('C) Schätztabelle'!A10,'F) Hilfsrechnung'!$A$2:$A$5,0),2) -> 2.916 | C10: 2 | D10: =0.3*C10+0.7*B10 -> 2.6412 | E10: =0.5*C10+0.5*B10 -> 2.458 | F10: =0.7*C10+0.3*B10 -> 2.2748
A11: Knospen | B11: =INDEX('F) Hilfsrechnung'!$A$2:$B$5,MATCH('C) Schätztabelle'!A11,'F) Hilfsrechnung'!$A$2:$A$5,0),2) -> 3.332 | C11: 2 | D11: =0.3*C11+0.7*B11 -> 2.9324 | E11: =0.5*C11+0.5*B11 -> 2.666 | F11: =0.7*C11+0.3*B11 -> 2.3996
A12: Vor Knospen | B12: =INDEX('F) Hilfsrechnung'!$A$2:$B$5,MATCH('C) Schätztabelle'!A12,'F) Hilfsrechnung'!$A$2:$A$5,0),2) -> 3.864 | C12: 2 | D12: =0.3*C12+0.7*B12 -> 3.3048 | E12: =0.5*C12+0.5*B12 -> 2.932 | F12: =0.7*C12+0.3*B12 -> 2.5592
G14: Schätztabelle zur N-Menge im Aufwuchs* [kg N/ha] | J14: Frischmasse auf dem Geberfeld
J15: dt/ha | K15: =K16/100*10000 -> 50 | L15: =L16/100*10000 -> 100 | M15: =M16/100*10000 -> 150 | N15: =N16/100*10000 -> 200 | O15: =O16/100*10000 -> 250 | P15: =P16/100*10000 -> 300 | Q15: =Q16/100*10000 -> 350 | R15: =R16/100*10000 -> 400 | ... T15: =T16/100*10000 -> 500
J16: kg/m² | K16: 0.5 | L16: 1 | M16: 1.5 | N16: 2 | O16: 2.5 | P16: 3 | Q16: 3.5 | R16: 4 | S16: 4.5 | T16: 5
D17: ③ | G17: überständig, grasreich | H17: Prozent Stickstoff in der Trockenmasse [% N in TM] | I17: =1.5 -> 1.5 | J17: =K$16*$U$4/100*($I17/100)*10000 -> 12.647059 | L17: =L$16*$U$4/100*($I17/100)*10000 -> 25.294118 | M17: =M$16*$U$4/100*($I17/100)*10000 -> 37.941176 | N17: =N$16*$U$4/100*($I17/100)*10000 -> 50.588235 | O17: =O$16*$U$4/100*($I17/100)*10000 -> 63.235294 | P17: =P$16*$U$4/100*($I17/100)*10000 -> 75.882353 | Q17: =Q$16*$U$4/100*($I17/100)*10000 -> 88.529412 | R17: =R$16*$U$4/100*($I17/100)*10000 -> 101.17647 | S17: =S$16*$U$4/100*($I17/100)*10000 -> 113.82353 | T17: =T$16*$U$4/100*($I17/100)*10000 -> 126.47059
I18: =I17+0.5 -> 2 | J18: =K$16*$U$4/100*($I18/100)*10000 -> 16.862745 | L18: =L$16*$U$4/100*($I18/100)*10000 -> 33.72549 | M18: =M$16*$U$4/100*($I18/100)*10000 -> 50.588235 | N18: =N$16*$U$4/100*($I18/100)*10000 -> 67.45098 | O18: =O$16*$U$4/100*($I18/100)*10000 -> 84.313725 | P18: =P$16*$U$4/100*($I18/100)*10000 -> 101.17647 | Q18: =Q$16*$U$4/100*($I18/100)*10000 -> 118.03922 | R18: =R$16*$U$4/100*($I18/100)*10000 -> 134.90196 | S18: =S$16*$U$4/100*($I18/100)*10000 -> 151.76471 | T18: =T$16*$U$4/100*($I18/100)*10000 -> 168.62745
I19: =I18+0.5 -> 2.5 | J19: =K$16*$U$4/100*($I19/100)*10000 -> 21.078431 | L19: =L$16*$U$4/100*($I19/100)*10000 -> 42.156863 | M19: =M$16*$U$4/100*($I19/100)*10000 -> 63.235294 | N19: =N$16*$U$4/100*($I19/100)*10000 -> 84.313725 | O19: =O$16*$U$4/100*($I19/100)*10000 -> 105.39216 | P19: =P$16*$U$4/100*($I19/100)*10000 -> 126.47059 | Q19: =Q$16*$U$4/100*($I19/100)*10000 -> 147.54902 | R19: =R$16*$U$4/100*($I19/100)*10000 -> 168.62745 | S19: =S$16*$U$4/100*($I19/100)*10000 -> 189.70588 | T19: =T$16*$U$4/100*($I19/100)*10000 -> 210.78431
G20: optimaler Bestand, reich an Leguminosen | I20: =I19+0.5 -> 3 | J20: =K$16*$U$4/100*($I20/100)*10000 -> 25.294118 | L20: =L$16*$U$4/100*($I20/100)*10000 -> 50.588235 | M20: =M$16*$U$4/100*($I20/100)*10000 -> 75.882353 | N20: =N$16*$U$4/100*($I20/100)*10000 -> 101.17647 | O20: =O$16*$U$4/100*($I20/100)*10000 -> 126.47059 | P20: =P$16*$U$4/100*($I20/100)*10000 -> 151.76471 | Q20: =Q$16*$U$4/100*($I20/100)*10000 -> 177.05882 | R20: =R$16*$U$4/100*($I20/100)*10000 -> 202.35294 | S20: =S$16*$U$4/100*($I20/100)*10000 -> 227.64706 | T20: =T$16*$U$4/100*($I20/100)*10000 -> 252.94118
I21: =I20+0.5 -> 3.5 | J21: =K$16*$U$4/100*($I21/100)*10000 -> 29.509804 | L21: =L$16*$U$4/100*($I21/100)*10000 -> 59.019608 | M21: =M$16*$U$4/100*($I21/100)*10000 -> 88.529412 | N21: =N$16*$U$4/100*($I21/100)*10000 -> 118.03922 | O21: =O$16*$U$4/100*($I21/100)*10000 -> 147.54902 | P21: =P$16*$U$4/100*($I21/100)*10000 -> 177.05882 | Q21: =Q$16*$U$4/100*($I21/100)*10000 -> 206.56863 | R21: =R$16*$U$4/100*($I21/100)*10000 -> 236.07843 | S21: =S$16*$U$4/100*($I21/100)*10000 -> 265.58824 | T21: =T$16*$U$4/100*($I21/100)*10000 -> 295.09804
I22: =I21+0.5 -> 4 | J22: =K$16*$U$4/100*($I22/100)*10000 -> 33.72549 | L22: =L$16*$U$4/100*($I22/100)*10000 -> 67.45098 | M22: =M$16*$U$4/100*($I22/100)*10000 -> 101.17647 | N22: =N$16*$U$4/100*($I22/100)*10000 -> 134.90196 | O22: =O$16*$U$4/100*($I22/100)*10000 -> 168.62745 | P22: =P$16*$U$4/100*($I22/100)*10000 -> 202.35294 | Q22: =Q$16*$U$4/100*($I22/100)*10000 -> 236.07843 | R22: =R$16*$U$4/100*($I22/100)*10000 -> 269.80392 | S22: =S$16*$U$4/100*($I22/100)*10000 -> 303.52941 | T22: =T$16*$U$4/100*($I22/100)*10000 -> 337.2549
G23: *bei einem Trockenmassegehalt von: | K23: =A4 -> 16.862745 | L23: %

Sheet D) Ertrag kompr. Bestandeshöhe
A1: D) Ertragsermittlung mittels komprimierter Bestandeshöhe
J2: ② | X2: ③
J3: D.1) Felddaten eingeben | O3: D.2) Eingabe vorhandener TM-Gehalte | P3: D.3) Eingabe eigener TM-Messungen | U3: AUSBLENDEN | V3: D.4) Erträge | X3: Kulturname | Y3: Kleegras
A4: Vorbemerkung In diesem Arbeitsblatt kann anhand der komprimierten Bestandeshöhe der Ertrag geschätzt werden. Dafür sind betriebseigene Kalibrierungen notwendig. Sind diese einmal durchgeführt, lässt sich der Ertrag zukünftig schnell und einfach abschätzen. Für die betriebseigene Kalibrierung sind Messungen der komprimierten Bestandeshöhe in Kombination mit Ertragsdaten erforderlich. Genauere Hinweise dazu finden Sie im C&C-Praxisleitfaden. 1.) Probenahme im Feld: Platzieren Sie den Ernterahmen an mehreren repräsentativen Stellen des Bestandes (verschiedene Schnitte, unterschiedliche Felder). Messen Sie dort die komprimierte Bestandeshöhe mit der Deckelmethode (siehe C&C-Praxisleitfaden). Schneiden Sie anschließend den Aufwuchs im Rahmen ab und wiegen Sie ihn. Verwenden Sie für alle Messungen stets denselben Deckel. Unterschiedliche Kulturen (z. B. Kleegras, Luzerne in Reinsaat) sind getrennt zu erfassen. 2.) Trockenmasse bestimmen: Ermitteln Sie den Trockenmassegehalt der Proben (siehe C&C-Praxisleitfaden). Wird kein Trockenmassegehalt eingegeben, wird automatisch ein Standardwert von 20 % verwendet. Nutzung dieses Arbeitsblattes ① Kulturen anlegen: Legen Sie bis zu fünf unterschiedliche Kulturen an, indem Sie jeweils einen Namen eintragen (z. B. „Kleegras“, "Luzernegras"). ② Kalibrierungsdaten eingeben: Tragen Sie die Daten aus den Feldmessungen ein. Sie können unterschiedliche Kulturen (siehe ①) gemischt eingeben. Erforderliche Angaben: Kulturenname, gemessene komprimierte Bestandeshöhe, Frischmasseertrag, Trockenmassegehalt Zur Bestimmung des Trockenmassegehalts in Abschnitt D.3) kann nach der Anleitung im Blatt "Info" (Abschnitt A.4) vorgegangen werden. Wird kein Trockenmassegehalt eingegeben, wird automatisch ein Standardwert von 18 % verwendet, was aber die Genauigkeit reduziert. Damit sind die Kalibrierungsdaten vollständig erfasst. Jetzt können die kalibrierten Kulturen in A) Geberfeld genutzt werden. Wenn Sie möchten, können Sie die Kalibrierung direkt mit Werten ausprobieren. Dafür: ③ Kulturname auswählen. ④ Ertrag schätzen: Aus eingetragenen komprimierten Bestandeshöhen wird der Trockenmasseertrag geschätzt. | G4: ① | H4: Kulturname (z.B. Kleegras) | J4: Kulturname | K4: Gemessene komprimierte Bestandeshöhe [cm] | L4: Probenahmefläche [m²] | M4: Frischmasse [kg pro Probenahmefläche] | O4: gemessener Trockenmassegehalt (%) | P4: Behältnis [g] | Q4: Einwaage mit Behältnis [g] | R4: Rückwaage mit Behältnis [g] | S4: zu verwendene Trockenmassegehalt (%) | U4: Ermittelter FM-Ertrag [dt/ha] | V4: Ermittelter TM-Ertrag (dt/ha) | W4: ④ | X4: Gemessene komprimierte Bestandeshöhe (cm) | Y4: Geschätzter TM-Ertrag (dt/ha) | AA4: Steigung des linearen Trends | AB4: Y-Wert des linearen Trends
G5: Kultur 1 | J5: Luzernegras | S5: =IF(O5>0,O5,IF(AND(ISNUMBER(P5),ISNUMBER(Q5),ISNUMBER(R5)),((R5-P5)/(Q5-P5))*100,"")) | U5: =IF(AND(K5>0,L5>0,M5>0),M5/$L5*100,"") | V5: =IF(U5="","",IF(ISNUMBER(S5),U5*(S5/100),U5*(18/100))) | Y5: =IF(X5="","",X5*AA$5+AB$5) | AA5: {=IFERROR(INDEX(LINEST(_xlfn._xlws.FILTER($V$5:$V$999,($J$5:$J$999=$Y$3)*($K$5:$K$999<>"")*($V$5:$V$999<>"")), _xlfn._xlws.FILTER($K$5:$K$999,($J$5:$J$999=$Y$3)*($K$5:$K$999<>"")*($V$5:$V$999<>"")), TRUE, FALSE), 1), "")} | AB5: {=IFERROR(INDEX(LINEST(_xlfn._xlws.FILTER($V$5:$V$999,($J$5:$J$999=$Y$3)*($K$5:$K$999<>"")*($V$5:$V$999<>"")), _xlfn._xlws.FILTER($K$5:$K$999,($J$5:$J$999=$Y$3)*($K$5:$K$999<>"")*($V$5:$V$999<>"")), TRUE, FALSE), 2), "")}
G6: Kultur 2 | J6: Luzernegras | S6: =IF(O6>0,O6,IF(AND(ISNUMBER(P6),ISNUMBER(Q6),ISNUMBER(R6)),((R6-P6)/(Q6-P6))*100,"")) | U6: =IF(K6="","",IF(M6="","",M6/$L6*100)) | V6: =IF(U6="","",IF(ISNUMBER(S6),U6*(S6/100),U6*(18/100))) | Y6: =IF(X6="","",X6*AA$5+AB$5)
G7: Kultur 3 | J7: Kleegras | S7: =IF(O7>0,O7,IF(AND(ISNUMBER(P7),ISNUMBER(Q7),ISNUMBER(R7)),((R7-P7)/(Q7-P7))*100,"")) | U7: =IF(K7="","",IF(M7="","",M7/$L7*100)) | V7: =IF(U7="","",IF(ISNUMBER(S7),U7*(S7/100),U7*(18/100))) | Y7: =IF(X7="","",X7*AA$5+AB$5)
G8: Kultur 4 | J8: Kleegras | S8: =IF(O8>0,O8,IF(AND(ISNUMBER(P8),ISNUMBER(Q8),ISNUMBER(R8)),((R8-P8)/(Q8-P8))*100,"")) | U8: =IF(K8="","",IF(M8="","",M8/$L8*100)) | V8: =IF(U8="","",IF(ISNUMBER(S8),U8*(S8/100),U8*(18/100))) | Y8: =IF(X8="","",X8*AA$5+AB$5)
G9: Kultur 5 | J9: Luzernegras | S9: =IF(O9>0,O9,IF(AND(ISNUMBER(P9),ISNUMBER(Q9),ISNUMBER(R9)),((R9-P9)/(Q9-P9))*100,"")) | U9: =IF(K9="","",IF(M9="","",M9/$L9*100)) | V9: =IF(U9="","",IF(ISNUMBER(S9),U9*(S9/100),U9*(18/100))) | Y9: =IF(X9="","",X9*AA$5+AB$5)
J10: Kleegras | S10: =IF(O10>0,O10,IF(AND(ISNUMBER(P10),ISNUMBER(Q10),ISNUMBER(R10)),((R10-P10)/(Q10-P10))*100,"")) | U10: =IF(K10="","",IF(M10="","",M10/$L10*100)) | V10: =IF(U10="","",IF(ISNUMBER(S10),U10*(S10/100),U10*(18/100))) | Y10: =IF(X10="","",X10*AA$5+AB$5)
S11: =IF(O11>0,O11,IF(AND(ISNUMBER(P11),ISNUMBER(Q11),ISNUMBER(R11)),((R11-P11)/(Q11-P11))*100,"")) | U11: =IF(K11="","",IF(M11="","",M11/$L11*100)) | V11: =IF(U11="","",IF(ISNUMBER(S11),U11*(S11/100),U11*(18/100))) | Y11: =IF(X11="","",X11*AA$5+AB$5)
J12: Kleegras | S12: =IF(O12>0,O12,IF(AND(ISNUMBER(P12),ISNUMBER(Q12),ISNUMBER(R12)),((R12-P12)/(Q12-P12))*100,"")) | U12: =IF(K12="","",IF(M12="","",M12/$L12*100)) | V12: =IF(U12="","",IF(ISNUMBER(S12),U12*(S12/100),U12*(18/100))) | Y12: =IF(X12="","",X12*AA$5+AB$5)
J13: Kleegras | S13: =IF(O13>0,O13,IF(AND(ISNUMBER(P13),ISNUMBER(Q13),ISNUMBER(R13)),((R13-P13)/(Q13-P13))*100,"")) | U13: =IF(K13="","",IF(M13="","",M13/$L13*100)) | V13: =IF(U13="","",IF(ISNUMBER(S13),U13*(S13/100),U13*(18/100)))
J14: Luzernegras | S14: =IF(O14>0,O14,IF(AND(ISNUMBER(P14),ISNUMBER(Q14),ISNUMBER(R14)),((R14-P14)/(Q14-P14))*100,"")) | U14: =IF(K14="","",IF(M14="","",M14/$L14*100)) | V14: =IF(U14="","",IF(ISNUMBER(S14),U14*(S14/100),U14*(18/100))) | X14: Mittelwert [dt TM/ha] | Y14: =IFERROR(AVERAGE(Y5:Y12),"")
J15: Luzernegras | S15: =IF(O15>0,O15,IF(AND(ISNUMBER(P15),ISNUMBER(Q15),ISNUMBER(R15)),((R15-P15)/(Q15-P15))*100,"")) | U15: =IF(K15="","",IF(M15="","",M15/$L15*100)) | V15: =IF(U15="","",IF(ISNUMBER(S15),U15*(S15/100),U15*(18/100)))
J16: Kleegras | S16: =IF(O16>0,O16,IF(AND(ISNUMBER(P16),ISNUMBER(Q16),ISNUMBER(R16)),((R16-P16)/(Q16-P16))*100,"")) | U16: =IF(K16="","",IF(M16="","",M16/$L16*100)) | V16: =IF(U16="","",IF(ISNUMBER(S16),U16*(S16/100),U16*(18/100)))
J17: Kleegras | S17: =IF(O17>0,O17,IF(AND(ISNUMBER(P17),ISNUMBER(Q17),ISNUMBER(R17)),((R17-P17)/(Q17-P17))*100,"")) | U17: =IF(K17="","",IF(M17="","",M17/$L17*100)) | V17: =IF(U17="","",IF(ISNUMBER(S17),U17*(S17/100),U17*(18/100)))
S18: =IF(O18>0,O18,IF(AND(ISNUMBER(P18),ISNUMBER(Q18),ISNUMBER(R18)),((R18-P18)/(Q18-P18))*100,"")) | U18: =IF(K18="","",IF(M18="","",M18/$L18*100)) | V18: =IF(U18="","",IF(ISNUMBER(S18),U18*(S18/100),U18*(18/100)))
S19: =IF(O19>0,O19,IF(AND(ISNUMBER(P19),ISNUMBER(Q19),ISNUMBER(R19)),((R19-P19)/(Q19-P19))*100,"")) | U19: =IF(K19="","",IF(M19="","",M19/$L19*100)) | V19: =IF(U19="","",IF(ISNUMBER(S19),U19*(S19/100),U19*(18/100)))
S20: =IF(O20>0,O20,IF(AND(ISNUMBER(P20),ISNUMBER(Q20),ISNUMBER(R20)),((R20-P20)/(Q20-P20))*100,"")) | U20: =IF(K20="","",IF(M20="","",M20/$L20*100)) | V20: =IF(U20="","",IF(ISNUMBER(S20),U20*(S20/100),U20*(18/100)))
S21: =IF(O21>0,O21,IF(AND(ISNUMBER(P21),ISNUMBER(Q21),ISNUMBER(R21)),((R21-P21)/(Q21-P21))*100,"")) | U21: =IF(K21="","",IF(M21="","",M21/$L21*100)) | V21: =IF(U21="","",IF(ISNUMBER(S21),U21*(S21/100),U21*(18/100)))
S22: =IF(O22>0,O22,IF(AND(ISNUMBER(P22),ISNUMBER(Q22),ISNUMBER(R22)),((R22-P22)/(Q22-P22))*100,"")) | U22: =IF(K22="","",IF(M22="","",M22/$L22*100)) | V22: =IF(U22="","",IF(ISNUMBER(S22),U22*(S22/100),U22*(18/100)))
S23: =IF(O23>0,O23,IF(AND(ISNUMBER(P23),ISNUMBER(Q23),ISNUMBER(R23)),((R23-P23)/(Q23-P23))*100,"")) | U23: =IF(K23="","",IF(M23="","",M23/$L23*100)) | V23: =IF(U23="","",IF(ISNUMBER(S23),U23*(S23/100),U23*(18/100)))
S24: =IF(O24>0,O24,IF(AND(ISNUMBER(P24),ISNUMBER(Q24),ISNUMBER(R24)),((R24-P24)/(Q24-P24))*100,"")) | U24: =IF(K24="","",IF(M24="","",M24/$L24*100)) | V24: =IF(U24="","",IF(ISNUMBER(S24),U24*(S24/100),U24*(18/100)))
S25: =IF(O25>0,O25,IF(AND(ISNUMBER(P25),ISNUMBER(Q25),ISNUMBER(R25)),((R25-P25)/(Q25-P25))*100,"")) | U25: =IF(K25="","",IF(M25="","",M25/$L25*100)) | V25: =IF(U25="","",IF(ISNUMBER(S25),U25*(S25/100),U25*(18/100)))
S26: =IF(O26>0,O26,IF(AND(ISNUMBER(P26),ISNUMBER(Q26),ISNUMBER(R26)),((R26-P26)/(Q26-P26))*100,"")) | U26: =IF(K26="","",IF(M26="","",M26/$L26*100)) | V26: =IF(U26="","",IF(ISNUMBER(S26),U26*(S26/100),U26*(18/100)))
S27: =IF(O27>0,O27,IF(AND(ISNUMBER(P27),ISNUMBER(Q27),ISNUMBER(R27)),((R27-P27)/(Q27-P27))*100,"")) | U27: =IF(K27="","",IF(M27="","",M27/$L27*100)) | V27: =IF(U27="","",IF(ISNUMBER(S27),U27*(S27/100),U27*(18/100)))
S28: =IF(O28>0,O28,IF(AND(ISNUMBER(P28),ISNUMBER(Q28),ISNUMBER(R28)),((R28-P28)/(Q28-P28))*100,"")) | U28: =IF(K28="","",IF(M28="","",M28/$L28*100)) | V28: =IF(U28="","",IF(ISNUMBER(S28),U28*(S28/100),U28*(18/100)))
S29: =IF(O29>0,O29,IF(AND(ISNUMBER(P29),ISNUMBER(Q29),ISNUMBER(R29)),((R29-P29)/(Q29-P29))*100,"")) | U29: =IF(K29="","",IF(M29="","",M29/$L29*100)) | V29: =IF(U29="","",IF(ISNUMBER(S29),U29*(S29/100),U29*(18/100)))
... S99: =IF(O99>0,O99,IF(AND(ISNUMBER(P99),ISNUMBER(Q99),ISNUMBER(R99)),((R99-P99)/(Q99-P99))*100,"")) | U99: =IF(K99="","",IF(M99="","",M99/$L99*100)) | V99: =IF(U99="","",IF(ISNUMBER(S99),U99*(S99/100),U99*(18/100)))

Sheet E) Erhebungsbogen
A1: Erhebungsbogen zur Ertragsermittlung
A3: a) Daten zur Fläche und Schnitt
A5: Geberfläche [Name]
A6: Geberfläche [ha] | D6: Datum Probenahme
A7: Kultur Geberfläche | D7: Schnitt
A9: c 1) Ermittlung Frischmasse-Ertrag mittels Quadratmeterschnitten
A11: einzelne Beprobungsfläche [m²] | B11: Ertrag Schnitt A [kg FM] | C11: Ertrag Schnitt B [kg FM] | D11: Ertrag Schnitt C [kg FM] | E11: Ertrag Schnitt D [kg FM]
A12: 0.25
A14: d) Ertragsmessung nach komprimierter Bestandeshöhe (optional)
A16: gemessene Bestandeshöhe aus mehreren Messungen [cm]
A22: e) Schätzung Stickstoff im Aufwuchs nach Schätztabelle
A24: Anteil Leguminose [%] | B24: Stadium Leguminose
B25: o | C25: Volle Blüte
B26: o | C26: Beginn Blüte
B27: o | C27: Knospen
B28: o | C28: Vor Knospen
A30: c 2) Bestimmung Trockenmasse
A32: Behältnis [g] | B32: Einwaage mit Behältnis [g] | C32: Rückwaage mit Behältnis [g]

Sheet F) Hilfsrechnung
A1: Entwicklungsstadium Leguminosen | B1: N-Gehalt (%) aus DLG-FuWeTabelle
A2: Vor Knospen | B2: =AVERAGE(D12,D20) -> 3.864
A3: Knospen | B3: =AVERAGE(D13,D21) -> 3.332 | I3: Liste Auswahl Ertragserhebung (Blatt A Spalte G) | K3: Geschätzter Kohlenstoffgehalt (% in TM)
A4: Beginn Blüte | B4: =AVERAGE(D14,D22) -> 2.916 | G4: Kleegras | I4: A.2) Sonstige Ertragsmessung | K4: 44
A5: Volle Blüte | B5: =AVERAGE(D15,D23) -> 2.748 | G5: Luzernegras | I5: A.3) Quadratmeterschnitte
G6: Klee | I6: A.5) kompr. Bestandeshöhe
A7: Gras N-Gehalt (%) | B7: 2 | G7: Luzerne
A10: DLG-Futterwerttabelle
C11: N-Gehalt (%) | D11: Mittlerer N-Gehalt alle Schnitte
A12: Luzerne 1. Schnitt | B12: Vor der Konspe | C12: 4.064 | D12: =AVERAGE(C12,C16) -> 4.096
B13: In der Knospe | C13: 3.504 | D13: =AVERAGE(C13,C17) -> 3.464
B14: Beginn der Blüte | C14: 2.992 | D14: =AVERAGE(C14,C18) -> 3.128
B15: Mitte bis Ende der Blüte | C15: 2.8 | D15: =AVERAGE(C15,C19) -> 2.936
A16: Luzerne Folgeaufwüchse | B16: Vor der Konspe | C16: 4.128
B17: In der Knospe | C17: 3.424
B18: Beginn der Blüte | C18: 3.264
B19: Mitte bis Ende der Blüte | C19: 3.072
A20: Rotklee 1. Schnitt | B20: Vor der Konspe | C20: 3.632 | D20: =AVERAGE(C20,C24) -> 3.632
B21: In der Knospe | C21: 3.088 | D21: =AVERAGE(C21,C25) -> 3.2
B22: Beginn der Blüte | C22: 2.576 | D22: =AVERAGE(C22,C26) -> 2.704
B23: Mitte bis Ende der Blüte | C23: 2.4 | D23: =AVERAGE(C23,C27) -> 2.56
A24: Rotklee Folgeaufwüchse | B24: Vor der Konspe | C24: 3.632
B25: In der Knospe | C25: 3.312
B26: Beginn der Blüte | C26: 2.832
B27: Mitte bis Ende der Blüte | C27: 2.72

Sheet Versionsverzeichnis
A1: Version | B1: Release | C1: Änderungen
A2: 1.0 | B2: März 2026
A3: 1.1 | C3: Liste der häufigen Fehlerquellen erweitert
